Workbook

Sheet 5pf_titul
A1: Державне статистичне спостереження
A3: ЗВІТ про розподіл пенсіонерів за розмірами призначених місячних пенсій
C4: на | D4: 01.10.2025
A6: Подають: | F6: Терміни подання | G6: Форма № 5-ПФ
A8: Управління Пенсійного фонду України в районах, містах і районах у містах | G8: ЗАТВЕРДЖЕНО Наказ Пенсійного фонду України та Державного комітету статистики України від 29.12.2003 р. № 127/471
A9: – головним управлінням Пенсійного фонду України в Автономній Республіці Крим, областях, містах Києві та Севастополі | F9: 2 числа після звітного періоду
A10: – районним,міським відділам статистики
A11: Головні управління Пенсійного фонду України в Автономній Республіці Крим, областях, містах Києві та Севастополі
A12: – Пенсійному фонду України | F12: 5 числа після звітного періоду
A13: – головному управлінню статистики в Автономній Республіці Крим, обласним, Київському та Севастопольському міським управлінням статистики зведену інформацію по регіону та районах | I13: Квартальна
A14: Пенсійний фонд України зведену інформацію по Україні та регіонах | F14: 8 числа після звітного періоду
A15: – Державному комітету статистики України
A17: Найменування організації-складача інформації
A18: Головне управління ПФУ в Вінницькій області
A20: Поштова адреса
A23: Код форми документа за ДКУД | B23: Коди організації-складача
B24: за ЄДРПОУ | C24: території (КОАТУУ) | D24: виду економічної діяльності (КВЕД) | E24: форми власності (КФВ) | F24: організаційно-правової форми господарювання (КОПФГ) | G24: міністерства, іншого центрального органу, якому підпорядкована організація складач інформації (СПОДУ)* | I24: КС
A25: 1 | B25: 2 | C25: 3 | D25: 4 | E25: 5 | F25: 6 | G25: 7 | H25: 8 | I25: 9
A26: * тільки для підприємств державної форми власності

Sheet 5pf
A2: Назва показників | B2: №№ рядків | C2: Чисельність пенсіонерів усіх категорій (осіб) | D2: Сума призначених пенсій з цільовою грошовою допомогою з урахуванням індексації, (грн.коп.) | E2: Середні розімри призначених пенсій з цільовою грошовою допомогою з урахуванням індексації, (грн.коп.) (гр.2:гр.1)
A3: А | B3: Б | C3: 1 | D3: 2 | E3: 3
A4: Всього пенсіонерів (02-22) у тому числi одержують пенсії у загальній сумі: | B4: 01 | C4: 397930 | D4: 1967295.7 | E4: 4943.82 | F4: =SUM(C5:C16) -> 378070 | G4: =SUM(D5:D16) -> 1680814.1 | H4: =F4-C4 -> -19860 | I4: =G4-D4 -> -286481.6
A5: до 800 грн. Включно | B5: 02 | C5: 1537 | D5: 923.2 | E5: 600.62
A6: від 801 грн. до 1000 грн. | B6: 03 | C6: 252 | D6: 224 | E6: 888.85
A7: від 1001 грн. до 1100 грн. | B7: 04 | C7: 70 | D7: 74 | E7: 1056.64
A8: від 1101 грн. до 1200 грн. | B8: 05 | C8: 190 | D8: 221.9 | E8: 1167.77
A9: від 1201 грн. до 1300 грн. | B9: 06 | C9: 84 | D9: 104.7 | E9: 1246.92
A10: від 1301 грн. до 1400 грн. | B10: 07 | C10: 61 | D10: 81.7 | E10: 1339.64
A11: від 1401 грн. до 1500 грн. | B11: 08 | C11: 122 | D11: 175.1 | E11: 1435.04
A12: від 1501 грн. до 2000 грн. | B12: 09 | C12: 721 | D12: 1168.9 | E12: 1621.29
A13: від 2001 грн. до 3000 грн. | B13: 10 | C13: 12977 | D13: 31490.6 | E13: 2426.64
A14: від 3001 грн. до 4000 грн. | B14: 11 | C14: 161095 | D14: 538010.2 | E14: 3339.71
A15: від 4001 грн. до 5000 грн. | B15: 12 | C15: 106979 | D15: 482769.7 | E15: 4512.75
A16: від 5001 грн. до 10000 грн. | B16: 13 | C16: 93982 | D16: 625570.1 | E16: 6656.28
A17: понад 10000 грн. | B17: 14 | C17: 19860 | D17: 286481.6 | E17: 14425.06
A18: Із загального числа пенсіонерів (рядок 01) одержують пенсію: - за віком | B18: 15 | C18: 305949 | D18: 1572965.4 | E18: 5141.27 | F18: =SUM(C18:C23) -> 397930 | G18: =SUM(D18:D23) -> 1967295.7 | H18: =F18-C4 -> 0 | I18: =G18-D4 -> 0
A19: - по інвалідності | B19: 16 | C19: 63784 | D19: 266862.9 | E19: 4183.85
A20: - у разі втрати годувальника | B20: 17 | C20: 18279 | D20: 69776 | E20: 3817.28
A21: - за вислугу років | B21: 18 | C21: 7627 | D21: 36770 | E21: 4821.02
A22: - соціальні пенсії | B22: 19 | C22: 2151 | D22: 6131.6 | E22: 2850.59
A23: - довічне утримання суддів | B23: 20 | C23: 140 | D23: 14789.8 | E23: 105641.66
A24: Із загального числапенсіонерів (рядок 01) одержують пенсію: - нижче прожиткового мінімуму | B24: 21 | C24: 3225 | D24: 3383 | E24: 1049 | F24: =SUM(C24:C26) -> 397930 | G24: =SUM(D24:D26) -> 1967295.7 | H24: =F24-C4 -> 0 | I24: =G24-D4 -> 0
A25: - у розмірі прожиткового мінімуму | B25: 22 | C25: 10100 | D25: 23846.1 | E25: 2361
A26: - вище прожиткового мінімуму | B26: 23 | C26: 384605 | D26: 1940066.6 | E26: 5044.31
A27: Із загального числа пенсіонерів (рядок 01) - працюючі пенсіонери | B27: 24 | C27: 93377 | D27: 494938.3 | E27: 5300.43
A28: Довідково: ті які працюють на спец посадах «виплата пенсій припинена» | B28: 25 | C28: 0 | D28: 0 | E28: 0
A30: Інформація надана без даних АРК, м.Севастополя, по Луганській та Донецькій областях без врахування даних по районах, які непідконтрольні українській владі
A32: Виконавець _________________________________ (прізвище, номер телефону) | D32: Керівник _________________________ (підпис) (прізвище, ініціали)
A34: "___" __________________ 20 р.

Sheet 5pf Контроль
B2: Чисельність | G2: Результат
B3: 01 | C3: =5pf!C4 -> 397930 | D3: = | E3: 02-14 | F3: =SUM(5pf!C5:C17) -> 397930 | G3: =IF(F3=C3,"+","-") -> +
B4: 01 | C4: =5pf!C4 -> 397930 | D4: = | E4: 15-20 | F4: =SUM(5pf!C18:C23) -> 397930 | G4: =IF(F4=C4,"+","-") -> +
B5: 01 | C5: =5pf!C4 -> 397930 | D5: = | E5: 21-23 | F5: =SUM(5pf!C24:C26) -> 397930 | G5: =IF(F5=C5,"+","-") -> +
B6: 01 | C6: =5pf!C4 -> 397930 | D6: <= | E6: 24 | F6: =5pf!C27 -> 93377 | G6: =IF(F6<=C6,"+","-") -> +
B7: 25 | C7: =5pf!C28 -> 0 | D7: = | E7: 25(Раб) | F7: ='5pf (раб)'!C28 -> 0 | G7: =IF(F7=C7,"+","-") -> +
B8: Сума
B9: 01 | C9: =5pf!D4 -> 1967295.7 | D9: = | E9: 02-14 | F9: =SUM(5pf!D5:D17) -> 1967295.7 | G9: =IF(F9=C9,"+","-") -> +
B10: 01 | C10: =5pf!D4 -> 1967295.7 | D10: = | E10: 15-20 | F10: =SUM(5pf!D18:D23) -> 1967295.7 | G10: =IF(F10=C10,"+","-") -> +
B11: 01 | C11: =5pf!D4 -> 1967295.7 | D11: = | E11: 21-23 | F11: =SUM(5pf!D24:D26) -> 1967295.7 | G11: =IF(F11=C11,"+","-") -> +
B12: 01 | C12: =5pf!D4 -> 1967295.7 | D12: <= | E12: 24 | F12: =5pf!D27 -> 494938.3 | G12: =IF(F12<=C12,"+","-") -> +
B13: 25 | C13: =5pf!D28 -> 0 | D13: = | E13: 25(Раб) | F13: ='5pf (раб)'!D28 -> 0 | G13: =IF(F13=C13,"+","-") -> +

Sheet 5pf_titul (раб)
A1: Державне статистичне спостереження
A3: ЗВІТ про розподіл працюючих пенсіонерів за розмірами призначених місячних пенсій
C4: на | D4: 01.10.2025
A6: Подають: | F6: Терміни подання | G6: Форма № 5-ПФ
A8: Управління Пенсійного фонду України в районах, містах і районах у містах | G8: ЗАТВЕРДЖЕНО Наказ Пенсійного фонду України та Державного комітету статистики України від 29.12.2003 р. № 127/471
A9: – головним управлінням Пенсійного фонду України в Автономній Республіці Крим, областях, містах Києві та Севастополі | F9: 2 числа після звітного періоду
A10: – районним,міським відділам статистики
A11: Головні управління Пенсійного фонду України в Автономній Республіці Крим, областях, містах Києві та Севастополі
A12: – Пенсійному фонду України | F12: 5 числа після звітного періоду
A13: – головному управлінню статистики в Автономній Республіці Крим, обласним, Київському та Севастопольському міським управлінням статистики зведену інформацію по регіону та районах | I13: Квартальна
A14: Пенсійний фонд України зведену інформацію по Україні та регіонах | F14: 8 числа після звітного періоду
A15: – Державному комітету статистики України
A17: Найменування організації-складача інформації
A18: Головне управління ПФУ в Вінницькій області
A20: Поштова адреса
A23: Код форми документа за ДКУД | B23: Коди організації-складача
B24: за ЄДРПОУ | C24: території (КОАТУУ) | D24: виду економічної діяльності (КВЕД) | E24: форми власності (КФВ) | F24: організаційно-правової форми господарювання (КОПФГ) | G24: міністерства, іншого центрального органу, якому підпорядкована організація складач інформації (СПОДУ)* | I24: КС
A25: 1 | B25: 2 | C25: 3 | D25: 4 | E25: 5 | F25: 6 | G25: 7 | H25: 8 | I25: 9
A26: * тільки для підприємств державної форми власності

Sheet 5pf (раб)
A2: Назва показників | B2: №№ рядків | C2: Чисельність працюючих пенсіонерів усіх категорій (осіб) | D2: Сума призначених пенсій з цільовою грошовою допомогою з урахуванням індексації, (грн.коп.) | E2: Середні розімри призначених пенсій з цільовою грошовою допомогою з урахуванням індексації, (грн.коп.) (гр.2:гр.1)
A3: А | B3: Б | C3: 1 | D3: 2 | E3: 3
A4: Всього пенсіонерів (02-22) у тому числi одержують пенсії у загальній сумі: | B4: 01 | C4: 93377 | D4: 494938.3 | E4: 5300.43 | F4: =[1]dodatok1!#ref! -> #NAME? | G4: =F4-C4 -> #NAME? | H4: =SUM(C5:C15) -> 57875 | I4: =SUM(D5:D17) -> 494938.3 | J4: =H4-C4 -> -35502 | K4: =I4-D4 -> 0
A5: до 800 грн. Включно | B5: 02 | C5: 184 | D5: 113.3 | E5: 615.9 | F5: =[1]dodatok1!#ref! -> #NAME? | G5: =F5-C5 -> #NAME?
A6: від 801 грн. до 1000 грн. | B6: 03 | C6: 29 | D6: 25.9 | E6: 892.63 | F6: =[1]dodatok1!#ref! -> #NAME? | G6: =F6-C6 -> #NAME?
A7: від 1001 грн. до 1100 грн. | B7: 04 | C7: 8 | D7: 8.5 | E7: 1067.66 | F7: =[1]dodatok1!#ref! -> #NAME? | G7: =F7-C7 -> #NAME?
A8: від 1101 грн. до 1200 грн. | B8: 05 | C8: 21 | D8: 24.7 | E8: 1175.34 | F8: =[1]dodatok1!#ref! -> #NAME? | G8: =F8-C8 -> #NAME?
A9: від 1201 грн. до 1300 грн. | B9: 06 | C9: 9 | D9: 11.2 | E9: 1239.22 | F9: =[1]dodatok1!#ref! -> #NAME? | G9: =F9-C9 -> #NAME?
A10: від 1301 грн. до 1400 грн. | B10: 07 | C10: 4 | D10: 5.4 | E10: 1337.17 | F10: =[1]dodatok1!#ref! -> #NAME? | G10: =F10-C10 -> #NAME?
A11: від 1401 грн. до 1500 грн. | B11: 08 | C11: 42 | D11: 59.7 | E11: 1421.79 | F11: =[1]dodatok1!#ref! -> #NAME? | G11: =F11-C11 -> #NAME?
A12: від 1501 грн. до 2000 грн. | B12: 09 | C12: 64 | D12: 107.1 | E12: 1674.06 | F12: =[1]dodatok1!#ref! -> #NAME? | G12: =F12-C12 -> #NAME?
A13: від 2001 грн. до 3000 грн. | B13: 10 | C13: 10637 | D13: 25842.7 | E13: 2429.51 | F13: =[1]dodatok1!#ref! -> #NAME? | G13: =F13-C13 -> #NAME?
A14: від 3001 грн. до 4000 грн. | B14: 11 | C14: 36228 | D14: 123445.7 | E14: 3407.47 | F14: =[1]dodatok1!#ref! -> #NAME? | G14: =F14-C14 -> #NAME?
A15: від 4001 грн. до 5000 грн. | B15: 12 | C15: 10649 | D15: 47663.4 | E15: 4475.86 | F15: =[1]dodatok1!#ref! -> #NAME? | G15: =F15-C15 -> #NAME?
A16: від 5001 грн. до 10000 грн. | B16: 13 | C16: 28006 | D16: 192617.5 | E16: 6877.72
A17: понад 10000 грн. | B17: 14 | C17: 7496 | D17: 105013.2 | E17: 14009.24 | F17: =[1]dodatok1!#ref! -> #NAME? | G17: =F17-C17 -> #NAME?
A18: Із загального числа пенсіонерів (рядок 01) одержують пенсію: - за віком | B18: 15 | C18: 64558 | D18: 375471.5 | E18: 5816.03 | F18: ='[2]dodatok 2'!#ref! -> #VALUE! | G18: =F18-C18 -> #VALUE! | H18: =SUM(C18:C23) -> 93377 | I18: =SUM(D18:D23) -> 494938.3 | J18: =H18-C4 -> 0 | K18: =I18-D4 -> 0
A19: - по інвалідності | B19: 16 | C19: 23698 | D19: 98982.5 | E19: 4176.83 | F19: ='[2]dodatok 2'!#ref! -> #VALUE! | G19: =F19-C19 -> #VALUE!
A20: - у разі втрати годувальника | B20: 17 | C20: 2915 | D20: 9583.9 | E20: 3287.79 | F20: ='[2]dodatok 2'!#ref! -> #VALUE! | G20: =F20-C20 -> #VALUE!
A21: - за вислугу років | B21: 18 | C21: 1600 | D21: 8448.5 | E21: 5280.29 | F21: ='[2]dodatok 2'!#ref! -> #VALUE! | G21: =F21-C21 -> #VALUE!
A22: - соціальні пенсії | B22: 19 | C22: 593 | D22: 1400.1 | E22: 2361 | F22: ='[2]dodatok 2'!#ref! -> #VALUE! | G22: =F22-C22 -> #VALUE!
A23: - довічне утримання суддів | B23: 20 | C23: 13 | D23: 1051.8 | E23: 80912.66 | F23: ='[2]dodatok 2'!#ref! -> #VALUE! | G23: =F23-C23 -> #VALUE!
A24: Із загального числапенсіонерів (рядок 01) одержують пенсію: - нижче прожиткового мінімуму | B24: 21 | C24: 379 | D24: 395.7 | E24: 1044.26 | F24: ='[3]dodatok 3'!#ref! -> #VALUE! | G24: =F24-C24 -> #VALUE! | H24: =SUM(C24:C26) -> 93377 | I24: =SUM(D24:D26) -> 494938.3 | J24: =H24-C4 -> 0 | K24: =I24-D4 -> 0
A25: - у розмірі прожиткового мінімуму | B25: 22 | C25: 8400 | D25: 19832.4 | E25: 2361 | F25: ='[3]dodatok 3'!#ref! -> #VALUE! | G25: =F25-C25 -> #VALUE!
A26: - вище прожиткового мінімуму | B26: 23 | C26: 84598 | D26: 474710.2 | E26: 5611.36 | F26: ='[3]dodatok 3'!#ref! -> #VALUE! | G26: =F26-C26 -> #VALUE!
A27: Із загального числа пенсіонерів (рядок 01) - працюючі пенсіонери(85% признач.розміру) | B27: 24 | C27: 0 | D27: 0 | E27: 0
A28: Довідково: ті які працюють на спец посадах «виплата пенсій припинена» | B28: 25 | C28: 0 | D28: 0 | E28: 0
A30: Інформація надана без даних АРК, м.Севастополя, по Луганській та Донецькій областях без врахування даних по районах, які непідконтрольні українській владі
A32: Виконавець _________________________________ (прізвище, номер телефону) | D32: Керівник _________________________ (підпис) (прізвище, ініціали)
A34: "___" __________________ 20 р.

Sheet 5pf (раб) Контроль
B2: Чисельність | G2: Результат
B3: 01 | C3: ='5pf (раб)'!C4 -> 93377 | D3: = | E3: 02-14 | F3: =SUM('5pf (раб)'!C5:C17) -> 93377 | G3: =IF(F3=C3,"+","-") -> +
B4: 01 | C4: ='5pf (раб)'!C4 -> 93377 | D4: = | E4: 15-20 | F4: =SUM('5pf (раб)'!C18:C23) -> 93377 | G4: =IF(F4=C4,"+","-") -> +
B5: 01 | C5: ='5pf (раб)'!C4 -> 93377 | D5: = | E5: 21-23 | F5: =SUM('5pf (раб)'!C24:C26) -> 93377 | G5: =IF(F5=C5,"+","-") -> +
B6: 01 | C6: ='5pf (раб)'!C4 -> 93377 | D6: <= | E6: 24 | F6: ='5pf (раб)'!C27 -> 0 | G6: =IF(F6<=C6,"+","-") -> +
B8: Сума
B9: 01 | C9: ='5pf (раб)'!D4 -> 494938.3 | D9: = | E9: 02-14 | F9: =SUM('5pf (раб)'!D5:D17) -> 494938.3 | G9: =IF(F9=C9,"+","-") -> +
B10: 01 | C10: ='5pf (раб)'!D4 -> 494938.3 | D10: = | E10: 15-20 | F10: =SUM('5pf (раб)'!D18:D23) -> 494938.3 | G10: =IF(F10=C10,"+","-") -> +
B11: 01 | C11: ='5pf (раб)'!D4 -> 494938.3 | D11: = | E11: 21-23 | F11: =SUM('5pf (раб)'!D24:D26) -> 494938.3 | G11: =IF(F11=C11,"+","-") -> +
B12: 01 | C12: ='5pf (раб)'!D4 -> 494938.3 | D12: <= | E12: 24 | F12: ='5pf (раб)'!D27 -> 0 | G12: =IF(F12<=C12,"+","-") -> +
