Workbook

Sheet 5pf_titul
A1: Державне статистичне спостереження
A3: ЗВІТ про розподіл пенсіонерів за розмірами призначених місячних пенсій
C4: на | D4: 01.04.2026
A6: Подають: | F6: Терміни подання | G6: Форма № 5-ПФ
A8: Управління Пенсійного фонду України в районах, містах і районах у містах | G8: ЗАТВЕРДЖЕНО Наказ Пенсійного фонду України та Державного комітету статистики України від 29.12.2003 р. № 127/471
A9: – головним управлінням Пенсійного фонду України в Автономній Республіці Крим, областях, містах Києві та Севастополі | F9: 2 числа після звітного періоду
A10: – районним,міським відділам статистики
A11: Головні управління Пенсійного фонду України в Автономній Республіці Крим, областях, містах Києві та Севастополі
A12: – Пенсійному фонду України | F12: 5 числа після звітного періоду
A13: – головному управлінню статистики в Автономній Республіці Крим, обласним, Київському та Севастопольському міським управлінням статистики зведену інформацію по регіону та районах | I13: Квартальна
A14: Пенсійний фонд України зведену інформацію по Україні та регіонах | F14: 8 числа після звітного періоду
A15: – Державному комітету статистики України
A17: Найменування організації-складача інформації
A18: Головне управління ПФУ в Вінницькій області
A20: Поштова адреса
A23: Код форми документа за ДКУД | B23: Коди організації-складача
B24: за ЄДРПОУ | C24: території (КОАТУУ) | D24: виду економічної діяльності (КВЕД) | E24: форми власності (КФВ) | F24: організаційно-правової форми господарювання (КОПФГ) | G24: міністерства, іншого центрального органу, якому підпорядкована організація складач інформації (СПОДУ)* | I24: КС
A25: 1 | B25: 2 | C25: 3 | D25: 4 | E25: 5 | F25: 6 | G25: 7 | H25: 8 | I25: 9
A26: * тільки для підприємств державної форми власності

Sheet 5pf
A2: Назва показників | B2: №№ рядків | C2: Чисельність пенсіонерів усіх категорій (осіб) | D2: Сума призначених пенсій з цільовою грошовою допомогою з урахуванням індексації, (грн.коп.) | E2: Середні розімри призначених пенсій з цільовою грошовою допомогою з урахуванням індексації, (грн.коп.) (гр.2:гр.1)
A3: А | B3: Б | C3: 1 | D3: 2 | E3: 3
A4: Всього пенсіонерів (02-22) у тому числi одержують пенсії у загальній сумі: | B4: 01 | C4: 396042 | D4: 2193200.8 | E4: 5537.8 | F4: =SUM(C5:C16) -> 368610 | G4: =SUM(D5:D16) -> 1785805.4 | H4: =F4-C4 -> -27432 | I4: =G4-D4 -> -407395.4
A5: до 800 грн. Включно | B5: 02 | C5: 78 | D5: 57.4 | E5: 735.57
A6: від 801 грн. до 1000 грн. | B6: 03 | C6: 167 | D6: 160.8 | E6: 963.04
A7: від 1001 грн. до 1100 грн. | B7: 04 | C7: 1 | D7: 1.1 | E7: 1098.63
A8: від 1101 грн. до 1200 грн. | B8: 05 | C8: 28 | D8: 32 | E8: 1142.13
A9: від 1201 грн. до 1300 грн. | B9: 06 | C9: 425 | D9: 551.4 | E9: 1297.44
A10: від 1301 грн. до 1400 грн. | B10: 07 | C10: 34 | D10: 46.1 | E10: 1356.74
A11: від 1401 грн. до 1500 грн. | B11: 08 | C11: 36 | D11: 52.5 | E11: 1457.17
A12: від 1501 грн. до 2000 грн. | B12: 09 | C12: 1697 | D12: 2911.1 | E12: 1715.46
A13: від 2001 грн. до 3000 грн. | B13: 10 | C13: 12395 | D13: 32422.8 | E13: 2615.8
A14: від 3001 грн. до 4000 грн. | B14: 11 | C14: 123301 | D14: 441054.6 | E14: 3577.06
A15: від 4001 грн. до 5000 грн. | B15: 12 | C15: 88647 | D15: 401790.4 | E15: 4532.48
A16: від 5001 грн. до 10000 грн. | B16: 13 | C16: 141801 | D16: 906725.2 | E16: 6394.35
A17: понад 10000 грн. | B17: 14 | C17: 27432 | D17: 407395.4 | E17: 14851.1
A18: Із загального числа пенсіонерів (рядок 01) одержують пенсію: - за віком | B18: 15 | C18: 303542 | D18: 1743848.2 | E18: 5745 | F18: =SUM(C18:C23) -> 396042 | G18: =SUM(D18:D23) -> 2193200.8 | H18: =F18-C4 -> 0 | I18: =G18-D4 -> 0
A19: - по інвалідності | B19: 16 | C19: 64216 | D19: 305209.1 | E19: 4752.85
A20: - у разі втрати годувальника | B20: 17 | C20: 18710 | D20: 82330.2 | E20: 4400.33
A21: - за вислугу років | B21: 18 | C21: 7338 | D21: 40377 | E21: 5502.46
A22: - соціальні пенсії | B22: 19 | C22: 2100 | D22: 6682.8 | E22: 3182.28
A23: - довічне утримання суддів | B23: 20 | C23: 136 | D23: 14753.5 | E23: 108481.33
A24: Із загального числапенсіонерів (рядок 01) одержують пенсію: - нижче прожиткового мінімуму | B24: 21 | C24: 2846 | D24: 4684.6 | E24: 1646.03 | F24: =SUM(C24:C26) -> 396042 | G24: =SUM(D24:D26) -> 2193200.8 | H24: =F24-C4 -> 0 | I24: =G24-D4 -> 0
A25: - у розмірі прожиткового мінімуму | B25: 22 | C25: 10397 | D25: 26980.2 | E25: 2595
A26: - вище прожиткового мінімуму | B26: 23 | C26: 382799 | D26: 2161536 | E26: 5646.66
A27: Із загального числа пенсіонерів (рядок 01) - працюючі пенсіонери | B27: 24 | C27: 95614 | D27: 569188.9 | E27: 5952.99
A28: Довідково: ті які працюють на спец посадах «виплата пенсій припинена» | B28: 25 | C28: 0 | D28: 0 | E28: 0
A30: Інформація надана без даних АРК, м.Севастополя, по Луганській та Донецькій областях без врахування даних по районах, які непідконтрольні українській владі
A32: Виконавець _________________________________ (прізвище, номер телефону) | D32: Керівник _________________________ (підпис) (прізвище, ініціали)
A34: "___" __________________ 20 р.

Sheet 5pf Контроль
B2: Чисельність | G2: Результат
B3: 01 | C3: ='5pf'!C4 -> 396042 | D3: = | E3: 02-14 | F3: =SUM('5pf'!C5:C17) -> 396042 | G3: =IF(F3=C3,"+","-") -> +
B4: 01 | C4: ='5pf'!C4 -> 396042 | D4: = | E4: 15-20 | F4: =SUM('5pf'!C18:C23) -> 396042 | G4: =IF(F4=C4,"+","-") -> +
B5: 01 | C5: ='5pf'!C4 -> 396042 | D5: = | E5: 21-23 | F5: =SUM('5pf'!C24:C26) -> 396042 | G5: =IF(F5=C5,"+","-") -> +
B6: 01 | C6: ='5pf'!C4 -> 396042 | D6: <= | E6: 24 | F6: ='5pf'!C27 -> 95614 | G6: =IF(F6<=C6,"+","-") -> +
B7: 25 | C7: ='5pf'!C28 -> 0 | D7: = | E7: 25(Раб) | F7: ='5pf (раб)'!C28 -> 0 | G7: =IF(F7=C7,"+","-") -> +
B8: Сума
B9: 01 | C9: ='5pf'!D4 -> 2193200.8 | D9: = | E9: 02-14 | F9: =SUM('5pf'!D5:D17) -> 2193200.8 | G9: =IF(F9=C9,"+","-") -> +
B10: 01 | C10: ='5pf'!D4 -> 2193200.8 | D10: = | E10: 15-20 | F10: =SUM('5pf'!D18:D23) -> 2193200.8 | G10: =IF(F10=C10,"+","-") -> +
B11: 01 | C11: ='5pf'!D4 -> 2193200.8 | D11: = | E11: 21-23 | F11: =SUM('5pf'!D24:D26) -> 2193200.8 | G11: =IF(F11=C11,"+","-") -> +
B12: 01 | C12: ='5pf'!D4 -> 2193200.8 | D12: <= | E12: 24 | F12: ='5pf'!D27 -> 569188.9 | G12: =IF(F12<=C12,"+","-") -> +
B13: 25 | C13: ='5pf'!D28 -> 0 | D13: = | E13: 25(Раб) | F13: ='5pf (раб)'!D28 -> 0 | G13: =IF(F13=C13,"+","-") -> +

Sheet 5pf_titul (раб)
A1: Державне статистичне спостереження
A3: ЗВІТ про розподіл працюючих пенсіонерів за розмірами призначених місячних пенсій
D4: на | E4: 01.04.2026
A6: Подають: | F6: Терміни подання | G6: Форма № 5-ПФ
A8: Управління Пенсійного фонду України в районах, містах і районах у містах | G8: ЗАТВЕРДЖЕНО Наказ Пенсійного фонду України та Державного комітету статистики України від 29.12.2003 р. № 127/471
A9: – головним управлінням Пенсійного фонду України в Автономній Республіці Крим, областях, містах Києві та Севастополі | F9: 2 числа після звітного періоду
A10: – районним,міським відділам статистики
A11: Головні управління Пенсійного фонду України в Автономній Республіці Крим, областях, містах Києві та Севастополі
A12: – Пенсійному фонду України | F12: 5 числа після звітного періоду
A13: – головному управлінню статистики в Автономній Республіці Крим, обласним, Київському та Севастопольському міським управлінням статистики зведену інформацію по регіону та районах | I13: Квартальна
A14: Пенсійний фонд України зведену інформацію по Україні та регіонах | F14: 8 числа після звітного періоду
A15: – Державному комітету статистики України
A17: Найменування організації-складача інформації
A18: Головне управління ПФУ в Вінницькій області
A20: Поштова адреса
A23: Код форми документа за ДКУД | B23: Коди організації-складача
B24: за ЄДРПОУ | C24: території (КОАТУУ) | D24: виду економічної діяльності (КВЕД) | E24: форми власності (КФВ) | F24: організаційно-правової форми господарювання (КОПФГ) | G24: міністерства, іншого центрального органу, якому підпорядкована організація складач інформації (СПОДУ)* | I24: КС
A25: 1 | B25: 2 | C25: 3 | D25: 4 | E25: 5 | F25: 6 | G25: 7 | H25: 8 | I25: 9
A26: * тільки для підприємств державної форми власності

Sheet 5pf (раб)
A2: Назва показників | B2: №№ рядків | C2: Чисельність працюючих пенсіонерів усіх категорій (осіб) | D2: Сума призначених пенсій з цільовою грошовою допомогою з урахуванням індексації, (грн.коп.) | E2: Середні розімри призначених пенсій з цільовою грошовою допомогою з урахуванням індексації, (грн.коп.) (гр.2:гр.1)
A3: А | B3: Б | C3: 1 | D3: 2 | E3: 3
A4: Всього пенсіонерів (02-22) у тому числi одержують пенсії у загальній сумі: | B4: 01 | C4: 95614 | D4: 569188.9 | E4: 5952.99 | F4: #NAME? | G4: =F4-C4 -> #NAME? | H4: =SUM(C5:C15) -> 54156 | I4: =SUM(D5:D17) -> 569188.9 | J4: =H4-C4 -> -41458 | K4: =I4-D4 -> 0
A5: до 800 грн. Включно | B5: 02 | C5: 11 | D5: 8.6 | E5: 778.5 | F5: #NAME? | G5: =F5-C5 -> #NAME?
A6: від 801 грн. до 1000 грн. | B6: 03 | C6: 14 | D6: 13.1 | E6: 932.23 | F6: #NAME? | G6: =F6-C6 -> #NAME?
A7: від 1001 грн. до 1100 грн. | B7: 04 | C7: 1 | D7: 1.1 | E7: 1098.63 | F7: #NAME? | G7: =F7-C7 -> #NAME?
A8: від 1101 грн. до 1200 грн. | B8: 05 | C8: 0 | D8: 0 | E8: 0 | F8: #NAME? | G8: =F8-C8 -> #NAME?
A9: від 1201 грн. до 1300 грн. | B9: 06 | C9: 66 | D9: 85.6 | E9: 1297.5 | F9: #NAME? | G9: =F9-C9 -> #NAME?
A10: від 1301 грн. до 1400 грн. | B10: 07 | C10: 2 | D10: 2.7 | E10: 1353.64 | F10: #NAME? | G10: =F10-C10 -> #NAME?
A11: від 1401 грн. до 1500 грн. | B11: 08 | C11: 2 | D11: 2.9 | E11: 1463.97 | F11: #NAME? | G11: =F11-C11 -> #NAME?
A12: від 1501 грн. до 2000 грн. | B12: 09 | C12: 210 | D12: 355.6 | E12: 1693.32 | F12: #NAME? | G12: =F12-C12 -> #NAME?
A13: від 2001 грн. до 3000 грн. | B13: 10 | C13: 9890 | D13: 25950.9 | E13: 2623.96 | F13: #NAME? | G13: =F13-C13 -> #NAME?
A14: від 3001 грн. до 4000 грн. | B14: 11 | C14: 31496 | D14: 116829.8 | E14: 3709.35 | F14: #NAME? | G14: =F14-C14 -> #NAME?
A15: від 4001 грн. до 5000 грн. | B15: 12 | C15: 12464 | D15: 55230.2 | E15: 4431.17 | F15: #NAME? | G15: =F15-C15 -> #NAME?
A16: від 5001 грн. до 10000 грн. | B16: 13 | C16: 30783 | D16: 215378.9 | E16: 6996.68
A17: понад 10000 грн. | B17: 14 | C17: 10675 | D17: 155329.5 | E17: 14550.77 | F17: #NAME? | G17: =F17-C17 -> #NAME?
A18: Із загального числа пенсіонерів (рядок 01) одержують пенсію: - за віком | B18: 15 | C18: 66271 | D18: 429906.1 | E18: 6487.09 | F18: #VALUE! | G18: =F18-C18 -> #VALUE! | H18: =SUM(C18:C23) -> 95614 | I18: =SUM(D18:D23) -> 569188.9 | J18: =H18-C4 -> 0 | K18: =I18-D4 -> 0
A19: - по інвалідності | B19: 16 | C19: 24271 | D19: 115677.4 | E19: 4766.08 | F19: #VALUE! | G19: =F19-C19 -> #VALUE!
A20: - у разі втрати годувальника | B20: 17 | C20: 2936 | D20: 11105.8 | E20: 3782.62 | F20: #VALUE! | G20: =F20-C20 -> #VALUE!
A21: - за вислугу років | B21: 18 | C21: 1546 | D21: 9875.1 | E21: 6387.51 | F21: #VALUE! | G21: =F21-C21 -> #VALUE!
A22: - соціальні пенсії | B22: 19 | C22: 577 | D22: 1497.1 | E22: 2594.59 | F22: #VALUE! | G22: =F22-C22 -> #VALUE!
A23: - довічне утримання суддів | B23: 20 | C23: 13 | D23: 1127.4 | E23: 86719.7 | F23: #VALUE! | G23: =F23-C23 -> #VALUE!
A24: Із загального числапенсіонерів (рядок 01) одержують пенсію: - нижче прожиткового мінімуму | B24: 21 | C24: 354 | D24: 580.5 | E24: 1639.72 | F24: #VALUE! | G24: =F24-C24 -> #VALUE! | H24: =SUM(C24:C26) -> 95614 | I24: =SUM(D24:D26) -> 569188.9 | J24: =H24-C4 -> 0 | K24: =I24-D4 -> 0
A25: - у розмірі прожиткового мінімуму | B25: 22 | C25: 8554 | D25: 22197.6 | E25: 2595 | F25: #VALUE! | G25: =F25-C25 -> #VALUE!
A26: - вище прожиткового мінімуму | B26: 23 | C26: 86706 | D26: 546410.8 | E26: 6301.88 | F26: #VALUE! | G26: =F26-C26 -> #VALUE!
A27: Із загального числа пенсіонерів (рядок 01) - працюючі пенсіонери(85% признач.розміру) | B27: 24 | C27: 0 | D27: 0 | E27: 0
A28: Довідково: ті які працюють на спец посадах «виплата пенсій припинена» | B28: 25 | C28: 0 | D28: 0 | E28: 0
A30: Інформація надана без даних АРК, м.Севастополя, по Луганській та Донецькій областях без врахування даних по районах, які непідконтрольні українській владі
A32: Виконавець _________________________________ (прізвище, номер телефону) | D32: Керівник _________________________ (підпис) (прізвище, ініціали)
A34: "___" __________________ 20 р.

Sheet 5pf (раб) Контроль
B2: Чисельність | G2: Результат
B3: 01 | C3: ='5pf (раб)'!C4 -> 95614 | D3: = | E3: 02-14 | F3: =SUM('5pf (раб)'!C5:C17) -> 95614 | G3: =IF(F3=C3,"+","-") -> +
B4: 01 | C4: ='5pf (раб)'!C4 -> 95614 | D4: = | E4: 15-20 | F4: =SUM('5pf (раб)'!C18:C23) -> 95614 | G4: =IF(F4=C4,"+","-") -> +
B5: 01 | C5: ='5pf (раб)'!C4 -> 95614 | D5: = | E5: 21-23 | F5: =SUM('5pf (раб)'!C24:C26) -> 95614 | G5: =IF(F5=C5,"+","-") -> +
B6: 01 | C6: ='5pf (раб)'!C4 -> 95614 | D6: <= | E6: 24 | F6: ='5pf (раб)'!C27 -> 0 | G6: =IF(F6<=C6,"+","-") -> +
B8: Сума
B9: 01 | C9: ='5pf (раб)'!D4 -> 569188.9 | D9: = | E9: 02-14 | F9: =SUM('5pf (раб)'!D5:D17) -> 569188.9 | G9: =IF(F9=C9,"+","-") -> +
B10: 01 | C10: ='5pf (раб)'!D4 -> 569188.9 | D10: = | E10: 15-20 | F10: =SUM('5pf (раб)'!D18:D23) -> 569188.9 | G10: =IF(F10=C10,"+","-") -> +
B11: 01 | C11: ='5pf (раб)'!D4 -> 569188.9 | D11: = | E11: 21-23 | F11: =SUM('5pf (раб)'!D24:D26) -> 569188.9 | G11: =IF(F11=C11,"+","-") -> +
B12: 01 | C12: ='5pf (раб)'!D4 -> 569188.9 | D12: <= | E12: 24 | F12: ='5pf (раб)'!D27 -> 0 | G12: =IF(F12<=C12,"+","-") -> +
