Workbook

Sheet Титульний лист
B2: Державне статистичне спостереження
B3: ЗВIТ ПРО НАДАННЯ ЦIЛЬОВОЇ ГРОШОВОЇ ДОПОМОГИ НЕПРАЦЕЗДАТНИМ ГРОМАДЯНАМ
B4: З МIНIМАЛЬНИМИ ДОХОДАМИ
B5: на 01.10.2024 р.
B8: Подають | I8: Терміни подання | L8: ФОРМА N 3-ПФ ЗАТВЕРДЖЕНО Наказ Держкомстату України 16.12.2002 р. N445
B9: Управлiння Пенсiйного фонду України у районах, мiстах i районах у мiстах України: - головним управлiнням Пенсiйного фонду України в Автономнiй Республiцi Крим, областях, мiстах Києвi та Севастополi; - районним, мiським вiддiлам статистики. | I9: 10 числа після звітного періоду
B10: Головнi управлiння Пенсiйного фонду України в Автономнiй Республiцi Крим, областях, мiстах Києвi та Севастополi: - Пенсiйному фонду України; - Головному управлiнню статистики в Автономнiй Республiцi Крим, областях, мiстах Києвi та Севастополi. | I10: 15 числа після звітного періоду | L10: Квартальна Поштова
B11: Пенсiйний фонд України зведену iнформацiю по Українi та регiонах: - Державному комiтету статистики України. | I11: 25 числа після звітного періоду
B15: Найменування органiзацiї - складача iнформацiї Головне управління ПФУ в Миколаївській області
B18: Поштова адреса
B21: Код форми документа за ДКУД | D21: Коди організації - складача
D22: за ЄДРПОУ | E22: Території (КОАТУУ) | F22: виду економічної діяльності (КВЕД) | G22: форми власності (КФВ) | H22: Організаційно - правової форми господарювання (КОПФГ) | J22: міністерства, іншого центрального органу, якому підпорядкована організація-складач інформації (СПОДУ) * | N22: КС
B24: 1 | D24: 2 | E24: 3 | F24: 4 | G24: 5 | H24: 6 | J24: 7 | M24: 8 | N24: 9
B25: * тільки для підприємств державної форми власності

Sheet З-ПФ (зведена)
B2: Назва показників | C2: № рядка | D2: всього (осіб) | E2: у тому числі, що проживають у сільській місцевості | F2: Сума призначеної місячної допомоги (тис.грн.) * | G2: Середній розмір допомоги Гр3/Гр1 (грн.коп.) **
B3: А | C3: Б | D3: 1 | E3: 2 | F3: 3 | G3: 4
B4: Всього непрацездатних громадян, яким призначена цiльова грошова допомога (рядки 2 + 8 + 11) | C4: 010 | D4: 6585 | E4: 2707 | F4: 280.1 | G4: =F4/D4*1000 -> 42.536067
B5: у тому числi:
B6: 1. Пенсiонерам, якi одержують пенсiю згiдно iз Законом України "Про пенсiйне забезпечення" (рядки 3+4+5+6) | C6: 020 | D6: 1039 | E6: 670 | F6: 42.4 | G6: =F6/D6*1000 -> 40.80847
B7: iз них:
B8: - за iнвалiднiстю | C8: 030 | D8: 9 | E8: 1 | F8: 0.5 | G8: =F8/D8*1000 -> 55.555556
B9: - у разi втрати годувальника | C9: 040 | D9: 0 | E9: 0 | F9: 0 | G9: 0
B10: - за вислугу рокiв | C10: 050 | D10: 0 | E10: 0 | F10: 0 | G10: 0
B11: - пенсiонери, якi одержують соцiальну пенсiю | C11: 060 | D11: 1030 | E11: 669 | F11: 41.9 | G11: =F11/D11*1000 -> 40.679612
B12: в тому числi iнвалiди | C12: 070 | D12: 1024 | E12: 665 | F12: 41.8 | G12: =F12/D12*1000 -> 40.820312
B13: 2. Пенсiонери, якi одержують пенсiю згiдно iз Законом України "Про пенсiйне забезпечення вiйськовослужбовцiв та осiб начальницького i рядового складу органiв внутрiшнiх справ" (рядки 09+10) | C13: 080 | D13: 378 | E13: 166 | F13: 19.1 | G13: =F13/D13*1000 -> 50.529101
B14: iз них:
B15: - за iнвалiднiстю | C15: 090 | D15: 377 | E15: 166 | F15: 19 | G15: =F15/D15*1000 -> 50.397878
B16: - у разi втрати годувальника | C16: 100 | D16: 1 | E16: 0 | F16: 0.1 | G16: =F16/D16*1000 -> 100
B17: 3. Пенсiонери, якi одержують пенсiю згiдно з iншими законами України | C17: 110 | D17: 5168 | E17: 1871 | F17: 218.6 | G17: =F17/D17*1000 -> 42.298762
B18: iз них:
B19: - пенсiонери, якi отримують цiльову грошову допомогу на прожиття згiдно Закону України "Про полiпшення матерiального становища iнвалiдiв вiйни" | C19: 120 | D19: 3331 | E19: 1227 | F19: 139.1 | G19: =F19/D19*1000 -> 41.759231
B20: iз загального числа непрацездатних громадян, яким призначена цiльова грошова допомога , (рядок 1 ) - самотнi пенсiонери | C20: 130 | D20: 13 | E20: 4 | F20: 0.6 | G20: =F20/D20*1000 -> 46.153846
B22: Інформація надана без даних АРК, м.Севастополя, по Луганській та Донецькій областях без врахування даних по районах, які непідконтрольні українській владі
B25: Виконавець Тетяна Фісун (0512) 44 14 36 (прізвище, номер телефону) | E25: Керівник _________Олена СИЧУГОВА (підпис) (прізвище, ініціали)
B27: "04" жовтня 2024 р.

Sheet Контроль 3ПФ
B2: Контролі:
B3: Кількість
B4: 020 | C4: ='З-ПФ (зведена)'!D6 -> 1039 | D4: = | E4: 030+040+050+060 | F4: ='З-ПФ (зведена)'!D8+'З-ПФ (зведена)'!D9+'З-ПФ (зведена)'!D10+'З-ПФ (зведена)'!D11 -> 1039 | G4: =IF(F4=C4,"+","-") -> +
B5: 080 | C5: ='З-ПФ (зведена)'!D13 -> 378 | D5: = | E5: 090+100 | F5: ='З-ПФ (зведена)'!D15+'З-ПФ (зведена)'!D16 -> 378 | G5: =IF(F5=C5,"+","-") -> +
B6: 010 | C6: ='З-ПФ (зведена)'!D4 -> 6585 | D6: = | E6: 020+080+110 | F6: ='З-ПФ (зведена)'!D6+'З-ПФ (зведена)'!D13+'З-ПФ (зведена)'!D17 -> 6585 | G6: =IF(F6=C6,"+","-") -> +
B8: Сума
B9: 020 | C9: ='З-ПФ (зведена)'!F6 -> 42.4 | D9: = | E9: 030+040+050+060 | F9: ='З-ПФ (зведена)'!F8+'З-ПФ (зведена)'!F9+'З-ПФ (зведена)'!F10+'З-ПФ (зведена)'!F11 -> 42.4 | G9: =IF(F9=C9,"+","-") -> +
B10: 080 | C10: ='З-ПФ (зведена)'!F13 -> 19.1 | D10: = | E10: 090+100 | F10: ='З-ПФ (зведена)'!F15+'З-ПФ (зведена)'!F16 -> 19.1 | G10: =IF(F10=C10,"+","-") -> +
B11: 010 | C11: ='З-ПФ (зведена)'!F4 -> 280.1 | D11: = | E11: 020+080+110 | F11: ='З-ПФ (зведена)'!F6+'З-ПФ (зведена)'!F13+'З-ПФ (зведена)'!F17 -> 280.1 | G11: =IF(F11=C11,"+","-") -> +
