Workbook
Name OLE_LINK2: '6pf'!#REF!

Sheet 6pf_titul
A1: Державне статистичне спостереження
A3: ЗВІТ про чисельність пенсіонерів і суми призначених місячних пенсій
C4: на | D4: 01.01.2026
A6: Подають: | F6: Терміни подання | G6: Форма № 6-ПФ
A8: Управління Пенсійного фонду України в районах, містах і районах у містах | G8: ЗАТВЕРДЖЕНО Наказ Пенсійного фонду України та Державного комітету статистики України від 29.12.2003 р. № 127/471
A9: – головним управлінням Пенсійного фонду України в Автономній Республіці Крим, областях, містах Києві та Севастополі | F9: 5 лютого
A10: – районним,міським відділам статистики | F10: 25 лютого
A11: Головні управління Пенсійного фонду України в Автономній Республіці Крим, областях, містах Києві та Севастополі
A12: – Пенсійному фонду України | F12: 25 лютого
A13: – головному управлінню статистики в Автономній Республіці Крим, обласним, Київському та Севастопольському міським управлінням статистики зведену інформацію по регіону та районах | F13: 25 лютого | H13: Поштова | I13: Річна
A14: Пенсійний фонд України зведену інформацію по Україні та регіонах
A15: – Державному комітету статистики України | F15: 10 квітня
A17: Найменування організації-складача інформації
A18: Тернопільське об’єднане управління ПФУ Тернопільської області
A20: Поштова адреса
A23: Код форми документа за ДКУД | B23: Коди організації-складача
B24: за ЄДРПОУ | C24: території (КОАТУУ) | D24: виду економічної діяльності (КВЕД) | E24: форми власності (КФВ) | F24: організаційно-правової форми господарювання (КОПФГ) | G24: міністерства, іншого центрального органу, якому підпорядкована організація складач інформації (СПОДУ)* | I24: КС
A25: 1 | B25: 2 | C25: 3 | D25: 4 | E25: 5 | F25: 6 | G25: 7 | H25: 8 | I25: 9
A26: * тільки для підприємств державної форми власності

Sheet 6pf
B2: №№ рядків | D2: Загальна сума призначених пенсій, грн.коп. | J2: Середні розміри призначених місячних пенсій, грн. | P2: Новопризначені пенсії
C3: Чисельність пенсіонерів, які пеербувають на обліку в органах Пенсійного фонду України (осіб) | D3: Місячних пенсій з урахуванням надбавок, підвищень | F3: місячних пенсій з урахуванням надбавок, підвищень, державної адресної допомоги | G3: місячних пенсій з урахуванням надбавок, підвищень, державної адресної допомоги та пенсій за особливі заслуги | H3: місячних пенсій з урахуванням надбавок, підвищень, державної адресної допомоги, пенсій за особливі заслуги, доплат згідно ЗУ "Про про підвищення престижності шахтарської праці" | I3: Загальна сума призначених пенсій, з урахуванням індексації, всього | J3: Місячних пенсій з урахуванням надбавок, підвищень | L3: місячних пенсій з урахуванням надбавок, підвищень, державної адресної допомоги | M3: місячних пенсій з урахуванням надбавок, підвищень, державної адресної допомоги та пенсій за особливі заслуги | N3: місячних пенсій з урахуванням надбавок, підвищень, державної адресної допомоги, пенсій за особливі заслуги, доплат згідно ЗУ "Про про підвищення престижності шахтарської праці" | O3: Загальна сума призначених пенсій, з урахуванням індексації, всього | P3: Чисельність пенсіонерів, які перебувають на обліку в органах Пенсійного фонду України (осіб) | Q3: Загальна сума призначених місячних пенсій разом з цільовою грошовою допомогою, щомісччною державною адресною допомогою до пенсії, надбавкою за особливі заслуги перед Україною, державною соціальною допомогою з урахуванням індексації та обмеження, грн.коп. | R3: Середній розмір призначених місячних пенсій разом з цільовою грошовою допомогою, щомісячною державною адресною допомогою до пенсії, надбавкою за особливі заслуги перед Україною, державною соціальною допомогою з урахуванням індексації, грн. коп.
D4: всього | E4: у тому числі основного розміру | J4: всього | K4: у тому числі основного розміру
A5: А | B5: Б | C5: 1 | D5: 2 | E5: 3 | F5: 4 | G5: 5 | H5: 6 | I5: 7 | J5: 8 | K5: 9 | L5: 10 | M5: 11 | N5: 12 | O5: 13 | P5: 14 | Q5: 15 | R5: 16
A6: Всього пенсiонерiв (рядки 5+ 167+ 195+ 236+ 244+ 252+ 253+ 254+ 262+ 270+ 279+ 282+ 291+ 299+ 300+ 3001+301) у тому числi: | B6: 1 | C6: 257398 | D6: 1.0118019e+09 | E6: 8.064649e+08 | F6: 1.0831962e+09 | G6: 1.0895516e+09 | H6: 1.0903254e+09 | I6: 1.1906184e+09 | J6: 3930.88 | K6: 3133.14 | L6: 4208.25 | M6: 4232.95 | N6: 4235.95 | O6: 4625.59 | P6: 9770 | Q6: 43483819 | R6: 4450.75
A7: Жiнок | B7: 2 | C7: 160818 | D7: 6.195882e+08 | E7: 4.5961389e+08 | F7: 6.5692201e+08 | G7: 6.5758254e+08 | H7: 6.577491e+08 | I7: 7.2311179e+08 | J7: 3852.73 | K7: 2857.98 | L7: 4084.88 | M7: 4088.99 | N7: 4090.02 | O7: 4496.46 | P7: 4825 | Q7: 20857956 | R7: 4322.89
A8: Iз рядка 2 - iнвалiдiв | B8: 3 | C8: 34072 | D8: 94988381 | E8: 73329695 | F8: 1.185304e+08 | G8: 1.1873603e+08 | H8: 1.1875582e+08 | I8: 1.3555117e+08 | J8: 2787.87 | K8: 2152.2 | L8: 3478.82 | M8: 3484.86 | N8: 3485.44 | O8: 3978.37 | P8: 942 | Q8: 3408000.6 | R8: 3617.84
A9: Iз загальної чисельностi пенсiонерiв (рядок1) - проживають у сiльськiй мiсцевостi (рядки 58+ 115+ 134+ 150+ 172+ 177+ 194+ 217+ 233+ 317) | B9: 4 | C9: 153027 | D9: 5.3835017e+08 | E9: 4.0265428e+08 | F9: 5.8551557e+08 | G9: 5.8936145e+08 | H9: 5.8982694e+08 | I9: 6.5493125e+08 | J9: 3518.01 | K9: 2631.26 | L9: 3826.22 | M9: 3851.36 | N9: 3854.4 | O9: 4279.84 | P9: 5424 | Q9: 22706004 | R9: 4186.21
A10: I. ЗАКОН УКРАЇНИ "ПРО ЗАГАЛЬНООБОВ’ЯЗКОВЕ ДЕРЖАВНЕ ПЕНСІЙНЕ СТРАХУВАННЯ"
A11: Всього пенсіонерів (рядки 6+110+128+135) з них: | B11: 5 | C11: 252915 | D11: 9.6815503e+08 | E11: 7.6650946e+08 | F11: 1.0362919e+09 | G11: 1.040534e+09 | H11: 1.0413078e+09 | I11: 1.137849e+09 | J11: 3827.99 | K11: 3030.7 | L11: 4097.39 | M11: 4114.16 | N11: 4117.22 | O11: 4498.94 | P11: 9741 | Q11: 43026604 | R11: 4417.06
A12: 1.За віком у солідарній системі, всього (рядки 7+8+9+10+11+12) (59+60+61+62+63+64+65+66+67+68) | B12: 6 | C12: 195654 | D12: 8.3733014e+08 | E12: 6.6183633e+08 | F12: 8.6068708e+08 | G12: 8.6311823e+08 | H12: 8.6375321e+08 | I12: 9.3543673e+08 | J12: 4279.65 | K12: 3382.69 | L12: 4399.03 | M12: 4411.45 | N12: 4414.7 | O12: 4781.08 | P12: 6170 | Q12: 29837527 | R12: 4835.9
A13: у тому числі призначено пенсію у розмірах: а) нижче мінімальної пенсії за віком | B13: 7 | C13: 3 | D13: 3182.43 | E13: 2144.94 | F13: 5215.75 | G13: 5215.75 | H13: 5215.75 | I13: 5215.75 | J13: 1060.81 | K13: 714.98 | L13: 1738.58 | M13: 1738.58 | N13: 1738.58 | O13: 1738.58 | P13: 0 | Q13: 0 | R13: 0
A14: б) у мінімальному розмірі | B14: 8 | C14: 3160 | D14: 5377381.4 | E14: 4770103.8 | F14: 7990245.5 | G14: 7990245.5 | H14: 7990245.5 | I14: 8200200 | J14: 1701.7 | K14: 1509.53 | L14: 2528.56 | M14: 2528.56 | N14: 2528.56 | O14: 2595 | P14: 317 | Q14: 822615 | R14: 2595
A15: в) вище одного мінімального до двох мінімальних розмірів включно | B15: 9 | C15: 144387 | D15: 4.8495514e+08 | E15: 3.4127979e+08 | F15: 5.0569304e+08 | G15: 5.0569304e+08 | H15: 5.0569304e+08 | I15: 5.6336489e+08 | J15: 3358.72 | K15: 2363.65 | L15: 3502.34 | M15: 3502.34 | N15: 3502.34 | O15: 3901.77 | P15: 4078 | Q15: 13940346 | R15: 3418.43
A16: г) вище двох мінімальних до трьох мінімальних розмірів включно | B16: 10 | C16: 33243 | D16: 1.931187e+08 | E16: 1.7135236e+08 | F16: 1.9312219e+08 | G16: 1.948537e+08 | H16: 1.9486047e+08 | I16: 2.0576588e+08 | J16: 5809.3 | K16: 5154.54 | L16: 5809.41 | M16: 5861.5 | N16: 5861.7 | O16: 6189.75 | P16: 952 | Q16: 6025717.9 | R16: 6329.54
A17: д) вище трьох мінімальних розмірів до чотирьох мінімальних розмірів включно | B17: 11 | C17: 9578 | D17: 82314838 | E17: 76417181 | F17: 82314838 | G17: 82425318 | H17: 82431985 | I17: 85066351 | J17: 8594.16 | K17: 7978.41 | L17: 8594.16 | M17: 8605.69 | N17: 8606.39 | O17: 8881.43 | P17: 489 | Q17: 4368371.7 | R17: 8933.28
A18: є) вище чотирьох мінімальних розмірів | B18: 12 | C18: 5283 | D18: 71560898 | E18: 68014755 | F18: 71561552 | G18: 72150709 | H18: 72772262 | I18: 73034194 | J18: 13545.5 | K18: 12874.27 | L18: 13545.63 | M18: 13657.15 | N18: 13774.8 | O18: 13824.38 | P18: 334 | Q18: 4680476.2 | R18: 14013.4
A19: Із загального числа пенсіонерів за віком із рядка 6 одержують пенсію: а) при страховому стажі більше 20 років та менше 30 років у жінок та більше 25 років та менше 35 років – у чоловіків | B19: 13 | C19: 47918 | D19: 1.4154711e+08 | E19: 1.0745762e+08 | F19: 1.5053481e+08 | G19: 1.5145852e+08 | H19: 1.5178713e+08 | I19: 1.7402083e+08 | J19: 2953.94 | K19: 2242.53 | L19: 3141.51 | M19: 3160.79 | N19: 3167.64 | O19: 3631.64 | P19: 1867 | Q19: 7487058.4 | R19: 4010.21
A20: б) за роботу у сільському господарстві | B20: 14 | C20: 9941 | D20: 41345723 | E20: 25807962 | F20: 41444651 | G20: 41624765 | H20: 41624765 | I20: 47937873 | J20: 4159.11 | K20: 2596.11 | L20: 4169.06 | M20: 4187.18 | N20: 4187.18 | O20: 4822.24 | P20: 0 | Q20: 0 | R20: 0
A21: в) при страховому стажі менше 20 років у жінок та 25 років – у чоловіків | B21: 15 | C21: 12955 | D21: 23918622 | E21: 13719954 | F21: 35278887 | G21: 35442036 | H21: 35442036 | I21: 40938997 | J21: 1846.29 | K21: 1059.05 | L21: 2723.19 | M21: 2735.78 | N21: 2735.78 | O21: 3160.09 | P21: 1182 | Q21: 3717773.7 | R21: 3145.32
A22: Із загального числа пенсіонерів за віком у солідарній системі (рядок 6) жінки, яким виповнилося 55 років і яким призначено дострокову пенсію за віком згідго із пунктом 7-2 розділу ХV Закону України “Про загальнообов'язкове державне пенсійне страхування” | B22: 1511 | C22: 4416 | D22: 17728836 | E22: 10798162 | F22: 17804293 | G22: 17806238 | H22: 17806238 | I22: 17935947 | J22: 4014.68 | K22: 2445.24 | L22: 4031.77 | M22: 4032.21 | N22: 4032.21 | O22: 4061.58 | P22: 0 | Q22: 0 | R22: 0
... A188: Пенсіонери, яким призначено грошову допомогу у розмірі десяти місячних пенсій згідно із п. 7-1 розділу ХV Закону України “Про загальнообов'язкове державне пенсійне страхування” | B188: 1661 | C188: 3192 | D188: 22337588 | E188: 19774485 | F188: 22338149 | G188: 22338149 | H188: 22338149 | I188: 22557895 | J188: 6997.99 | K188: 6195.01 | L188: 6998.17 | M188: 6998.17 | N188: 6998.17 | O188: 7067.01 | P188: 269 | Q188: 2111742.3 | R188: 7850.34
A189: ІI. ЗАКОН УКРАЇНИ "ПРО ПЕНСІЙНЕ ЗАБЕЗПЕЧЕННЯ"
A190: Всього пенсіонерів (167=168+173+178) | B190: 167 | C190: 1270 | D190: 34898.83 | E190: 23232.33 | F190: 3288663.7 | G190: 3323486 | H190: 3323486 | I190: 3792004 | J190: 27.48 | K190: 18.29 | L190: 2589.5 | M190: 2616.92 | N190: 2616.92 | O190: 2985.83 | P190: 0 | Q190: 0 | R190: 0
A191: 1. Пенсіонери за інвалідністю від нещасного випадку на виробництві або професійного захворювання (169+170+171) | B191: 168 | C191: 1 | D191: 50 | E191: 50 | F191: 2595 | G191: 2595 | H191: 2595 | I191: 3038 | J191: 50 | K191: 50 | L191: 2595 | M191: 2595 | N191: 2595 | O191: 3038 | P191: 0 | Q191: 0 | R191: 0
A192: з них: І групи | B192: 169 | C192: 1 | D192: 50 | E192: 50 | F192: 2595 | G192: 2595 | H192: 2595 | I192: 3038 | J192: 50 | K192: 50 | L192: 2595 | M192: 2595 | N192: 2595 | O192: 3038 | P192: 0 | Q192: 0 | R192: 0
A193: ІІ групи | B193: 170 | C193: 0 | D193: 0 | E193: 0 | F193: 0 | G193: 0 | H193: 0 | I193: 0 | J193: 0 | K193: 0 | L193: 0 | M193: 0 | N193: 0 | O193: 0 | P193: 0 | Q193: 0 | R193: 0
A194: ІІІ групи | B194: 171 | C194: 0 | D194: 0 | E194: 0 | F194: 0 | G194: 0 | H194: 0 | I194: 0 | J194: 0 | K194: 0 | L194: 0 | M194: 0 | N194: 0 | O194: 0 | P194: 0 | Q194: 0 | R194: 0
A195: Із рядка 168: – інваліди війни | B195: 1711 | C195: 0 | D195: 0 | E195: 0 | F195: 0 | G195: 0 | H195: 0 | I195: 0 | J195: 0 | K195: 0 | L195: 0 | M195: 0 | N195: 0 | O195: 0 | P195: 0 | Q195: 0 | R195: 0
A196: – проживають у сільській місцевості | B196: 172 | C196: 0 | D196: 0 | E196: 0 | F196: 0 | G196: 0 | H196: 0 | I196: 0 | J196: 0 | K196: 0 | L196: 0 | M196: 0 | N196: 0 | O196: 0 | P196: 0 | Q196: 0 | R196: 0
A197: 2. Пенсіонери у зв’язку із втратою годувальника, який помер внаслідок нещасного випадку на виробництві або професійного захворювання (осіб) (174+175+176) | B197: 173 | C197: 1 | D197: 11.06 | E197: 11.06 | F197: 2595 | G197: 2595 | H197: 2595 | I197: 3051 | J197: 11.06 | K197: 11.06 | L197: 2595 | M197: 2595 | N197: 2595 | O197: 3051 | P197: 0 | Q197: 0 | R197: 0
A198: у тому числі: з одним непрацездатним | B198: 174 | C198: 1 | D198: 11.06 | E198: 11.06 | F198: 2595 | G198: 2595 | H198: 2595 | I198: 3051 | J198: 11.06 | K198: 11.06 | L198: 2595 | M198: 2595 | N198: 2595 | O198: 3051 | P198: 0 | Q198: 0 | R198: 0
A199: з двома непрацездатними | B199: 175 | C199: 0 | D199: 0 | E199: 0 | F199: 0 | G199: 0 | H199: 0 | I199: 0 | J199: 0 | K199: 0 | L199: 0 | M199: 0 | N199: 0 | O199: 0 | P199: 0 | Q199: 0 | R199: 0
A200: з трьома і більше непрацездатними | B200: 176 | C200: 0 | D200: 0 | E200: 0 | F200: 0 | G200: 0 | H200: 0 | I200: 0 | J200: 0 | K200: 0 | L200: 0 | M200: 0 | N200: 0 | O200: 0 | P200: 0 | Q200: 0 | R200: 0
A201: Із рядка 173 – проживають у сільській місцевості | B201: 177 | C201: 0 | D201: 0 | E201: 0 | F201: 0 | G201: 0 | H201: 0 | I201: 0 | J201: 0 | K201: 0 | L201: 0 | M201: 0 | N201: 0 | O201: 0 | P201: 0 | Q201: 0 | R201: 0
... A218: Із рядка 178 - проживають у сільській місцевості | B218: 194 | C218: 813 | D218: 24230.26 | E218: 15069.28 | F218: 2102748.7 | G218: 2137571 | H218: 2137571 | I218: 2452929 | J218: 29.8 | K218: 18.54 | L218: 2586.41 | M218: 2629.24 | N218: 2629.24 | O218: 3017.13 | P218: 0 | Q218: 0 | R218: 0
A219: ІII. ЗАКОН УКРАЇНИ "ПРО ПЕНСІЙНЕ ЗАБЕЗПЕЧЕННЯ ОСІБ, ЗВІЛЬНЕНИХ З ВІЙСЬКОВОЇ СЛУЖБИ, ТА ДЕЯКИХ ІНШИХ ОСІБ”
A220: Пенсіонери-військовослужбовці та їхні сім'ї, які одержують пенсії в органах Пенсійного фонду (рядки 196+229) | B220: 195 | C220: 1098 | D220: 9272967.7 | E220: 7479115.3 | F220: 9272967.7 | G220: 11349485 | H220: 11349485 | I220: 11528793 | J220: 8445.33 | K220: 6811.58 | L220: 8445.33 | M220: 10336.51 | N220: 10336.51 | O220: 10499.81 | P220: 1 | Q220: 5842.18 | R220: 5842.18
A221: з них: 1. Пенсіонери за інвалідністю із числа військовослужбовців (сума рядків 200+207) (197+198+199) | B221: 196 | C221: 903 | D221: 8024259.4 | E221: 6401301.7 | F221: 8024259.4 | G221: 10100777 | H221: 10100777 | I221: 10192162 | J221: 8886.22 | K221: 7088.93 | L221: 8886.22 | M221: 11185.8 | N221: 11185.8 | O221: 11287 | P221: 0 | Q221: 0 | R221: 0
A222: у тому числі: І групи | B222: 197 | C222: 36 | D222: 373691.18 | E222: 275984.79 | F222: 373691.18 | G222: 452911.86 | H222: 452911.86 | I222: 463719.73 | J222: 10380.31 | K222: 7666.24 | L222: 10380.31 | M222: 12580.88 | N222: 12580.88 | O222: 12881.1 | P222: 0 | Q222: 0 | R222: 0
A223: ІІ групи | B223: 198 | C223: 476 | D223: 4492532.4 | E223: 3528638.6 | F223: 4492532.4 | G223: 6024918.2 | H223: 6024918.2 | I223: 6069766.6 | J223: 9438.09 | K223: 7413.11 | L223: 9438.09 | M223: 12657.39 | N223: 12657.39 | O223: 12751.61 | P223: 0 | Q223: 0 | R223: 0
A224: ІІІ групи | B224: 199 | C224: 391 | D224: 3158035.8 | E224: 2596678.3 | F224: 3158035.8 | G224: 3622947.1 | H224: 3622947.1 | I224: 3658675.8 | J224: 8076.82 | K224: 6641.12 | L224: 8076.82 | M224: 9265.85 | N224: 9265.85 | O224: 9357.23 | P224: 0 | Q224: 0 | R224: 0
A225: Із загального числа пенсіонерів за інвалідністю (рядок 196) - інваліди війни – (201+203+205) | B225: 200 | C225: 707 | D225: 6773535.6 | E225: 5215963 | F225: 6773535.6 | G225: 8843603.5 | H225: 8843603.5 | I225: 8884616.2 | J225: 9580.67 | K225: 7377.6 | L225: 9580.67 | M225: 12508.63 | N225: 12508.63 | O225: 12566.64 | P225: 0 | Q225: 0 | R225: 0
A226: у тому числі: І групи | B226: 201 | C226: 21 | D226: 277504.26 | E226: 192992.42 | F226: 277504.26 | G226: 356724.94 | H226: 356724.94 | I226: 358124.94 | J226: 13214.49 | K226: 9190.12 | L226: 13214.49 | M226: 16986.9 | N226: 16986.9 | O226: 17053.57 | P226: 0 | Q226: 0 | R226: 0
A227: з них одержують пенсію у мінімальному розмірі | B227: 202 | C227: 11 | D227: 116367.2 | E227: 82541.7 | F227: 116367.2 | G227: 177421.95 | H227: 177421.95 | I227: 178121.95 | J227: 10578.84 | K227: 7503.79 | L227: 10578.84 | M227: 16129.27 | N227: 16129.27 | O227: 16192.9 | P227: 0 | Q227: 0 | R227: 0
A228: ІІ групи | B228: 203 | C228: 370 | D228: 3792637.2 | E228: 2869922 | F228: 3792637.2 | G228: 5318573.1 | H228: 5318573.1 | I228: 5337013.2 | J228: 10250.37 | K228: 7756.55 | L228: 10250.37 | M228: 14374.52 | N228: 14374.52 | O228: 14424.36 | P228: 0 | Q228: 0 | R228: 0
A229: з них одержують пенсію у мінімальному розмірі | B229: 204 | C229: 218 | D229: 1862991.8 | E229: 1452719.1 | F229: 1862991.8 | G229: 3030709.4 | H229: 3030709.4 | I229: 3041559.4 | J229: 8545.83 | K229: 6663.85 | L229: 8545.83 | M229: 13902.34 | N229: 13902.34 | O229: 13952.11 | P229: 0 | Q229: 0 | R229: 0
A230: ІІІ групи | B230: 205 | C230: 316 | D230: 2703394.1 | E230: 2153048.6 | F230: 2703394.1 | G230: 3168305.4 | H230: 3168305.4 | I230: 3189478.1 | J230: 8555.04 | K230: 6813.44 | L230: 8555.04 | M230: 10026.28 | N230: 10026.28 | O230: 10093.29 | P230: 0 | Q230: 0 | R230: 0
A231: з них одержують пенсію у мінімальному розмірі | B231: 206 | C231: 242 | D231: 1924125.7 | E231: 1547437.6 | F231: 1924125.7 | G231: 2315723.8 | H231: 2315723.8 | I231: 2331705.8 | J231: 7950.93 | K231: 6394.37 | L231: 7950.93 | M231: 9569.11 | N231: 9569.11 | O231: 9635.15 | P231: 0 | Q231: 0 | R231: 0
... A260: Із загального числа пенсіонерів- військовослужбовців і їх сімей - яким призначено пенсію у разі втрати годувальника (рядок 229), - одержують пенсію у мінімальному розмірі | B260: 235 | C260: 9 | D260: 46710 | E260: 46710 | F260: 46710 | G260: 46710 | H260: 46710 | I260: 46710 | J260: 5190 | K260: 5190 | L260: 5190 | M260: 5190 | N260: 5190 | O260: 5190 | P260: 0 | Q260: 0 | R260: 0
A261: IV. ЗАКОН УКРАЇНИ "ПРО ДЕРЖАВНУ СЛУЖБУ"
A262: Всього пенсіонерів (рядки 237+238+243) | B262: 236 | C262: 819 | D262: 10468667 | E262: 9948841.8 | F262: 10471262 | G262: 10471574 | H262: 10471574 | I262: 10560637 | J262: 12782.26 | K262: 12147.55 | L262: 12785.42 | M262: 12785.8 | N262: 12785.8 | O262: 12894.55 | P262: 16 | Q262: 220465.76 | R262: 13779.11
A263: з них: 1. За віком | B263: 237 | C263: 783 | D263: 10263074 | E263: 9757296 | F263: 10265669 | G263: 10265981 | H263: 10265981 | I263: 10339709 | J263: 13107.37 | K263: 12461.43 | L263: 13110.69 | M263: 13111.09 | N263: 13111.09 | O263: 13205.25 | P263: 16 | Q263: 220465.76 | R263: 13779.11
A264: 2. За інвалідністю (239+240+2401=241+242) | B264: 238 | C264: 4 | D264: 27908.57 | E264: 26625.97 | F264: 27908.57 | G264: 27908.57 | H264: 27908.57 | I264: 28664.57 | J264: 6977.14 | K264: 6656.49 | L264: 6977.14 | M264: 6977.14 | N264: 6977.14 | O264: 7166.14 | P264: 0 | Q264: 0 | R264: 0
A265: у тому числі: І групи | B265: 239 | C265: 0 | D265: 0 | E265: 0 | F265: 0 | G265: 0 | H265: 0 | I265: 0 | J265: 0 | K265: 0 | L265: 0 | M265: 0 | N265: 0 | O265: 0 | P265: 0 | Q265: 0 | R265: 0
A266: ІІ групи | B266: 240 | C266: 4 | D266: 27908.57 | E266: 26625.97 | F266: 27908.57 | G266: 27908.57 | H266: 27908.57 | I266: 28664.57 | J266: 6977.14 | K266: 6656.49 | L266: 6977.14 | M266: 6977.14 | N266: 6977.14 | O266: 7166.14 | P266: 0 | Q266: 0 | R266: 0
A267: ІІІ групи | B267: 2401 | C267: 0 | D267: 0 | E267: 0 | F267: 0 | G267: 0 | H267: 0 | I267: 0 | J267: 0 | K267: 0 | L267: 0 | M267: 0 | N267: 0 | O267: 0 | P267: 0 | Q267: 0 | R267: 0
A268: Із загального числа пенсіонерів за інвалідністю (рядок 238) – інваліди праці | B268: 241 | C268: 4 | D268: 27908.57 | E268: 26625.97 | F268: 27908.57 | G268: 27908.57 | H268: 27908.57 | I268: 28664.57 | J268: 6977.14 | K268: 6656.49 | L268: 6977.14 | M268: 6977.14 | N268: 6977.14 | O268: 7166.14 | P268: 0 | Q268: 0 | R268: 0
A269: – інваліди війни | B269: 242 | C269: 0 | D269: 0 | E269: 0 | F269: 0 | G269: 0 | H269: 0 | I269: 0 | J269: 0 | K269: 0 | L269: 0 | M269: 0 | N269: 0 | O269: 0 | P269: 0 | Q269: 0 | R269: 0
A270: 3. У разі втрати годувальника (особи) | B270: 243 | C270: 32 | D270: 177684.58 | E270: 164919.91 | F270: 177684.58 | G270: 177684.58 | H270: 177684.58 | I270: 192263.3 | J270: 5552.64 | K270: 5153.75 | L270: 5552.64 | M270: 5552.64 | N270: 5552.64 | O270: 6008.23 | P270: 0 | Q270: 0 | R270: 0
A271: V. ЗАКОН УКРАЇНИ "ПРО СТАТУС НАРОДНОГО ДЕПУТАТА УКРАЇНИ"
A272: Всього пенсіонерів (рядки 245+246+251) | B272: 244 | C272: 0 | D272: 0 | E272: 0 | F272: 0 | G272: 0 | H272: 0 | I272: 0 | J272: 0 | K272: 0 | L272: 0 | M272: 0 | N272: 0 | O272: 0 | P272: 0 | Q272: 0 | R272: 0
A273: 1. За віком | B273: 245 | C273: 0 | D273: 0 | E273: 0 | F273: 0 | G273: 0 | H273: 0 | I273: 0 | J273: 0 | K273: 0 | L273: 0 | M273: 0 | N273: 0 | O273: 0 | P273: 0 | Q273: 0 | R273: 0
A274: 2. За інвалідністю (247+248)(249+250) | B274: 246 | C274: 0 | D274: 0 | E274: 0 | F274: 0 | G274: 0 | H274: 0 | I274: 0 | J274: 0 | K274: 0 | L274: 0 | M274: 0 | N274: 0 | O274: 0 | P274: 0 | Q274: 0 | R274: 0
A275: у тому числі: І групи | B275: 247 | C275: 0 | D275: 0 | E275: 0 | F275: 0 | G275: 0 | H275: 0 | I275: 0 | J275: 0 | K275: 0 | L275: 0 | M275: 0 | N275: 0 | O275: 0 | P275: 0 | Q275: 0 | R275: 0
A276: ІІ групи | B276: 248 | C276: 0 | D276: 0 | E276: 0 | F276: 0 | G276: 0 | H276: 0 | I276: 0 | J276: 0 | K276: 0 | L276: 0 | M276: 0 | N276: 0 | O276: 0 | P276: 0 | Q276: 0 | R276: 0
A277: Із загального числа пенсіонерів за інвалідністю (рядок 246) – інваліди праці | B277: 249 | C277: 0 | D277: 0 | E277: 0 | F277: 0 | G277: 0 | H277: 0 | I277: 0 | J277: 0 | K277: 0 | L277: 0 | M277: 0 | N277: 0 | O277: 0 | P277: 0 | Q277: 0 | R277: 0
A278: – інваліди війни | B278: 250 | C278: 0 | D278: 0 | E278: 0 | F278: 0 | G278: 0 | H278: 0 | I278: 0 | J278: 0 | K278: 0 | L278: 0 | M278: 0 | N278: 0 | O278: 0 | P278: 0 | Q278: 0 | R278: 0
A279: 3. У разі втрати годувальника (особи) | B279: 251 | C279: 0 | D279: 0 | E279: 0 | F279: 0 | G279: 0 | H279: 0 | I279: 0 | J279: 0 | K279: 0 | L279: 0 | M279: 0 | N279: 0 | O279: 0 | P279: 0 | Q279: 0 | R279: 0
A280: VІ. ПОЛОЖЕННЯ ПРО ПОМІЧНИКА-КОНСУЛЬТАНТА НАРОДНОГО ДЕПУТАТА УКРАЇНИ
A281: Всього пенсіонерів (за віком) | B281: 252 | C281: 2 | D281: 9377.68 | E281: 9029.88 | F281: 9377.68 | G281: 9377.68 | H281: 9377.68 | I281: 10133.68 | J281: 4688.84 | K281: 4514.94 | L281: 4688.84 | M281: 4688.84 | N281: 4688.84 | O281: 5066.84 | P281: 0 | Q281: 0 | R281: 0
A282: VIІ. ЗАКОН УКРАЇНИ "ПРО ДИПЛОМАТИЧНУ СЛУЖБУ"
A283: Всього пенсіонерів (за віком) | B283: 253 | C283: 0 | D283: 0 | E283: 0 | F283: 0 | G283: 0 | H283: 0 | I283: 0 | J283: 0 | K283: 0 | L283: 0 | M283: 0 | N283: 0 | O283: 0 | P283: 0 | Q283: 0 | R283: 0
A284: VІІІ . ЗАКОН УКРАЇНИ "ПРО НАЦІОНАЛЬНИЙ БАНК УКРАЇНИ"
A285: Всього пенсіонерів (рядки255+256+261) | B285: 254 | C285: 1 | D285: 11217.3 | E285: 11022.67 | F285: 11217.3 | G285: 11217.3 | H285: 11217.3 | I285: 11217.3 | J285: 11217.3 | K285: 11022.67 | L285: 11217.3 | M285: 11217.3 | N285: 11217.3 | O285: 11217.3 | P285: 0 | Q285: 0 | R285: 0
A286: з них: 1. За віком | B286: 255 | C286: 0 | D286: 0 | E286: 0 | F286: 0 | G286: 0 | H286: 0 | I286: 0 | J286: 0 | K286: 0 | L286: 0 | M286: 0 | N286: 0 | O286: 0 | P286: 0 | Q286: 0 | R286: 0
A287: 2. По інвалідності (257+258=259+260) | B287: 256 | C287: 0 | D287: 0 | E287: 0 | F287: 0 | G287: 0 | H287: 0 | I287: 0 | J287: 0 | K287: 0 | L287: 0 | M287: 0 | N287: 0 | O287: 0 | P287: 0 | Q287: 0 | R287: 0
A288: у тому числі: І групи | B288: 257 | C288: 0 | D288: 0 | E288: 0 | F288: 0 | G288: 0 | H288: 0 | I288: 0 | J288: 0 | K288: 0 | L288: 0 | M288: 0 | N288: 0 | O288: 0 | P288: 0 | Q288: 0 | R288: 0
A289: ІІ групи | B289: 258 | C289: 0 | D289: 0 | E289: 0 | F289: 0 | G289: 0 | H289: 0 | I289: 0 | J289: 0 | K289: 0 | L289: 0 | M289: 0 | N289: 0 | O289: 0 | P289: 0 | Q289: 0 | R289: 0
A290: Із загального числа пенсіонерів за інвалідністю (рядок 256) – інваліди праці | B290: 259 | C290: 0 | D290: 0 | E290: 0 | F290: 0 | G290: 0 | H290: 0 | I290: 0 | J290: 0 | K290: 0 | L290: 0 | M290: 0 | N290: 0 | O290: 0 | P290: 0 | Q290: 0 | R290: 0
A291: – інваліди війни | B291: 260 | C291: 0 | D291: 0 | E291: 0 | F291: 0 | G291: 0 | H291: 0 | I291: 0 | J291: 0 | K291: 0 | L291: 0 | M291: 0 | N291: 0 | O291: 0 | P291: 0 | Q291: 0 | R291: 0
A292: 3. У разі втрати годувальника (особи) | B292: 261 | C292: 1 | D292: 11217.3 | E292: 11022.67 | F292: 11217.3 | G292: 11217.3 | H292: 11217.3 | I292: 11217.3 | J292: 11217.3 | K292: 11022.67 | L292: 11217.3 | M292: 11217.3 | N292: 11217.3 | O292: 11217.3 | P292: 0 | Q292: 0 | R292: 0
A293: ІХ. ЗАКОН УКРАЇНИ “ПРО ДЕРЖАВНУ ПІДТРИМКУ ЗАСОБІВ МАСОВОЇ ІНФОРМАЦІЇ ТА СОЦІАЛЬНИЙ ЗАХИСТ ЖУРНАЛІСТІВ”
A294: Всього пенсіонерів (рядки 263+264+269) | B294: 262 | C294: 6 | D294: 43323.79 | E294: 38794.9 | F294: 43323.79 | G294: 43323.79 | H294: 43323.79 | I294: 46123.79 | J294: 7220.63 | K294: 6465.82 | L294: 7220.63 | M294: 7220.63 | N294: 7220.63 | O294: 7687.3 | P294: 0 | Q294: 0 | R294: 0
A295: з них: 1. За віком | B295: 263 | C295: 5 | D295: 38480.86 | E295: 34107.67 | F295: 38480.86 | G295: 38480.86 | H295: 38480.86 | I295: 40824.86 | J295: 7696.17 | K295: 6821.53 | L295: 7696.17 | M295: 7696.17 | N295: 7696.17 | O295: 8164.97 | P295: 0 | Q295: 0 | R295: 0
A296: 2. По інвалідності (265+266=267+268) | B296: 264 | C296: 0 | D296: 0 | E296: 0 | F296: 0 | G296: 0 | H296: 0 | I296: 0 | J296: 0 | K296: 0 | L296: 0 | M296: 0 | N296: 0 | O296: 0 | P296: 0 | Q296: 0 | R296: 0
A297: у тому числі: І групи | B297: 265 | C297: 0 | D297: 0 | E297: 0 | F297: 0 | G297: 0 | H297: 0 | I297: 0 | J297: 0 | K297: 0 | L297: 0 | M297: 0 | N297: 0 | O297: 0 | P297: 0 | Q297: 0 | R297: 0
A298: ІІ групи | B298: 266 | C298: 0 | D298: 0 | E298: 0 | F298: 0 | G298: 0 | H298: 0 | I298: 0 | J298: 0 | K298: 0 | L298: 0 | M298: 0 | N298: 0 | O298: 0 | P298: 0 | Q298: 0 | R298: 0
A299: Із загального числа пенсіонерів за інвалідністю (рядок 264) – інваліди праці | B299: 267 | C299: 0 | D299: 0 | E299: 0 | F299: 0 | G299: 0 | H299: 0 | I299: 0 | J299: 0 | K299: 0 | L299: 0 | M299: 0 | N299: 0 | O299: 0 | P299: 0 | Q299: 0 | R299: 0
A300: – інваліди війни | B300: 268 | C300: 0 | D300: 0 | E300: 0 | F300: 0 | G300: 0 | H300: 0 | I300: 0 | J300: 0 | K300: 0 | L300: 0 | M300: 0 | N300: 0 | O300: 0 | P300: 0 | Q300: 0 | R300: 0
A301: 3. У разі втрати годувальника (особи) | B301: 269 | C301: 1 | D301: 4842.93 | E301: 4687.23 | F301: 4842.93 | G301: 4842.93 | H301: 4842.93 | I301: 5298.93 | J301: 4842.93 | K301: 4687.23 | L301: 4842.93 | M301: 4842.93 | N301: 4842.93 | O301: 5298.93 | P301: 0 | Q301: 0 | R301: 0
A302: Х . ЗАКОН УКРАЇНИ "ПРО СЛУЖБУ В ОРГАНАХ МІСЦЕВОГО САМОВРЯДУВАННЯ"
A303: Всього пенсіонерів (рядки 271+272+277) | B303: 270 | C303: 51 | D303: 247085.02 | E303: 221520.32 | F303: 247085.02 | G303: 247085.02 | H303: 247085.02 | I303: 265561.98 | J303: 4844.8 | K303: 4343.54 | L303: 4844.8 | M303: 4844.8 | N303: 4844.8 | O303: 5207.1 | P303: 0 | Q303: 0 | R303: 0
A304: з них: 1. За віком | B304: 271 | C304: 45 | D304: 219699.75 | E304: 197146.99 | F304: 219699.75 | G304: 219699.75 | H304: 219699.75 | I304: 235415.86 | J304: 4882.22 | K304: 4381.04 | L304: 4882.22 | M304: 4882.22 | N304: 4882.22 | O304: 5231.46 | P304: 0 | Q304: 0 | R304: 0
A305: 2. По інвалідності (273+274=275+276) | B305: 272 | C305: 0 | D305: 0 | E305: 0 | F305: 0 | G305: 0 | H305: 0 | I305: 0 | J305: 0 | K305: 0 | L305: 0 | M305: 0 | N305: 0 | O305: 0 | P305: 0 | Q305: 0 | R305: 0
A306: у тому числі: І групи | B306: 273 | C306: 0 | D306: 0 | E306: 0 | F306: 0 | G306: 0 | H306: 0 | I306: 0 | J306: 0 | K306: 0 | L306: 0 | M306: 0 | N306: 0 | O306: 0 | P306: 0 | Q306: 0 | R306: 0
A307: ІІ групи | B307: 274 | C307: 0 | D307: 0 | E307: 0 | F307: 0 | G307: 0 | H307: 0 | I307: 0 | J307: 0 | K307: 0 | L307: 0 | M307: 0 | N307: 0 | O307: 0 | P307: 0 | Q307: 0 | R307: 0
A308: Із загального числа пенсіонерів за інвалідністю (рядок 272) – інваліди праці | B308: 275 | C308: 0 | D308: 0 | E308: 0 | F308: 0 | G308: 0 | H308: 0 | I308: 0 | J308: 0 | K308: 0 | L308: 0 | M308: 0 | N308: 0 | O308: 0 | P308: 0 | Q308: 0 | R308: 0
A309: – інваліди війни | B309: 276 | C309: 0 | D309: 0 | E309: 0 | F309: 0 | G309: 0 | H309: 0 | I309: 0 | J309: 0 | K309: 0 | L309: 0 | M309: 0 | N309: 0 | O309: 0 | P309: 0 | Q309: 0 | R309: 0
A310: 3. У разі втрати годувальника (особи) | B310: 277 | C310: 6 | D310: 27385.27 | E310: 24373.33 | F310: 27385.27 | G310: 27385.27 | H310: 27385.27 | I310: 30146.12 | J310: 4564.21 | K310: 4062.22 | L310: 4564.21 | M310: 4564.21 | N310: 4564.21 | O310: 5024.35 | P310: 0 | Q310: 0 | R310: 0
...

Sheet Контроль 6pf
B1: Контроль рядків | I1: Контроль рядків
B2: Чисельність | I2: Сума | J2: Графа 7
D3: Условие | G3: Результат | K3: Условие | N3: Результат
B4: 1 | C4: ='6pf'!C6 -> 257398 | D4: = | E4: 5+167+195+236+244+252+253+254+262+270+279+282+291+299+300+301+3001 | F4: ='6pf'!C11+'6pf'!C190+'6pf'!C220+'6pf'!C262+'6pf'!C272+'6pf'!C281+'6pf'!C283+'6pf'!C285+'6pf'!C294+'6pf'!C303+'6pf'!C313+'6pf'!C322+'6pf'!C332+'6pf'!C341+'6pf'!C346+'6pf'!C348+'6pf'!C358 -> 257398 | G4: =IF(C4=F4,"+","-") -> + | I4: 1 | J4: ='6pf'!I6 -> 1.1906184e+09 | K4: = | L4: 5+167+195+236+244+252+253+254+262+270+279+282+291+299+300+301+3001 | M4: ='6pf'!I11+'6pf'!I190+'6pf'!I220+'6pf'!I262+'6pf'!I272+'6pf'!I281+'6pf'!I283+'6pf'!I285+'6pf'!I294+'6pf'!I303+'6pf'!I313+'6pf'!I322+'6pf'!I332+'6pf'!I341+'6pf'!I346+'6pf'!I348+'6pf'!I358 -> 1.1906184e+09 | N4: =IF(J4=M4,"+","-") -> +
B5: 4 | C5: ='6pf'!C9 -> 153027 | D5: = | E5: 58+115+134+150+172+177+194+217+233+317 | F5: ='6pf'!C70+'6pf'!C131+'6pf'!C151+'6pf'!C174+'6pf'!C196+'6pf'!C201+'6pf'!C218+'6pf'!C242+'6pf'!C258+'6pf'!C377 -> 153027 | G5: =IF(C5=F5,"+","-") -> + | I5: 4 | J5: ='6pf'!I9 -> 6.5493125e+08 | K5: = | L5: 58+115+134+150+172+177+194+217+233+317 | M5: ='6pf'!I70+'6pf'!I131+'6pf'!I151+'6pf'!I174+'6pf'!I196+'6pf'!I201+'6pf'!I218+'6pf'!I242+'6pf'!I258+'6pf'!I377 -> 6.5493125e+08 | N5: =IF(J5=M5,"+","-") -> +
B6: 5 | C6: ='6pf'!C11 -> 252915 | D6: = | E6: 6+110+128+135 | F6: ='6pf'!C12+'6pf'!C118+'6pf'!C144+'6pf'!C158 -> 252915 | G6: =IF(C6=F6,"+","-") -> + | I6: 5 | J6: ='6pf'!I11 -> 1.137849e+09 | K6: = | L6: 6+110+128+135 | M6: ='6pf'!I12+'6pf'!I118+'6pf'!I144+'6pf'!I158 -> 1.137849e+09 | N6: =IF(J6=M6,"+","-") -> +
B7: 6 | C7: ='6pf'!C12 -> 195654 | D7: = | E7: 7+8+9+10+11+12 | F7: =SUM('6pf'!C13:C18) -> 195654 | G7: =IF(C7=F7,"+","-") -> + | I7: 6 | J7: ='6pf'!I12 -> 9.3543673e+08 | K7: = | L7: 7+8+9+10+11+12 | M7: =SUM('6pf'!I13:I18) -> 9.3543673e+08 | N7: =IF(J7=M7,"+","-") -> +
B8: 6 | C8: ='6pf'!C12 -> 195654 | D8: = | E8: 59+60+61+62+63+64+65+66+67+68 | F8: =SUM('6pf'!C71:C80) -> 195654 | G8: =IF(C8=F8,"+","-") -> + | I8: 6 | J8: ='6pf'!I12 -> 9.3543673e+08 | K8: = | L8: 59+60+61+62+63+64+65+66+67+68 | M8: =SUM('6pf'!I71:I80) -> 9.3543673e+08 | N8: =IF(J8=M8,"+","-") -> +
B9: 16 | C9: ='6pf'!C24 -> 22902 | D9: = | E9: 17+21+25+29+30+31+32+33+34+35+39+46+49+52+55 | F9: ='6pf'!C25+'6pf'!C32+'6pf'!C36+'6pf'!C40+'6pf'!C41+'6pf'!C42+'6pf'!C43+'6pf'!C44+'6pf'!C45+'6pf'!C46+'6pf'!C50+'6pf'!C57+'6pf'!C61+'6pf'!C64+'6pf'!C67 -> 22902 | G9: =IF(C9=F9,"+","-") -> + | I9: 16 | J9: ='6pf'!I24 -> 1.1393332e+08 | K9: = | L9: 17+21+25+29+30+31+32+33+34+35+39+46+49+52+55 | M9: ='6pf'!I25+'6pf'!I32+'6pf'!I36+'6pf'!I40+'6pf'!I41+'6pf'!I42+'6pf'!I43+'6pf'!I44+'6pf'!I45+'6pf'!I46+'6pf'!I50+'6pf'!I57+'6pf'!I61+'6pf'!I64+'6pf'!I67 -> 1.1393332e+08 | N9: =IF(J9=M9,"+","-") -> +
B10: 69 | C10: ='6pf'!C81 -> 148434 | D10: = | E10: 70+71+72+73+74+75+76+77+78+79+80+81+82+83+84+85 | F10: =SUM('6pf'!C82:C97) -> 148434 | G10: =IF(C10=F10,"+","-") -> + | I10: 69 | J10: ='6pf'!I81 -> 7.7380722e+08 | K10: = | L10: 70+71+72+73+74+75+76+77+78+79+80+81+82+83+84+85 | M10: =SUM('6pf'!I82:I97) -> 7.7380722e+08 | N10: =IF(J10=M10,"+","-") -> +
B11: 86 | C11: ='6pf'!C98 -> 0 | D11: = | E11: 86 | F11: ='6pf'!C98 -> 0 | G11: =IF(C11=F11,"+","-") -> + | I11: 86 | J11: ='6pf'!I98 -> 0 | K11: = | L11: 86 | M11: ='6pf'!I98 -> 0 | N11: =IF(J11=M11,"+","-") -> +
B12: 97 | C12: ='6pf'!C105 -> 0 | D12: = | E12: 98+99+100+101 | F12: ='6pf'!C106+'6pf'!C107+'6pf'!C108+'6pf'!C109 -> 0 | G12: =IF(C12=F12,"+","-") -> + | I12: 97 | J12: ='6pf'!I105 -> 0 | K12: = | L12: 98+99+100+101 | M12: ='6pf'!I106+'6pf'!I107+'6pf'!I108+'6pf'!I109 -> 0 | N12: =IF(J12=M12,"+","-") -> +
B13: 102 | C13: ='6pf'!C110 -> 77 | D13: = | E13: 103+104+105 | F13: ='6pf'!C111+'6pf'!C112+'6pf'!C113 -> 77 | G13: =IF(C13=F13,"+","-") -> + | I13: 102 | J13: ='6pf'!I110 -> 1287457.7 | K13: = | L13: 103+104+105 | M13: ='6pf'!I111+'6pf'!I112+'6pf'!I113 -> 1287457.7 | N13: =IF(J13=M13,"+","-") -> +
B14: 106 | C14: ='6pf'!C114 -> 14037 | D14: = | E14: 107+108+109 | F14: ='6pf'!C115+'6pf'!C116+'6pf'!C117 -> 14037 | G14: =IF(C14=F14,"+","-") -> + | I14: 106 | J14: ='6pf'!I114 -> 76399944 | K14: = | L14: 107+108+109 | M14: ='6pf'!I115+'6pf'!I116+'6pf'!I117 -> 76399944 | N14: =IF(J14=M14,"+","-") -> +
B15: 110 | C15: ='6pf'!C118 -> 41755 | D15: = | E15: 111+112+113 | F15: ='6pf'!C119+'6pf'!C120+'6pf'!C121 -> 41755 | G15: =IF(C15=F15,"+","-") -> + | I15: 110 | J15: ='6pf'!I118 -> 1.4623214e+08 | K15: = | L15: 111+112+113 | M15: ='6pf'!I119+'6pf'!I120+'6pf'!I121 -> 1.4623214e+08 | N15: =IF(J15=M15,"+","-") -> +
B16: 110 | C16: ='6pf'!C118 -> 41755 | D16: = | E16: 117+119+123 | F16: ='6pf'!C133+'6pf'!C135+'6pf'!C139 -> 41755 | G16: =IF(C16=F16,"+","-") -> + | I16: 110 | J16: ='6pf'!I118 -> 1.4623214e+08 | K16: = | L16: 117+119+123 | M16: ='6pf'!I133+'6pf'!I135+'6pf'!I139 -> 1.4623214e+08 | N16: =IF(J16=M16,"+","-") -> +
B17: 1131 | C17: ='6pf'!C122 -> 3423 | D17: = | E17: 1132+1133+1134 | F17: ='6pf'!C123+'6pf'!C124+'6pf'!C125 -> 3423 | G17: =IF(C17=F17,"+","-") -> + | I17: 1131 | J17: ='6pf'!I122 -> 8882685 | K17: = | L17: 1132+1133+1134 | M17: ='6pf'!I123+'6pf'!I124+'6pf'!I125 -> 8882685 | N17: =IF(J17=M17,"+","-") -> +
B18: 1135 | C18: ='6pf'!C126 -> 5 | D18: = | E18: 1136+1137+1138 | F18: ='6pf'!C127+'6pf'!C128+'6pf'!C129 -> 5 | G18: =IF(C18=F18,"+","-") -> + | I18: 1135 | J18: ='6pf'!I126 -> 12975 | K18: = | L18: 1136+1137+1138 | M18: ='6pf'!I127+'6pf'!I128+'6pf'!I129 -> 12975 | N18: =IF(J18=M18,"+","-") -> +
B19: 119 | C19: ='6pf'!C135 -> 125 | D19: = | E19: 120+121+122 | F19: ='6pf'!C136+'6pf'!C137+'6pf'!C138 -> 125 | G19: =IF(C19=F19,"+","-") -> + | I19: 119 | J19: ='6pf'!I135 -> 1563310.9 | K19: = | L19: 120+121+122 | M19: ='6pf'!I136+'6pf'!I137+'6pf'!I138 -> 1563310.9 | N19: =IF(J19=M19,"+","-") -> +
B20: 128 | C20: ='6pf'!C144 -> 10667 | D20: = | E20: 129+130+131 | F20: ='6pf'!C145+'6pf'!C146+'6pf'!C147 -> 10667 | G20: =IF(C20=F20,"+","-") -> + | I20: 128 | J20: ='6pf'!I144 -> 34843739 | K20: = | L20: 129+130+131 | M20: ='6pf'!I145+'6pf'!I146+'6pf'!I147 -> 34843739 | N20: =IF(J20=M20,"+","-") -> +
B21: 1341 | C21: ='6pf'!C152 -> 5375 | D21: = | E21: 1342+1343+1344 | F21: ='6pf'!C153+'6pf'!C154+'6pf'!C155 -> 5375 | G21: =IF(C21=F21,"+","-") -> + | I21: 1341 | J21: ='6pf'!I152 -> 16971413 | K21: = | L21: 1342+1343+1344 | M21: ='6pf'!I153+'6pf'!I154+'6pf'!I155 -> 16971413 | N21: =IF(J21=M21,"+","-") -> +
B22: 1341 | C22: ='6pf'!C152 -> 5375 | D22: = | E22: 1345+1346 | F22: ='6pf'!C156+'6pf'!C157 -> 5375 | G22: =IF(C22=F22,"+","-") -> + | I22: 1341 | J22: ='6pf'!I152 -> 16971413 | K22: = | L22: 1345+1346 | M22: ='6pf'!I156+'6pf'!I157 -> 16971413 | N22: =IF(J22=M22,"+","-") -> +
B23: 135 | C23: ='6pf'!C158 -> 4839 | D23: = | E23: 136+140+141+142+143+144+145+146+1461+147+148+149 | F23: ='6pf'!C159+'6pf'!C163+'6pf'!C164+'6pf'!C165+'6pf'!C166+'6pf'!C167+'6pf'!C168+'6pf'!C169+'6pf'!C170+'6pf'!C171+'6pf'!C172+'6pf'!C173 -> 4839 | G23: =IF(C23=F23,"+","-") -> + | I23: 135 | J23: ='6pf'!I158 -> 21336399 | K23: = | L23: 136+140+141+142+143+144+145+146+1461+147+148+149 | M23: ='6pf'!I159+'6pf'!I163+'6pf'!I164+'6pf'!I165+'6pf'!I166+'6pf'!I167+'6pf'!I168+'6pf'!I169+'6pf'!I170+'6pf'!I171+'6pf'!I172+'6pf'!I173 -> 21336399 | N23: =IF(J23=M23,"+","-") -> +
B24: 136 | C24: ='6pf'!C159 -> 45 | D24: = | E24: 137+138+139 | F24: ='6pf'!C160+'6pf'!C161+'6pf'!C162 -> 45 | G24: =IF(C24=F24,"+","-") -> + | I24: 136 | J24: ='6pf'!I159 -> 1023460 | K24: = | L24: 137+138+139 | M24: ='6pf'!I160+'6pf'!I161+'6pf'!I162 -> 1023460 | N24: =IF(J24=M24,"+","-") -> +
B25: 153 | C25: ='6pf'!C177 -> 161 | D25: = | E25: 154+155+156 | F25: ='6pf'!C178+'6pf'!C179+'6pf'!C180 -> 161 | G25: =IF(C25=F25,"+","-") -> + | I25: 153 | J25: ='6pf'!I177 -> 990558.44 | K25: = | L25: 154+155+156 | M25: ='6pf'!I178+'6pf'!I179+'6pf'!I180 -> 990558.44 | N25: =IF(J25=M25,"+","-") -> +
B26: 153 | C26: ='6pf'!C177 -> 161 | D26: = | E26: 157+158 | F26: ='6pf'!C181+'6pf'!C182 -> 161 | G26: =IF(C26=F26,"+","-") -> + | I26: 153 | J26: ='6pf'!I177 -> 990558.44 | K26: = | L26: 157+158 | M26: ='6pf'!I181+'6pf'!I182 -> 990558.44 | N26: =IF(J26=M26,"+","-") -> +
B27: 167 | C27: ='6pf'!C190 -> 1270 | D27: = | E27: 168+173+178 | F27: ='6pf'!C191+'6pf'!C197+'6pf'!C202 -> 1270 | G27: =IF(C27=F27,"+","-") -> + | I27: 167 | J27: ='6pf'!I190 -> 3792004 | K27: = | L27: 168+173+178 | M27: ='6pf'!I191+'6pf'!I197+'6pf'!I202 -> 3792004 | N27: =IF(J27=M27,"+","-") -> +
B28: 168 | C28: ='6pf'!C191 -> 1 | D28: = | E28: 169+170+171 | F28: ='6pf'!C192+'6pf'!C193+'6pf'!C194 -> 1 | G28: =IF(C28=F28,"+","-") -> + | I28: 168 | J28: ='6pf'!I191 -> 3038 | K28: = | L28: 169+170+171 | M28: ='6pf'!I192+'6pf'!I193+'6pf'!I194 -> 3038 | N28: =IF(J28=M28,"+","-") -> +
B29: 173 | C29: ='6pf'!C197 -> 1 | D29: = | E29: 174+175+176 | F29: ='6pf'!C198+'6pf'!C199+'6pf'!C200 -> 1 | G29: =IF(C29=F29,"+","-") -> + | I29: 173 | J29: ='6pf'!I197 -> 3051 | K29: = | L29: 174+175+176 | M29: ='6pf'!I198+'6pf'!I199+'6pf'!I200 -> 3051 | N29: =IF(J29=M29,"+","-") -> +
B30: 178 | C30: ='6pf'!C202 -> 1268 | D30: = | E30: 179+183+184+190+192+193 | F30: ='6pf'!C203+'6pf'!C207+'6pf'!C208+'6pf'!C214+'6pf'!C216+'6pf'!C217 -> 1268 | G30: =IF(C30=F30,"+","-") -> + | I30: 178 | J30: ='6pf'!I202 -> 3785915 | K30: = | L30: 179+183+184+190+192+193 | M30: ='6pf'!I203+'6pf'!I207+'6pf'!I208+'6pf'!I214+'6pf'!I216+'6pf'!I217 -> 3785915 | N30: =IF(J30=M30,"+","-") -> +
B31: 179 | C31: ='6pf'!C203 -> 949 | D31: = | E31: 180+181+182 | F31: ='6pf'!C204+'6pf'!C205+'6pf'!C206 -> 949 | G31: =IF(C31=F31,"+","-") -> + | I31: 179 | J31: ='6pf'!I203 -> 2840788 | K31: = | L31: 180+181+182 | M31: ='6pf'!I204+'6pf'!I205+'6pf'!I206 -> 2840788 | N31: =IF(J31=M31,"+","-") -> +
B32: 184 | C32: ='6pf'!C208 -> 282 | D32: = | E32: 185+186+187 | F32: ='6pf'!C209+'6pf'!C210+'6pf'!C211 -> 282 | G32: =IF(C32=F32,"+","-") -> + | I32: 184 | J32: ='6pf'!I208 -> 830940 | K32: = | L32: 185+186+187 | M32: ='6pf'!I209+'6pf'!I210+'6pf'!I211 -> 830940 | N32: =IF(J32=M32,"+","-") -> +
B33: 195 | C33: ='6pf'!C220 -> 1098 | D33: = | E33: 196+229 | F33: ='6pf'!C221+'6pf'!C254 -> 1098 | G33: =IF(C33=F33,"+","-") -> + | I33: 195 | J33: ='6pf'!I220 -> 11528793 | K33: = | L33: 196+229 | M33: ='6pf'!I221+'6pf'!I254 -> 11528793 | N33: =IF(J33=M33,"+","-") -> +
B34: 196 | C34: ='6pf'!C221 -> 903 | D34: = | E34: 197+198+199 | F34: ='6pf'!C222+'6pf'!C223+'6pf'!C224 -> 903 | G34: =IF(C34=F34,"+","-") -> + | I34: 196 | J34: ='6pf'!I221 -> 10192162 | K34: = | L34: 197+198+199 | M34: ='6pf'!I222+'6pf'!I223+'6pf'!I224 -> 10192162 | N34: =IF(J34=M34,"+","-") -> +
B35: 196 | C35: ='6pf'!C221 -> 903 | D35: = | E35: 200+207 | F35: ='6pf'!C225+'6pf'!C232 -> 903 | G35: =IF(C35=F35,"+","-") -> + | I35: 196 | J35: ='6pf'!I221 -> 10192162 | K35: = | L35: 200+207 | M35: ='6pf'!I225+'6pf'!I232 -> 10192162 | N35: =IF(J35=M35,"+","-") -> +
B36: 200 | C36: ='6pf'!C225 -> 707 | D36: = | E36: 201+203+205 | F36: ='6pf'!C226+'6pf'!C228+'6pf'!C230 -> 707 | G36: =IF(C36=F36,"+","-") -> + | I36: 200 | J36: ='6pf'!I225 -> 8884616.2 | K36: = | L36: 201+203+205 | M36: ='6pf'!I226+'6pf'!I228+'6pf'!I230 -> 8884616.2 | N36: =IF(J36=M36,"+","-") -> +
B37: 207 | C37: ='6pf'!C232 -> 196 | D37: = | E37: 208+210+212 | F37: ='6pf'!C233+'6pf'!C235+'6pf'!C237 -> 196 | G37: =IF(C37=F37,"+","-") -> + | I37: 207 | J37: ='6pf'!I232 -> 1307545.9 | K37: = | L37: 208+210+212 | M37: ='6pf'!I233+'6pf'!I235+'6pf'!I237 -> 1307545.9 | N37: =IF(J37=M37,"+","-") -> +
B38: 225 | C38: ='6pf'!C247 -> 18 | D38: = | E38: 226+227+228 | F38: ='6pf'!C248+'6pf'!C249+'6pf'!C250 -> 18 | G38: =IF(C38=F38,"+","-") -> + | I38: 225 | J38: ='6pf'!I247 -> 142343.89 | K38: = | L38: 226+227+228 | M38: ='6pf'!I248+'6pf'!I249+'6pf'!I250 -> 142343.89 | N38: =IF(J38=M38,"+","-") -> +
B39: 229 | C39: ='6pf'!C254 -> 195 | D39: = | E39: 230+231+232 | F39: ='6pf'!C255+'6pf'!C256+'6pf'!C257 -> 195 | G39: =IF(C39=F39,"+","-") -> + | I39: 229 | J39: ='6pf'!I254 -> 1336630.5 | K39: = | L39: 230+231+232 | M39: ='6pf'!I255+'6pf'!I256+'6pf'!I257 -> 1336630.5 | N39: =IF(J39=M39,"+","-") -> +
B40: 236 | C40: ='6pf'!C262 -> 819 | D40: = | E40: 237+238+243 | F40: ='6pf'!C263+'6pf'!C264+'6pf'!C270 -> 819 | G40: =IF(C40=F40,"+","-") -> + | I40: 236 | J40: ='6pf'!I262 -> 10560637 | K40: = | L40: 237+238+243 | M40: ='6pf'!I263+'6pf'!I264+'6pf'!I270 -> 10560637 | N40: =IF(J40=M40,"+","-") -> +
B41: 238 | C41: ='6pf'!C264 -> 4 | D41: = | E41: 239+240+2401 | F41: ='6pf'!C265+'6pf'!C266+'6pf'!C267 -> 4 | G41: =IF(C41=F41,"+","-") -> + | I41: 238 | J41: ='6pf'!I264 -> 28664.57 | K41: = | L41: 239+240+2401 | M41: ='6pf'!I265+'6pf'!I266+'6pf'!I267 -> 28664.57 | N41: =IF(J41=M41,"+","-") -> +
B42: 238 | C42: ='6pf'!C264 -> 4 | D42: = | E42: 241+242 | F42: ='6pf'!C268+'6pf'!C269 -> 4 | G42: =IF(C42=F42,"+","-") -> + | I42: 238 | J42: ='6pf'!I264 -> 28664.57 | K42: = | L42: 241+242 | M42: ='6pf'!I268+'6pf'!I269 -> 28664.57 | N42: =IF(J42=M42,"+","-") -> +
B43: 244 | C43: ='6pf'!C272 -> 0 | D43: = | E43: 245+246+251 | F43: ='6pf'!C273+'6pf'!C274+'6pf'!C279 -> 0 | G43: =IF(C43=F43,"+","-") -> + | I43: 244 | J43: ='6pf'!I272 -> 0 | K43: = | L43: 245+246+251 | M43: ='6pf'!I273+'6pf'!I274+'6pf'!I279 -> 0 | N43: =IF(J43=M43,"+","-") -> +
B44: 246 | C44: ='6pf'!C274 -> 0 | D44: = | E44: 247+248 | F44: =SUM('6pf'!C275:C276) -> 0 | G44: =IF(C44=F44,"+","-") -> + | I44: 246 | J44: ='6pf'!I274 -> 0 | K44: = | L44: 247+248 | M44: =SUM('6pf'!I275:I276) -> 0 | N44: =IF(J44=M44,"+","-") -> +
B45: 246 | C45: ='6pf'!C274 -> 0 | D45: = | E45: 249+250 | F45: =SUM('6pf'!C277:C278) -> 0 | G45: =IF(C45=F45,"+","-") -> + | I45: 246 | J45: ='6pf'!I274 -> 0 | K45: = | L45: 249+250 | M45: =SUM('6pf'!I277:I278) -> 0 | N45: =IF(J45=M45,"+","-") -> +
B46: 254 | C46: ='6pf'!C285 -> 1 | D46: = | E46: 255+256+261 | F46: ='6pf'!C286+'6pf'!C287+'6pf'!C292 -> 1 | G46: =IF(C46=F46,"+","-") -> + | I46: 254 | J46: ='6pf'!I285 -> 11217.3 | K46: = | L46: 255+256+261 | M46: ='6pf'!I286+'6pf'!I287+'6pf'!I292 -> 11217.3 | N46: =IF(J46=M46,"+","-") -> +
B47: 256 | C47: ='6pf'!C287 -> 0 | D47: = | E47: 257+258 | F47: ='6pf'!C288+'6pf'!C289 -> 0 | G47: =IF(C47=F47,"+","-") -> + | I47: 256 | J47: ='6pf'!I287 -> 0 | K47: = | L47: 257+258 | M47: ='6pf'!I288+'6pf'!I289 -> 0 | N47: =IF(J47=M47,"+","-") -> +
B48: 256 | C48: ='6pf'!C287 -> 0 | D48: = | E48: 259+260 | F48: ='6pf'!C290+'6pf'!C291 -> 0 | G48: =IF(C48=F48,"+","-") -> + | I48: 256 | J48: ='6pf'!I287 -> 0 | K48: = | L48: 259+260 | M48: ='6pf'!I290+'6pf'!I291 -> 0 | N48: =IF(J48=M48,"+","-") -> +
B49: 262 | C49: ='6pf'!C294 -> 6 | D49: = | E49: 263+264+269 | F49: ='6pf'!C295+'6pf'!C296+'6pf'!C301 -> 6 | G49: =IF(C49=F49,"+","-") -> + | I49: 262 | J49: ='6pf'!I294 -> 46123.79 | K49: = | L49: 263+264+269 | M49: ='6pf'!I295+'6pf'!I296+'6pf'!I301 -> 46123.79 | N49: =IF(J49=M49,"+","-") -> +
B50: 264 | C50: ='6pf'!C296 -> 0 | D50: = | E50: 265+266 | F50: ='6pf'!C297+'6pf'!C298 -> 0 | G50: =IF(C50=F50,"+","-") -> + | I50: 264 | J50: ='6pf'!I296 -> 0 | K50: = | L50: 265+266 | M50: ='6pf'!I297+'6pf'!I298 -> 0 | N50: =IF(J50=M50,"+","-") -> +
B51: 264 | C51: ='6pf'!C296 -> 0 | D51: = | E51: 267+268 | F51: ='6pf'!C299+'6pf'!C300 -> 0 | G51: =IF(C51=F51,"+","-") -> + | I51: 264 | J51: ='6pf'!I296 -> 0 | K51: = | L51: 267+268 | M51: ='6pf'!I299+'6pf'!I300 -> 0 | N51: =IF(J51=M51,"+","-") -> +
B52: 270 | C52: ='6pf'!C303 -> 51 | D52: = | E52: 271+272+277 | F52: ='6pf'!C304+'6pf'!C305+'6pf'!C310 -> 51 | G52: =IF(C52=F52,"+","-") -> + | I52: 270 | J52: ='6pf'!I303 -> 265561.98 | K52: = | L52: 271+272+277 | M52: ='6pf'!I304+'6pf'!I305+'6pf'!I310 -> 265561.98 | N52: =IF(J52=M52,"+","-") -> +
B53: 272 | C53: ='6pf'!C305 -> 0 | D53: = | E53: 273+274 | F53: ='6pf'!C306+'6pf'!C307 -> 0 | G53: =IF(C53=F53,"+","-") -> + | I53: 272 | J53: ='6pf'!I305 -> 0 | K53: = | L53: 273+274 | M53: ='6pf'!I306+'6pf'!I307 -> 0 | N53: =IF(J53=M53,"+","-") -> +
B54: 272 | C54: ='6pf'!C305 -> 0 | D54: = | E54: 275+276 | F54: ='6pf'!C308+'6pf'!C309 -> 0 | G54: =IF(C54=F54,"+","-") -> + | I54: 272 | J54: ='6pf'!I305 -> 0 | K54: = | L54: 275+276 | M54: ='6pf'!I308+'6pf'!I309 -> 0 | N54: =IF(J54=M54,"+","-") -> +
B55: 279 | C55: ='6pf'!C313 -> 2 | D55: = | E55: 280+2801+281 | F55: ='6pf'!C314+'6pf'!C315+'6pf'!C320 -> 2 | G55: =IF(C55=F55,"+","-") -> + | I55: 279 | J55: ='6pf'!I313 -> 18071.94 | K55: = | L55: 280+2801+281 | M55: ='6pf'!I314+'6pf'!I315+'6pf'!I320 -> 18071.94 | N55: =IF(J55=M55,"+","-") -> +
B56: 2801 | C56: ='6pf'!C315 -> 0 | D56: = | E56: 2802+2803 | F56: ='6pf'!C316+'6pf'!C317 -> 0 | G56: =IF(C56=F56,"+","-") -> + | I56: 2801 | J56: ='6pf'!I315 -> 0 | K56: = | L56: 2802+2803 | M56: ='6pf'!I316+'6pf'!I317 -> 0 | N56: =IF(J56=M56,"+","-") -> +
B57: 2801 | C57: ='6pf'!C315 -> 0 | D57: = | E57: 2804+2805 | F57: ='6pf'!C318+'6pf'!C319 -> 0 | G57: =IF(C57=F57,"+","-") -> + | I57: 2801 | J57: ='6pf'!I315 -> 0 | K57: = | L57: 2804+2805 | M57: ='6pf'!I318+'6pf'!I319 -> 0 | N57: =IF(J57=M57,"+","-") -> +
B58: 282 | C58: ='6pf'!C322 -> 0 | D58: = | E58: 283+284+290 | F58: ='6pf'!C323+'6pf'!C324+'6pf'!C330 -> 0 | G58: =IF(C58=F58,"+","-") -> + | I58: 282 | J58: ='6pf'!I322 -> 0 | K58: = | L58: 283+284+290 | M58: ='6pf'!I323+'6pf'!I324+'6pf'!I330 -> 0 | N58: =IF(J58=M58,"+","-") -> +
B59: 284 | C59: ='6pf'!C324 -> 0 | D59: = | E59: 285+286+287 | F59: =SUM('6pf'!C325:C327) -> 0 | G59: =IF(C59=F59,"+","-") -> + | I59: 284 | J59: ='6pf'!I324 -> 0 | K59: = | L59: 285+286+287 | M59: =SUM('6pf'!I325:I327) -> 0 | N59: =IF(J59=M59,"+","-") -> +
B60: 284 | C60: ='6pf'!C324 -> 0 | D60: = | E60: 288+289 | F60: ='6pf'!C328+'6pf'!C329 -> 0 | G60: =IF(C60=F60,"+","-") -> + | I60: 284 | J60: ='6pf'!I324 -> 0 | K60: = | L60: 288+289 | M60: ='6pf'!I328+'6pf'!I329 -> 0 | N60: =IF(J60=M60,"+","-") -> +
B61: 291 | C61: ='6pf'!C332 -> 89 | D61: = | E61: 292+293+298 | F61: ='6pf'!C333+'6pf'!C334+'6pf'!C339 -> 89 | G61: =IF(C61=F61,"+","-") -> + | I61: 291 | J61: ='6pf'!I332 -> 1766188.1 | K61: = | L61: 292+293+298 | M61: ='6pf'!I333+'6pf'!I334+'6pf'!I339 -> 1766188.1 | N61: =IF(J61=M61,"+","-") -> +
B62: 293 | C62: ='6pf'!C334 -> 3 | D62: = | E62: 294+295 | F62: ='6pf'!C335+'6pf'!C336 -> 3 | G62: =IF(C62=F62,"+","-") -> + | I62: 293 | J62: ='6pf'!I334 -> 77850 | K62: = | L62: 294+295 | M62: ='6pf'!I335+'6pf'!I336 -> 77850 | N62: =IF(J62=M62,"+","-") -> +
B63: 293 | C63: ='6pf'!C334 -> 3 | D63: = | E63: 296+297 | F63: ='6pf'!C337+'6pf'!C338 -> 3 | G63: =IF(C63=F63,"+","-") -> + | I63: 293 | J63: ='6pf'!I334 -> 77850 | K63: = | L63: 296+297 | M63: ='6pf'!I337+'6pf'!I338 -> 77850 | N63: =IF(J63=M63,"+","-") -> +
B64: 299 | C64: ='6pf'!C341 -> 73 | D64: = | E64: 2991+2992+2993 | F64: =SUM('6pf'!C342:C344) -> 73 | G64: =IF(C64=F64,"+","-") -> + | I64: 299 | J64: ='6pf'!I341 -> 7900203.4 | K64: = | L64: 2991+2992+2993 | M64: =SUM('6pf'!I342:I344) -> 7900203.4 | N64: =IF(J64=M64,"+","-") -> +
B65: 3001 | C65: ='6pf'!C348 -> 0 | D65: = | E65: 3002+3003+3008 | F65: ='6pf'!C349+'6pf'!C350+'6pf'!C356 -> 0 | G65: =IF(C65=F65,"+","-") -> + | I65: 3001 | J65: ='6pf'!I348 -> 0 | K65: = | L65: 3002+3003+3008 | M65: ='6pf'!I349+'6pf'!I350+'6pf'!I356 -> 0 | N65: =IF(J65=M65,"+","-") -> +
B66: 3003 | C66: ='6pf'!C350 -> 0 | D66: = | E66: 3004+3005 | F66: ='6pf'!C351+'6pf'!C352 -> 0 | G66: =IF(C66=F66,"+","-") -> + | I66: 3003 | J66: ='6pf'!I350 -> 0 | K66: = | L66: 3004+3005 | M66: ='6pf'!I351+'6pf'!I352 -> 0 | N66: =IF(J66=M66,"+","-") -> +
B67: 3003 | C67: ='6pf'!C350 -> 0 | D67: = | E67: 3006+3007 | F67: ='6pf'!C354+'6pf'!C355 -> 0 | G67: =IF(C67=F67,"+","-") -> + | I67: 3003 | J67: ='6pf'!I350 -> 0 | K67: = | L67: 3006+3007 | M67: ='6pf'!I354+'6pf'!I355 -> 0 | N67: =IF(J67=M67,"+","-") -> +
B68: 301 | C68: ='6pf'!C358 -> 1072 | D68: = | E68: 302+310+312 | F68: ='6pf'!C359+'6pf'!C370+'6pf'!C372 -> 1072 | G68: =IF(C68=F68,"+","-") -> + | I68: 301 | J68: ='6pf'!I358 -> 16870456 | K68: = | L68: 302+310+312 | M68: ='6pf'!I359+'6pf'!I370+'6pf'!I372 -> 16870456 | N68: =IF(J68=M68,"+","-") -> +
B69: 302 | C69: ='6pf'!C359 -> 914 | D69: = | E69: 304+306+308 | F69: ='6pf'!C361+'6pf'!C364+'6pf'!C367 -> 914 | G69: =IF(C69=F69,"+","-") -> + | I69: 302 | J69: ='6pf'!I359 -> 14956683 | K69: = | L69: 304+306+308 | M69: ='6pf'!I361+'6pf'!I364+'6pf'!I367 -> 14956683 | N69: =IF(J69=M69,"+","-") -> +
B70: 303 | C70: ='6pf'!C360 -> 206 | D70: = | E70: 305+307+309 | F70: ='6pf'!C362+'6pf'!C365+'6pf'!C368 -> 206 | G70: =IF(C70=F70,"+","-") -> + | I70: 303 | J70: ='6pf'!I360 -> 2769777.9 | K70: = | L70: 305+307+309 | M70: ='6pf'!I362+'6pf'!I365+'6pf'!I368 -> 2769777.9 | N70: =IF(J70=M70,"+","-") -> +
B71: 312 | C71: ='6pf'!C372 -> 158 | D71: = | E71: 313+314+315 | F71: =SUM('6pf'!C373:C375) -> 158 | G71: =IF(C71=F71,"+","-") -> + | I71: 312 | J71: ='6pf'!I372 -> 1913772.9 | K71: = | L71: 313+314+315 | M71: =SUM('6pf'!I373:I375) -> 1913772.9 | N71: =IF(J71=M71,"+","-") -> +
B72: 318 | C72: ='6pf'!C379 -> 12229 | D72: = | E72: 319+320+321+322+323+324 | F72: =SUM('6pf'!C380:C385) -> 12229 | G72: =IF(C72=F72,"+","-") -> + | I72: 318 | J72: ='6pf'!I379 -> 69293318 | K72: = | L72: 319+320+321+322+323+324 | M72: =SUM('6pf'!I380:I385) -> 69293318 | N72: =IF(J72=M72,"+","-") -> +
B73: 318 | C73: ='6pf'!C379 -> 12229 | D73: = | E73: 325+333+343+348+354 | F73: ='6pf'!C386+'6pf'!C394+'6pf'!C404+'6pf'!C409+'6pf'!C415 -> 12229 | G73: =IF(C73=F73,"+","-") -> + | I73: 318 | J73: ='6pf'!I379 -> 69293318 | K73: = | L73: 325+333+343+348+354 | M73: ='6pf'!I386+'6pf'!I394+'6pf'!I404+'6pf'!I409+'6pf'!I415 -> 69293318 | N73: =IF(J73=M73,"+","-") -> +
B74: 325 | C74: ='6pf'!C386 -> 10514 | D74: = | E74: 326+327+328+329+330 | F74: =SUM('6pf'!C387:C391) -> 10514 | G74: =IF(C74=F74,"+","-") -> + | I74: 325 | J74: ='6pf'!I386 -> 50694487 | K74: = | L74: 326+327+328+329+330 | M74: =SUM('6pf'!I387:I391) -> 50694487 | N74: =IF(J74=M74,"+","-") -> +
B75: 333 | C75: ='6pf'!C394 -> 1314 | D75: = | E75: 334+335+336+337+338 | F75: =SUM('6pf'!C395:C399) -> 1314 | G75: =IF(C75=F75,"+","-") -> + | I75: 333 | J75: ='6pf'!I394 -> 16082411 | K75: = | L75: 334+335+336+337+338 | M75: =SUM('6pf'!I395:I399) -> 16082411 | N75: =IF(J75=M75,"+","-") -> +
B76: 333 | C76: ='6pf'!C394 -> 1314 | D76: = | E76: 339+340+341+342 | F76: =SUM('6pf'!C400:C403) -> 1314 | G76: =IF(C76=F76,"+","-") -> + | I76: 333 | J76: ='6pf'!I394 -> 16082411 | K76: = | L76: 339+340+341+342 | M76: =SUM('6pf'!I400:I403) -> 16082411 | N76: =IF(J76=M76,"+","-") -> +
B77: 343 | C77: ='6pf'!C404 -> 295 | D77: = | E77: 344+345+346+347 | F77: =SUM('6pf'!C405:C408) -> 295 | G77: =IF(C77=F77,"+","-") -> + | I77: 343 | J77: ='6pf'!I404 -> 2078183.6 | K77: = | L77: 344+345+346+347 | M77: =SUM('6pf'!I405:I408) -> 2078183.6 | N77: =IF(J77=M77,"+","-") -> +
B78: 348 | C78: ='6pf'!C409 -> 106 | D78: = | E78: 349+350+351+352+353 | F78: =SUM('6pf'!C410:C414) -> 106 | G78: =IF(C78=F78,"+","-") -> + | I78: 348 | J78: ='6pf'!I409 -> 438236.43 | K78: = | L78: 349+350+351+352+353 | M78: =SUM('6pf'!I410:I414) -> 438236.43 | N78: =IF(J78=M78,"+","-") -> +
B79: 354 | C79: ='6pf'!C415 -> 0 | D79: = | E79: 355+356+357+358 | F79: =SUM('6pf'!C416:C419) -> 0 | G79: =IF(C79=F79,"+","-") -> + | I79: 354 | J79: ='6pf'!I415 -> 0 | K79: = | L79: 355+356+357+358 | M79: =SUM('6pf'!I416:I419) -> 0 | N79: =IF(J79=M79,"+","-") -> +
B80: 359 | C80: ='6pf'!C420 -> 16 | D80: = | E80: 360+361+362+363 | F80: =SUM('6pf'!C421:C424) -> 16 | G80: =IF(C80=F80,"+","-") -> + | I80: 359 | J80: ='6pf'!I420 -> 203626.5 | K80: = | L80: 360+361+362+363 | M80: =SUM('6pf'!I421:I424) -> 203626.5 | N80: =IF(J80=M80,"+","-") -> +
B81: 364 | C81: ='6pf'!C426 -> 8469 | D81: <= | E81: 365+379+380+381 | F81: ='6pf'!C427+'6pf'!C451+'6pf'!C452+'6pf'!C453 -> 10322 | G81: =IF(C81<=F81,"+","-") -> + | I81: 364 | J81: ='6pf'!I426 -> 52370983 | K81: <= | L81: 365+379+380+381 | M81: ='6pf'!I427+'6pf'!I451+'6pf'!I452+'6pf'!I453 -> 74663582 | N81: =IF(J81<=M81,"+","-") -> +
B82: 365 | C82: ='6pf'!C427 -> 9290 | D82: = | E82: 366+376+378 | F82: ='6pf'!C428+'6pf'!C438+'6pf'!C450 -> 9290 | G82: =IF(C82=F82,"+","-") -> + | I82: 365 | J82: ='6pf'!I427 -> 68080365 | K82: = | L82: 366+376+378 | M82: ='6pf'!I428+'6pf'!I438+'6pf'!I450 -> 68080365 | N82: =IF(J82=M82,"+","-") -> +
B83: 366 | C83: ='6pf'!C428 -> 1206 | D83: = | E83: 367+368+369 | F83: =SUM('6pf'!C429:C431) -> 1206 | G83: =IF(C83=F83,"+","-") -> + | I83: 366 | J83: ='6pf'!I428 -> 18288157 | K83: = | L83: 367+368+369 | M83: =SUM('6pf'!I429:I431) -> 18288157 | N83: =IF(J83=M83,"+","-") -> +
B84: 370 | C84: ='6pf'!C432 -> 193 | D84: = | E84: 371+372+373 | F84: =SUM('6pf'!C433:C435) -> 193 | G84: =IF(C84=F84,"+","-") -> + | I84: 370 | J84: ='6pf'!I432 -> 3487663.8 | K84: = | L84: 371+372+373 | M84: =SUM('6pf'!I433:I435) -> 3487663.8 | N84: =IF(J84=M84,"+","-") -> +
B85: 3771 | C85: ='6pf'!C440 -> 3744 | D85: = | E85: 3772+3773+3774+3775 | F85: =SUM('6pf'!C441:C444) -> 3744 | G85: =IF(C85=F85,"+","-") -> + | I85: 3771 | J85: ='6pf'!I440 -> 36841662 | K85: = | L85: 3772+3773+3774+3775 | M85: =SUM('6pf'!I441:I444) -> 36841662 | N85: =IF(J85=M85,"+","-") -> +
B86: 3776 | C86: ='6pf'!C445 -> 2269 | D86: = | E86: 3777+3778+3779+37710 | F86: =SUM('6pf'!C446:C449) -> 2269 | G86: =IF(C86=F86,"+","-") -> + | I86: 3776 | J86: ='6pf'!I445 -> 18598071 | K86: = | L86: 3777+3778+3779+37710 | M86: =SUM('6pf'!I446:I449) -> 18598071 | N86: =IF(J86=M86,"+","-") -> +
B87: 402 | C87: ='6pf'!C476 -> 862 | D87: = | E87: 403+404 | F87: ='6pf'!C477+'6pf'!C478 -> 862 | G87: =IF(C87=F87,"+","-") -> + | I87: 402 | J87: ='6pf'!I476 -> 5134115.1 | K87: = | L87: 403+404 | M87: ='6pf'!I477+'6pf'!I478 -> 5134115.1 | N87: =IF(J87=M87,"+","-") -> +
B88: 4041 | C88: ='6pf'!C480 -> 13 | D88: <= | E88: 4042+4043+4047+40410+40411 | F88: ='6pf'!C481+'6pf'!C482+'6pf'!C486+'6pf'!C489+'6pf'!C490 -> 13 | G88: =IF(C88<=F88,"+","-") -> + | I88: 4041 | J88: ='6pf'!I480 -> 107620.02 | K88: <= | L88: 4042+4043+4047+40410+40411 | M88: ='6pf'!I481+'6pf'!I482+'6pf'!I486+'6pf'!I489+'6pf'!I490 -> 107620.02 | N88: =IF(J88<=M88,"+","-") -> +
B89: 4043 | C89: ='6pf'!C482 -> 1 | D89: = | E89: 4044+4045+4046 | F89: =SUM('6pf'!C483:C485) -> 1 | G89: =IF(C89=F89,"+","-") -> + | I89: 4043 | J89: ='6pf'!I482 -> 10048 | K89: = | L89: 4044+4045+4046 | M89: =SUM('6pf'!I483:I485) -> 10048 | N89: =IF(J89=M89,"+","-") -> +
B90: 4047 | C90: ='6pf'!C486 -> 7 | D90: = | E90: 4048+4049 | F90: ='6pf'!C487+'6pf'!C488 -> 7 | G90: =IF(C90=F90,"+","-") -> + | I90: 4047 | J90: ='6pf'!I486 -> 59274.14 | K90: = | L90: 4048+4049 | M90: ='6pf'!I487+'6pf'!I488 -> 59274.14 | N90: =IF(J90=M90,"+","-") -> +
B91: 40412 | C91: ='6pf'!C492 -> 172 | D91: = | E91: 40413+40417 | F91: ='6pf'!C493+'6pf'!C497 -> 172 | G91: =IF(C91=F91,"+","-") -> + | I91: 40412 | J91: ='6pf'!I492 -> 2726279.4 | K91: = | L91: 40413+40417 | M91: ='6pf'!I493+'6pf'!I497 -> 2726279.4 | N91: =IF(J91=M91,"+","-") -> +
B92: 40413 | C92: ='6pf'!C493 -> 172 | D92: = | E92: 40414+40415+40416 | F92: =SUM('6pf'!C494:C496) -> 172 | G92: =IF(C92=F92,"+","-") -> + | I92: 40413 | J92: ='6pf'!I493 -> 2726279.4 | K92: = | L92: 40414+40415+40416 | M92: =SUM('6pf'!I494:I496) -> 2726279.4 | N92: =IF(J92=M92,"+","-") -> +
B93: 40417 | C93: ='6pf'!C497 -> 0 | D93: = | E93: 40418+40419 | F93: =SUM('6pf'!C498:C499) -> 0 | G93: =IF(C93=F93,"+","-") -> + | I93: 40417 | J93: ='6pf'!I497 -> 0 | K93: = | L93: 40418+40419 | M93: =SUM('6pf'!I498:I499) -> 0 | N93: =IF(J93=M93,"+","-") -> +
B94: 405 | C94: ='6pf'!C501 -> 7425 | D94: = | E94: 406+407+408+409+4091 | F94: =SUM('6pf'!C502:C506) -> 7425 | G94: =IF(C94=F94,"+","-") -> + | I94: 405 | J94: ='6pf'!I501 -> 47290143 | K94: = | L94: 406+407+408+409+4091 | M94: =SUM('6pf'!I502:I506) -> 47290143 | N94: =IF(J94=M94,"+","-") -> +
B95: 405 | C95: ='6pf'!C501 -> 7425 | D95: = | E95: 410+411+412+413+414+415+416+417+418 | F95: =SUM('6pf'!C507:C515) -> 7425 | G95: =IF(C95=F95,"+","-") -> + | I95: 405 | J95: ='6pf'!I501 -> 47290143 | K95: = | L95: 410+411+412+413+414+415+416+417+418 | M95: =SUM('6pf'!I507:I515) -> 47290143 | N95: =IF(J95=M95,"+","-") -> +
B96: 426 | C96: ='6pf'!C524 -> 4 | D96: = | E96: 4261+4262+4263 | F96: =SUM('6pf'!C525:C527) -> 4 | G96: =IF(C96=F96,"+","-") -> + | I96: 426 | J96: ='6pf'!I524 -> 44336.32 | K96: = | L96: 4261+4262+4263 | M96: =SUM('6pf'!I525:I527) -> 44336.32 | N96: =IF(J96=M96,"+","-") -> +
B97: 429 | C97: ='6pf'!C533 -> 188 | D97: = | E97: 430+431 | F97: ='6pf'!C534+'6pf'!C541 -> 188 | G97: =IF(C97=F97,"+","-") -> + | I97: 429 | J97: ='6pf'!I533 -> 4198449.2 | K97: = | L97: 430+431 | M97: ='6pf'!I534+'6pf'!I541 -> 4198449.2 | N97: =IF(J97=M97,"+","-") -> +
B98: 430 | C98: ='6pf'!C534 -> 186 | D98: = | E98: 4301+4302+4303 | F98: ='6pf'!C535+'6pf'!C537+'6pf'!C539 -> 186 | G98: =IF(C98=F98,"+","-") -> + | I98: 430 | J98: ='6pf'!I534 -> 4161081.9 | K98: = | L98: 4301+4302+4303 | M98: ='6pf'!I535+'6pf'!I537+'6pf'!I539 -> 4161081.9 | N98: =IF(J98=M98,"+","-") -> +
B99: 431 | C99: ='6pf'!C541 -> 2 | D99: = | E99: 4311+4312+4313 | F99: =SUM('6pf'!C542:C544) -> 2 | G99: =IF(C99=F99,"+","-") -> + | I99: 431 | J99: ='6pf'!I541 -> 37367.28 | K99: = | L99: 4311+4312+4313 | M99: =SUM('6pf'!I542:I544) -> 37367.28 | N99: =IF(J99=M99,"+","-") -> +
B100: 432 | C100: ='6pf'!C545 -> 220 | D100: = | E100: 433+434 | F100: ='6pf'!C546+'6pf'!C550 -> 220 | G100: =IF(C100=F100,"+","-") -> + | I100: 432 | J100: ='6pf'!I545 -> 4622155.4 | K100: = | L100: 433+434 | M100: ='6pf'!I546+'6pf'!I550 -> 4622155.4 | N100: =IF(J100=M100,"+","-") -> +
...

Sheet Контроль 6pf новопризнач.
B1: Контроль рядків | I1: Контроль рядків
B2: Чисельність | I2: Сума | J2: Графа 7
D3: Условие | G3: Результат | K3: Условие | N3: Результат
B4: 1 | C4: ='6pf'!P6 -> 9770 | D4: = | E4: 5+167+195+236+244+252+253+254+262+270+279+282+291+299+300+301+3001 | F4: ='6pf'!P11+'6pf'!P190+'6pf'!P220+'6pf'!P262+'6pf'!P272+'6pf'!P281+'6pf'!P283+'6pf'!P285+'6pf'!P294+'6pf'!P303+'6pf'!P313+'6pf'!P322+'6pf'!P332+'6pf'!P341+'6pf'!P346+'6pf'!P348+'6pf'!P358 -> 9770 | G4: =IF(C4=F4,"+","-") -> + | I4: 1 | J4: ='6pf'!Q6 -> 43483819 | K4: = | L4: 5+167+195+236+244+252+253+254+262+270+279+282+291+299+300+301+3001 | M4: ='6pf'!Q11+'6pf'!Q190+'6pf'!Q220+'6pf'!Q262+'6pf'!Q272+'6pf'!Q281+'6pf'!Q283+'6pf'!Q285+'6pf'!Q294+'6pf'!Q303+'6pf'!Q313+'6pf'!Q322+'6pf'!Q332+'6pf'!Q341+'6pf'!Q346+'6pf'!Q348+'6pf'!Q358 -> 43483819 | N4: =IF(J4=M4,"+","-") -> +
B5: 4 | C5: ='6pf'!P9 -> 5424 | D5: = | E5: 58+115+134+150+172+177+194+217+233+317 | F5: ='6pf'!P70+'6pf'!P131+'6pf'!P151+'6pf'!P174+'6pf'!P196+'6pf'!P201+'6pf'!P218+'6pf'!P242+'6pf'!P258+'6pf'!P377 -> 5424 | G5: =IF(C5=F5,"+","-") -> + | I5: 4 | J5: ='6pf'!Q9 -> 22706004 | K5: = | L5: 58+115+134+150+172+177+194+217+233+317 | M5: ='6pf'!Q70+'6pf'!Q131+'6pf'!Q151+'6pf'!Q174+'6pf'!Q196+'6pf'!Q201+'6pf'!Q218+'6pf'!Q242+'6pf'!Q258+'6pf'!Q377 -> 22706004 | N5: =IF(J5=M5,"+","-") -> +
B6: 5 | C6: ='6pf'!P11 -> 9741 | D6: = | E6: 6+110+128+135 | F6: ='6pf'!P12+'6pf'!P118+'6pf'!P144+'6pf'!P158 -> 9741 | G6: =IF(C6=F6,"+","-") -> + | I6: 5 | J6: ='6pf'!Q11 -> 43026604 | K6: = | L6: 6+110+128+135 | M6: ='6pf'!Q12+'6pf'!Q118+'6pf'!Q144+'6pf'!Q158 -> 43026604 | N6: =IF(J6=M6,"+","-") -> +
B7: 6 | C7: ='6pf'!P12 -> 6170 | D7: = | E7: 7+8+9+10+11+12 | F7: =SUM('6pf'!P13:P18) -> 6170 | G7: =IF(C7=F7,"+","-") -> + | I7: 6 | J7: ='6pf'!Q12 -> 29837527 | K7: = | L7: 7+8+9+10+11+12 | M7: =SUM('6pf'!Q13:Q18) -> 29837527 | N7: =IF(J7=M7,"+","-") -> +
B8: 6 | C8: ='6pf'!P12 -> 6170 | D8: = | E8: 59+60+61+62+63+64+65+66+67+68 | F8: =SUM('6pf'!P71:P80) -> 6170 | G8: =IF(C8=F8,"+","-") -> + | I8: 6 | J8: ='6pf'!Q12 -> 29837527 | K8: = | L8: 59+60+61+62+63+64+65+66+67+68 | M8: =SUM('6pf'!Q71:Q80) -> 29837527 | N8: =IF(J8=M8,"+","-") -> +
B9: 16 | C9: ='6pf'!P24 -> 590 | D9: = | E9: 17+21+25+29+30+31+32+33+34+35+39+46+49+52+55 | F9: ='6pf'!P25+'6pf'!P32+'6pf'!P36+'6pf'!P40+'6pf'!P41+'6pf'!P42+'6pf'!P43+'6pf'!P44+'6pf'!P45+'6pf'!P46+'6pf'!P50+'6pf'!P57+'6pf'!P61+'6pf'!P64+'6pf'!P67 -> 590 | G9: =IF(C9=F9,"+","-") -> + | I9: 16 | J9: ='6pf'!Q24 -> 3500352.6 | K9: = | L9: 17+21+25+29+30+31+32+33+34+35+39+46+49+52+55 | M9: ='6pf'!Q25+'6pf'!Q32+'6pf'!Q36+'6pf'!Q40+'6pf'!Q41+'6pf'!Q42+'6pf'!Q43+'6pf'!Q44+'6pf'!Q45+'6pf'!Q46+'6pf'!Q50+'6pf'!Q57+'6pf'!Q61+'6pf'!Q64+'6pf'!Q67 -> 3500352.6 | N9: =IF(J9=M9,"+","-") -> +
B10: 69 | C10: ='6pf'!P81 -> 2727 | D10: = | E10: 70+71+72+73+74+75+76+77+78+79+80+81+82+83+84+85 | F10: =SUM('6pf'!P82:P97) -> 2727 | G10: =IF(C10=F10,"+","-") -> + | I10: 69 | J10: ='6pf'!Q81 -> 16856070 | K10: = | L10: 70+71+72+73+74+75+76+77+78+79+80+81+82+83+84+85 | M10: =SUM('6pf'!Q82:Q97) -> 16856070 | N10: =IF(J10=M10,"+","-") -> +
B11: 86 | C11: ='6pf'!P98 -> 0 | D11: = | E11: 86 | F11: ='6pf'!P98 -> 0 | G11: =IF(C11=F11,"+","-") -> + | I11: 86 | J11: ='6pf'!Q98 -> 0 | K11: = | L11: 86 | M11: ='6pf'!Q98 -> 0 | N11: =IF(J11=M11,"+","-") -> +
B12: 97 | C12: ='6pf'!P105 -> 0 | D12: = | E12: 98+99+100+101 | F12: ='6pf'!P106+'6pf'!P107+'6pf'!P108+'6pf'!P109 -> 0 | G12: =IF(C12=F12,"+","-") -> + | I12: 97 | J12: ='6pf'!Q105 -> 0 | K12: = | L12: 98+99+100+101 | M12: ='6pf'!Q106+'6pf'!Q107+'6pf'!Q108+'6pf'!Q109 -> 0 | N12: =IF(J12=M12,"+","-") -> +
B13: 102 | C13: ='6pf'!P110 -> 0 | D13: = | E13: 103+104+105 | F13: ='6pf'!P111+'6pf'!P112+'6pf'!P113 -> 0 | G13: =IF(C13=F13,"+","-") -> + | I13: 102 | J13: ='6pf'!Q110 -> 0 | K13: = | L13: 103+104+105 | M13: ='6pf'!Q111+'6pf'!Q112+'6pf'!Q113 -> 0 | N13: =IF(J13=M13,"+","-") -> +
B14: 106 | C14: ='6pf'!P114 -> 24 | D14: = | E14: 107+108+109 | F14: ='6pf'!P115+'6pf'!P116+'6pf'!P117 -> 24 | G14: =IF(C14=F14,"+","-") -> + | I14: 106 | J14: ='6pf'!Q114 -> 143762.65 | K14: = | L14: 107+108+109 | M14: ='6pf'!Q115+'6pf'!Q116+'6pf'!Q117 -> 143762.65 | N14: =IF(J14=M14,"+","-") -> +
B15: 110 | C15: ='6pf'!P118 -> 2829 | D15: = | E15: 111+112+113 | F15: ='6pf'!P119+'6pf'!P120+'6pf'!P121 -> 2829 | G15: =IF(C15=F15,"+","-") -> + | I15: 110 | J15: ='6pf'!Q118 -> 10654296 | K15: = | L15: 111+112+113 | M15: ='6pf'!Q119+'6pf'!Q120+'6pf'!Q121 -> 10654296 | N15: =IF(J15=M15,"+","-") -> +
B16: 110 | C16: ='6pf'!P118 -> 2829 | D16: = | E16: 117+119+123 | F16: ='6pf'!P133+'6pf'!P135+'6pf'!P139 -> 2829 | G16: =IF(C16=F16,"+","-") -> + | I16: 110 | J16: ='6pf'!Q118 -> 10654296 | K16: = | L16: 117+119+123 | M16: ='6pf'!Q133+'6pf'!Q135+'6pf'!Q139 -> 10654296 | N16: =IF(J16=M16,"+","-") -> +
B17: 1131 | C17: ='6pf'!P122 -> 569 | D17: = | E17: 1132+1133+1134 | F17: ='6pf'!P123+'6pf'!P124+'6pf'!P125 -> 569 | G17: =IF(C17=F17,"+","-") -> + | I17: 1131 | J17: ='6pf'!Q122 -> 1476555 | K17: = | L17: 1132+1133+1134 | M17: ='6pf'!Q123+'6pf'!Q124+'6pf'!Q125 -> 1476555 | N17: =IF(J17=M17,"+","-") -> +
B18: 1135 | C18: ='6pf'!P126 -> 1 | D18: = | E18: 1136+1137+1138 | F18: ='6pf'!P127+'6pf'!P128+'6pf'!P129 -> 1 | G18: =IF(C18=F18,"+","-") -> + | I18: 1135 | J18: ='6pf'!Q126 -> 2595 | K18: = | L18: 1136+1137+1138 | M18: ='6pf'!Q127+'6pf'!Q128+'6pf'!Q129 -> 2595 | N18: =IF(J18=M18,"+","-") -> +
B19: 119 | C19: ='6pf'!P135 -> 16 | D19: = | E19: 120+121+122 | F19: ='6pf'!P136+'6pf'!P137+'6pf'!P138 -> 16 | G19: =IF(C19=F19,"+","-") -> + | I19: 119 | J19: ='6pf'!Q135 -> 193943.14 | K19: = | L19: 120+121+122 | M19: ='6pf'!Q136+'6pf'!Q137+'6pf'!Q138 -> 193943.14 | N19: =IF(J19=M19,"+","-") -> +
B20: 128 | C20: ='6pf'!P144 -> 692 | D20: = | E20: 129+130+131 | F20: ='6pf'!P145+'6pf'!P146+'6pf'!P147 -> 692 | G20: =IF(C20=F20,"+","-") -> + | I20: 128 | J20: ='6pf'!Q144 -> 2173010.9 | K20: = | L20: 129+130+131 | M20: ='6pf'!Q145+'6pf'!Q146+'6pf'!Q147 -> 2173010.9 | N20: =IF(J20=M20,"+","-") -> +
B21: 1341 | C21: ='6pf'!P152 -> 58 | D21: = | E21: 1342+1343+1344 | F21: ='6pf'!P153+'6pf'!P154+'6pf'!P155 -> 58 | G21: =IF(C21=F21,"+","-") -> + | I21: 1341 | J21: ='6pf'!Q152 -> 183730.8 | K21: = | L21: 1342+1343+1344 | M21: ='6pf'!Q153+'6pf'!Q154+'6pf'!Q155 -> 183730.8 | N21: =IF(J21=M21,"+","-") -> +
B22: 1341 | C22: ='6pf'!P152 -> 58 | D22: = | E22: 1345+1346 | F22: ='6pf'!P156+'6pf'!P157 -> 58 | G22: =IF(C22=F22,"+","-") -> + | I22: 1341 | J22: ='6pf'!Q152 -> 183730.8 | K22: = | L22: 1345+1346 | M22: ='6pf'!Q156+'6pf'!Q157 -> 183730.8 | N22: =IF(J22=M22,"+","-") -> +
B23: 135 | C23: ='6pf'!P158 -> 50 | D23: = | E23: 136+140+141+142+143+144+145+146+1461+147+148+149 | F23: ='6pf'!P159+'6pf'!P163+'6pf'!P164+'6pf'!P165+'6pf'!P166+'6pf'!P167+'6pf'!P168+'6pf'!P169+'6pf'!P170+'6pf'!P171+'6pf'!P172+'6pf'!P173 -> 50 | G23: =IF(C23=F23,"+","-") -> + | I23: 135 | J23: ='6pf'!Q158 -> 361769.26 | K23: = | L23: 136+140+141+142+143+144+145+146+1461+147+148+149 | M23: ='6pf'!Q159+'6pf'!Q163+'6pf'!Q164+'6pf'!Q165+'6pf'!Q166+'6pf'!Q167+'6pf'!Q168+'6pf'!Q169+'6pf'!Q170+'6pf'!Q171+'6pf'!Q172+'6pf'!Q173 -> 361769.26 | N23: =IF(J23=M23,"+","-") -> +
B24: 136 | C24: ='6pf'!P159 -> 0 | D24: = | E24: 137+138+139 | F24: ='6pf'!P160+'6pf'!P161+'6pf'!P162 -> 0 | G24: =IF(C24=F24,"+","-") -> + | I24: 136 | J24: ='6pf'!Q159 -> 0 | K24: = | L24: 137+138+139 | M24: ='6pf'!Q160+'6pf'!Q161+'6pf'!Q162 -> 0 | N24: =IF(J24=M24,"+","-") -> +
B25: 153 | C25: ='6pf'!P177 -> 1 | D25: = | E25: 154+155+156 | F25: ='6pf'!P178+'6pf'!P179+'6pf'!P180 -> 1 | G25: =IF(C25=F25,"+","-") -> + | I25: 153 | J25: ='6pf'!Q177 -> 25950 | K25: = | L25: 154+155+156 | M25: ='6pf'!Q178+'6pf'!Q179+'6pf'!Q180 -> 25950 | N25: =IF(J25=M25,"+","-") -> +
B26: 153 | C26: ='6pf'!P177 -> 1 | D26: = | E26: 157+158 | F26: ='6pf'!P181+'6pf'!P182 -> 1 | G26: =IF(C26=F26,"+","-") -> + | I26: 153 | J26: ='6pf'!Q177 -> 25950 | K26: = | L26: 157+158 | M26: ='6pf'!Q181+'6pf'!Q182 -> 25950 | N26: =IF(J26=M26,"+","-") -> +
B27: 167 | C27: ='6pf'!P190 -> 0 | D27: = | E27: 168+173+178 | F27: ='6pf'!P191+'6pf'!P197+'6pf'!P202 -> 0 | G27: =IF(C27=F27,"+","-") -> + | I27: 167 | J27: ='6pf'!Q190 -> 0 | K27: = | L27: 168+173+178 | M27: ='6pf'!Q191+'6pf'!Q197+'6pf'!Q202 -> 0 | N27: =IF(J27=M27,"+","-") -> +
B28: 168 | C28: ='6pf'!P191 -> 0 | D28: = | E28: 169+170+171 | F28: ='6pf'!P192+'6pf'!P193+'6pf'!P194 -> 0 | G28: =IF(C28=F28,"+","-") -> + | I28: 168 | J28: ='6pf'!Q191 -> 0 | K28: = | L28: 169+170+171 | M28: ='6pf'!Q192+'6pf'!Q193+'6pf'!Q194 -> 0 | N28: =IF(J28=M28,"+","-") -> +
B29: 173 | C29: ='6pf'!P197 -> 0 | D29: = | E29: 174+175+176 | F29: ='6pf'!P198+'6pf'!P199+'6pf'!P200 -> 0 | G29: =IF(C29=F29,"+","-") -> + | I29: 173 | J29: ='6pf'!Q197 -> 0 | K29: = | L29: 174+175+176 | M29: ='6pf'!Q198+'6pf'!Q199+'6pf'!Q200 -> 0 | N29: =IF(J29=M29,"+","-") -> +
B30: 178 | C30: ='6pf'!P202 -> 0 | D30: = | E30: 179+183+184+190+192+193 | F30: ='6pf'!P203+'6pf'!P207+'6pf'!P208+'6pf'!P214+'6pf'!P216+'6pf'!P217 -> 0 | G30: =IF(C30=F30,"+","-") -> + | I30: 178 | J30: ='6pf'!Q202 -> 0 | K30: = | L30: 179+183+184+190+192+193 | M30: ='6pf'!Q203+'6pf'!Q207+'6pf'!Q208+'6pf'!Q214+'6pf'!Q216+'6pf'!Q217 -> 0 | N30: =IF(J30=M30,"+","-") -> +
B31: 179 | C31: ='6pf'!P203 -> 0 | D31: = | E31: 180+181+182 | F31: ='6pf'!P204+'6pf'!P205+'6pf'!P206 -> 0 | G31: =IF(C31=F31,"+","-") -> + | I31: 179 | J31: ='6pf'!Q203 -> 0 | K31: = | L31: 180+181+182 | M31: ='6pf'!Q204+'6pf'!Q205+'6pf'!Q206 -> 0 | N31: =IF(J31=M31,"+","-") -> +
B32: 184 | C32: ='6pf'!P208 -> 0 | D32: = | E32: 185+186+187 | F32: ='6pf'!P209+'6pf'!P210+'6pf'!P211 -> 0 | G32: =IF(C32=F32,"+","-") -> + | I32: 184 | J32: ='6pf'!Q208 -> 0 | K32: = | L32: 185+186+187 | M32: ='6pf'!Q209+'6pf'!Q210+'6pf'!Q211 -> 0 | N32: =IF(J32=M32,"+","-") -> +
B33: 195 | C33: ='6pf'!P220 -> 1 | D33: = | E33: 196+229 | F33: ='6pf'!P221+'6pf'!P254 -> 1 | G33: =IF(C33=F33,"+","-") -> + | I33: 195 | J33: ='6pf'!Q220 -> 5842.18 | K33: = | L33: 196+229 | M33: ='6pf'!Q221+'6pf'!Q254 -> 5842.18 | N33: =IF(J33=M33,"+","-") -> +
B34: 196 | C34: ='6pf'!P221 -> 0 | D34: = | E34: 197+198+199 | F34: ='6pf'!P222+'6pf'!P223+'6pf'!P224 -> 0 | G34: =IF(C34=F34,"+","-") -> + | I34: 196 | J34: ='6pf'!Q221 -> 0 | K34: = | L34: 197+198+199 | M34: ='6pf'!Q222+'6pf'!Q223+'6pf'!Q224 -> 0 | N34: =IF(J34=M34,"+","-") -> +
B35: 196 | C35: ='6pf'!P221 -> 0 | D35: = | E35: 200+207 | F35: ='6pf'!P225+'6pf'!P232 -> 0 | G35: =IF(C35=F35,"+","-") -> + | I35: 196 | J35: ='6pf'!Q221 -> 0 | K35: = | L35: 200+207 | M35: ='6pf'!Q225+'6pf'!Q232 -> 0 | N35: =IF(J35=M35,"+","-") -> +
B36: 200 | C36: ='6pf'!P225 -> 0 | D36: = | E36: 201+203+205 | F36: ='6pf'!P226+'6pf'!P228+'6pf'!P230 -> 0 | G36: =IF(C36=F36,"+","-") -> + | I36: 200 | J36: ='6pf'!Q225 -> 0 | K36: = | L36: 201+203+205 | M36: ='6pf'!Q226+'6pf'!Q228+'6pf'!Q230 -> 0 | N36: =IF(J36=M36,"+","-") -> +
B37: 207 | C37: ='6pf'!P232 -> 0 | D37: = | E37: 208+210+212 | F37: ='6pf'!P233+'6pf'!P235+'6pf'!P237 -> 0 | G37: =IF(C37=F37,"+","-") -> + | I37: 207 | J37: ='6pf'!Q232 -> 0 | K37: = | L37: 208+210+212 | M37: ='6pf'!Q233+'6pf'!Q235+'6pf'!Q237 -> 0 | N37: =IF(J37=M37,"+","-") -> +
B38: 225 | C38: ='6pf'!P247 -> 0 | D38: = | E38: 226+227+228 | F38: ='6pf'!P248+'6pf'!P249+'6pf'!P250 -> 0 | G38: =IF(C38=F38,"+","-") -> + | I38: 225 | J38: ='6pf'!Q247 -> 0 | K38: = | L38: 226+227+228 | M38: ='6pf'!Q248+'6pf'!Q249+'6pf'!Q250 -> 0 | N38: =IF(J38=M38,"+","-") -> +
B39: 229 | C39: ='6pf'!P254 -> 1 | D39: = | E39: 230+231+232 | F39: ='6pf'!P255+'6pf'!P256+'6pf'!P257 -> 1 | G39: =IF(C39=F39,"+","-") -> + | I39: 229 | J39: ='6pf'!Q254 -> 5842.18 | K39: = | L39: 230+231+232 | M39: ='6pf'!Q255+'6pf'!Q256+'6pf'!Q257 -> 5842.18 | N39: =IF(J39=M39,"+","-") -> +
B40: 236 | C40: ='6pf'!P262 -> 16 | D40: = | E40: 237+238+243 | F40: ='6pf'!P263+'6pf'!P264+'6pf'!P270 -> 16 | G40: =IF(C40=F40,"+","-") -> + | I40: 236 | J40: ='6pf'!Q262 -> 220465.76 | K40: = | L40: 237+238+243 | M40: ='6pf'!Q263+'6pf'!Q264+'6pf'!Q270 -> 220465.76 | N40: =IF(J40=M40,"+","-") -> +
B41: 238 | C41: ='6pf'!P264 -> 0 | D41: = | E41: 239+240+2401 | F41: ='6pf'!P265+'6pf'!P266+'6pf'!P267 -> 0 | G41: =IF(C41=F41,"+","-") -> + | I41: 238 | J41: ='6pf'!Q264 -> 0 | K41: = | L41: 239+240+2401 | M41: ='6pf'!Q265+'6pf'!Q266+'6pf'!Q267 -> 0 | N41: =IF(J41=M41,"+","-") -> +
B42: 238 | C42: ='6pf'!P264 -> 0 | D42: = | E42: 241+242 | F42: ='6pf'!P268+'6pf'!P269 -> 0 | G42: =IF(C42=F42,"+","-") -> + | I42: 238 | J42: ='6pf'!Q264 -> 0 | K42: = | L42: 241+242 | M42: ='6pf'!Q268+'6pf'!Q269 -> 0 | N42: =IF(J42=M42,"+","-") -> +
B43: 244 | C43: ='6pf'!P272 -> 0 | D43: = | E43: 245+246+251 | F43: ='6pf'!P273+'6pf'!P274+'6pf'!P279 -> 0 | G43: =IF(C43=F43,"+","-") -> + | I43: 244 | J43: ='6pf'!Q272 -> 0 | K43: = | L43: 245+246+251 | M43: ='6pf'!Q273+'6pf'!Q274+'6pf'!Q279 -> 0 | N43: =IF(J43=M43,"+","-") -> +
B44: 246 | C44: ='6pf'!P274 -> 0 | D44: = | E44: 247+248 | F44: =SUM('6pf'!P275:P276) -> 0 | G44: =IF(C44=F44,"+","-") -> + | I44: 246 | J44: ='6pf'!Q274 -> 0 | K44: = | L44: 247+248 | M44: =SUM('6pf'!Q275:Q276) -> 0 | N44: =IF(J44=M44,"+","-") -> +
B45: 246 | C45: ='6pf'!P274 -> 0 | D45: = | E45: 249+250 | F45: =SUM('6pf'!P277:P278) -> 0 | G45: =IF(C45=F45,"+","-") -> + | I45: 246 | J45: ='6pf'!Q274 -> 0 | K45: = | L45: 249+250 | M45: =SUM('6pf'!Q277:Q278) -> 0 | N45: =IF(J45=M45,"+","-") -> +
B46: 254 | C46: ='6pf'!P285 -> 0 | D46: = | E46: 255+256+261 | F46: ='6pf'!P286+'6pf'!P287+'6pf'!P292 -> 0 | G46: =IF(C46=F46,"+","-") -> + | I46: 254 | J46: ='6pf'!Q285 -> 0 | K46: = | L46: 255+256+261 | M46: ='6pf'!Q286+'6pf'!Q287+'6pf'!Q292 -> 0 | N46: =IF(J46=M46,"+","-") -> +
B47: 256 | C47: ='6pf'!P287 -> 0 | D47: = | E47: 257+258 | F47: ='6pf'!P288+'6pf'!P289 -> 0 | G47: =IF(C47=F47,"+","-") -> + | I47: 256 | J47: ='6pf'!Q287 -> 0 | K47: = | L47: 257+258 | M47: ='6pf'!Q288+'6pf'!Q289 -> 0 | N47: =IF(J47=M47,"+","-") -> +
B48: 256 | C48: ='6pf'!P287 -> 0 | D48: = | E48: 259+260 | F48: ='6pf'!P290+'6pf'!P291 -> 0 | G48: =IF(C48=F48,"+","-") -> + | I48: 256 | J48: ='6pf'!Q287 -> 0 | K48: = | L48: 259+260 | M48: ='6pf'!Q290+'6pf'!Q291 -> 0 | N48: =IF(J48=M48,"+","-") -> +
B49: 262 | C49: ='6pf'!P294 -> 0 | D49: = | E49: 263+264+269 | F49: ='6pf'!P295+'6pf'!P296+'6pf'!P301 -> 0 | G49: =IF(C49=F49,"+","-") -> + | I49: 262 | J49: ='6pf'!Q294 -> 0 | K49: = | L49: 263+264+269 | M49: ='6pf'!Q295+'6pf'!Q296+'6pf'!Q301 -> 0 | N49: =IF(J49=M49,"+","-") -> +
B50: 264 | C50: ='6pf'!P296 -> 0 | D50: = | E50: 265+266 | F50: ='6pf'!P297+'6pf'!P298 -> 0 | G50: =IF(C50=F50,"+","-") -> + | I50: 264 | J50: ='6pf'!Q296 -> 0 | K50: = | L50: 265+266 | M50: ='6pf'!Q297+'6pf'!Q298 -> 0 | N50: =IF(J50=M50,"+","-") -> +
B51: 264 | C51: ='6pf'!P296 -> 0 | D51: = | E51: 267+268 | F51: ='6pf'!P299+'6pf'!P300 -> 0 | G51: =IF(C51=F51,"+","-") -> + | I51: 264 | J51: ='6pf'!Q296 -> 0 | K51: = | L51: 267+268 | M51: ='6pf'!Q299+'6pf'!Q300 -> 0 | N51: =IF(J51=M51,"+","-") -> +
B52: 270 | C52: ='6pf'!P303 -> 0 | D52: = | E52: 271+272+277 | F52: ='6pf'!P304+'6pf'!P305+'6pf'!P310 -> 0 | G52: =IF(C52=F52,"+","-") -> + | I52: 270 | J52: ='6pf'!Q303 -> 0 | K52: = | L52: 271+272+277 | M52: ='6pf'!Q304+'6pf'!Q305+'6pf'!Q310 -> 0 | N52: =IF(J52=M52,"+","-") -> +
B53: 272 | C53: ='6pf'!P305 -> 0 | D53: = | E53: 273+274 | F53: ='6pf'!P306+'6pf'!P307 -> 0 | G53: =IF(C53=F53,"+","-") -> + | I53: 272 | J53: ='6pf'!Q305 -> 0 | K53: = | L53: 273+274 | M53: ='6pf'!Q306+'6pf'!Q307 -> 0 | N53: =IF(J53=M53,"+","-") -> +
B54: 272 | C54: ='6pf'!P305 -> 0 | D54: = | E54: 275+276 | F54: ='6pf'!P308+'6pf'!P309 -> 0 | G54: =IF(C54=F54,"+","-") -> + | I54: 272 | J54: ='6pf'!Q305 -> 0 | K54: = | L54: 275+276 | M54: ='6pf'!Q308+'6pf'!Q309 -> 0 | N54: =IF(J54=M54,"+","-") -> +
B55: 279 | C55: ='6pf'!P313 -> 0 | D55: = | E55: 280+2801+281 | F55: ='6pf'!P314+'6pf'!P315+'6pf'!P320 -> 0 | G55: =IF(C55=F55,"+","-") -> + | I55: 279 | J55: ='6pf'!Q313 -> 0 | K55: = | L55: 280+2801+281 | M55: ='6pf'!Q314+'6pf'!Q315+'6pf'!Q320 -> 0 | N55: =IF(J55=M55,"+","-") -> +
B56: 2801 | C56: ='6pf'!P315 -> 0 | D56: = | E56: 2802+2803 | F56: ='6pf'!P316+'6pf'!P317 -> 0 | G56: =IF(C56=F56,"+","-") -> + | I56: 2801 | J56: ='6pf'!Q315 -> 0 | K56: = | L56: 2802+2803 | M56: ='6pf'!Q316+'6pf'!Q317 -> 0 | N56: =IF(J56=M56,"+","-") -> +
B57: 2801 | C57: ='6pf'!P315 -> 0 | D57: = | E57: 2804+2805 | F57: ='6pf'!P318+'6pf'!P319 -> 0 | G57: =IF(C57=F57,"+","-") -> + | I57: 2801 | J57: ='6pf'!Q315 -> 0 | K57: = | L57: 2804+2805 | M57: ='6pf'!Q318+'6pf'!Q319 -> 0 | N57: =IF(J57=M57,"+","-") -> +
B58: 282 | C58: ='6pf'!P322 -> 0 | D58: = | E58: 283+284+290 | F58: ='6pf'!P323+'6pf'!P324+'6pf'!P330 -> 0 | G58: =IF(C58=F58,"+","-") -> + | I58: 282 | J58: ='6pf'!Q322 -> 0 | K58: = | L58: 283+284+290 | M58: ='6pf'!Q323+'6pf'!Q324+'6pf'!Q330 -> 0 | N58: =IF(J58=M58,"+","-") -> +
B59: 284 | C59: ='6pf'!P324 -> 0 | D59: = | E59: 285+286+287 | F59: =SUM('6pf'!P325:P327) -> 0 | G59: =IF(C59=F59,"+","-") -> + | I59: 284 | J59: ='6pf'!Q324 -> 0 | K59: = | L59: 285+286+287 | M59: =SUM('6pf'!Q325:Q327) -> 0 | N59: =IF(J59=M59,"+","-") -> +
B60: 284 | C60: ='6pf'!P324 -> 0 | D60: = | E60: 288+289 | F60: ='6pf'!P328+'6pf'!P329 -> 0 | G60: =IF(C60=F60,"+","-") -> + | I60: 284 | J60: ='6pf'!Q324 -> 0 | K60: = | L60: 288+289 | M60: ='6pf'!Q328+'6pf'!Q329 -> 0 | N60: =IF(J60=M60,"+","-") -> +
B61: 291 | C61: ='6pf'!P332 -> 5 | D61: = | E61: 292+293+298 | F61: ='6pf'!P333+'6pf'!P334+'6pf'!P339 -> 5 | G61: =IF(C61=F61,"+","-") -> + | I61: 291 | J61: ='6pf'!Q332 -> 81260.8 | K61: = | L61: 292+293+298 | M61: ='6pf'!Q333+'6pf'!Q334+'6pf'!Q339 -> 81260.8 | N61: =IF(J61=M61,"+","-") -> +
B62: 293 | C62: ='6pf'!P334 -> 0 | D62: = | E62: 294+295 | F62: ='6pf'!P335+'6pf'!P336 -> 0 | G62: =IF(C62=F62,"+","-") -> + | I62: 293 | J62: ='6pf'!Q334 -> 0 | K62: = | L62: 294+295 | M62: ='6pf'!Q335+'6pf'!Q336 -> 0 | N62: =IF(J62=M62,"+","-") -> +
B63: 293 | C63: ='6pf'!P334 -> 0 | D63: = | E63: 296+297 | F63: ='6pf'!P337+'6pf'!P338 -> 0 | G63: =IF(C63=F63,"+","-") -> + | I63: 293 | J63: ='6pf'!Q334 -> 0 | K63: = | L63: 296+297 | M63: ='6pf'!Q337+'6pf'!Q338 -> 0 | N63: =IF(J63=M63,"+","-") -> +
B64: 299 | C64: ='6pf'!P341 -> 2 | D64: = | E64: 2991+2992+2993 | F64: =SUM('6pf'!P342:P344) -> 2 | G64: =IF(C64=F64,"+","-") -> + | I64: 299 | J64: ='6pf'!Q341 -> 105783 | K64: = | L64: 2991+2992+2993 | M64: =SUM('6pf'!Q342:Q344) -> 105783 | N64: =IF(J64=M64,"+","-") -> +
B65: 3001 | C65: ='6pf'!P348 -> 0 | D65: = | E65: 3002+3003+3008 | F65: ='6pf'!P349+'6pf'!P350+'6pf'!P356 -> 0 | G65: =IF(C65=F65,"+","-") -> + | I65: 3001 | J65: ='6pf'!Q348 -> 0 | K65: = | L65: 3002+3003+3008 | M65: ='6pf'!Q349+'6pf'!Q350+'6pf'!Q356 -> 0 | N65: =IF(J65=M65,"+","-") -> +
B66: 3003 | C66: ='6pf'!P350 -> 0 | D66: = | E66: 3004+3005 | F66: ='6pf'!P351+'6pf'!P352 -> 0 | G66: =IF(C66=F66,"+","-") -> + | I66: 3003 | J66: ='6pf'!Q350 -> 0 | K66: = | L66: 3004+3005 | M66: ='6pf'!Q351+'6pf'!Q352 -> 0 | N66: =IF(J66=M66,"+","-") -> +
B67: 3003 | C67: ='6pf'!P350 -> 0 | D67: = | E67: 3006+3007 | F67: ='6pf'!P354+'6pf'!P355 -> 0 | G67: =IF(C67=F67,"+","-") -> + | I67: 3003 | J67: ='6pf'!Q350 -> 0 | K67: = | L67: 3006+3007 | M67: ='6pf'!Q354+'6pf'!Q355 -> 0 | N67: =IF(J67=M67,"+","-") -> +
B68: 301 | C68: ='6pf'!P358 -> 5 | D68: = | E68: 302+310+312 | F68: ='6pf'!P359+'6pf'!P370+'6pf'!P372 -> 5 | G68: =IF(C68=F68,"+","-") -> + | I68: 301 | J68: ='6pf'!Q358 -> 43863.13 | K68: = | L68: 302+310+312 | M68: ='6pf'!Q359+'6pf'!Q370+'6pf'!Q372 -> 43863.13 | N68: =IF(J68=M68,"+","-") -> +
B69: 302 | C69: ='6pf'!P359 -> 4 | D69: = | E69: 304+306+308 | F69: ='6pf'!P361+'6pf'!P364+'6pf'!P367 -> 4 | G69: =IF(C69=F69,"+","-") -> + | I69: 302 | J69: ='6pf'!Q359 -> 33019.32 | K69: = | L69: 304+306+308 | M69: ='6pf'!Q361+'6pf'!Q364+'6pf'!Q367 -> 33019.32 | N69: =IF(J69=M69,"+","-") -> +
B70: 303 | C70: ='6pf'!P360 -> 3 | D70: = | E70: 305+307+309 | F70: ='6pf'!P362+'6pf'!P365+'6pf'!P368 -> 3 | G70: =IF(C70=F70,"+","-") -> + | I70: 303 | J70: ='6pf'!Q360 -> 24336.99 | K70: = | L70: 305+307+309 | M70: ='6pf'!Q362+'6pf'!Q365+'6pf'!Q368 -> 24336.99 | N70: =IF(J70=M70,"+","-") -> +
B71: 312 | C71: ='6pf'!P372 -> 1 | D71: = | E71: 313+314+315 | F71: =SUM('6pf'!P373:P375) -> 1 | G71: =IF(C71=F71,"+","-") -> + | I71: 312 | J71: ='6pf'!Q372 -> 10843.81 | K71: = | L71: 313+314+315 | M71: =SUM('6pf'!Q373:Q375) -> 10843.81 | N71: =IF(J71=M71,"+","-") -> +
B72: 318 | C72: ='6pf'!P379 -> 149 | D72: = | E72: 319+320+321+322+323+324 | F72: =SUM('6pf'!P380:P385) -> 149 | G72: =IF(C72=F72,"+","-") -> + | I72: 318 | J72: ='6pf'!Q379 -> 676104.75 | K72: = | L72: 319+320+321+322+323+324 | M72: =SUM('6pf'!Q380:Q385) -> 676104.75 | N72: =IF(J72=M72,"+","-") -> +
B73: 318 | C73: ='6pf'!P379 -> 149 | D73: = | E73: 325+333+343+348+354 | F73: ='6pf'!P386+'6pf'!P394+'6pf'!P404+'6pf'!P409+'6pf'!P415 -> 149 | G73: =IF(C73=F73,"+","-") -> + | I73: 318 | J73: ='6pf'!Q379 -> 676104.75 | K73: = | L73: 325+333+343+348+354 | M73: ='6pf'!Q386+'6pf'!Q394+'6pf'!Q404+'6pf'!Q409+'6pf'!Q415 -> 676104.75 | N73: =IF(J73=M73,"+","-") -> +
B74: 325 | C74: ='6pf'!P386 -> 135 | D74: = | E74: 326+327+328+329+330 | F74: =SUM('6pf'!P387:P391) -> 135 | G74: =IF(C74=F74,"+","-") -> + | I74: 325 | J74: ='6pf'!Q386 -> 604741.1 | K74: = | L74: 326+327+328+329+330 | M74: =SUM('6pf'!Q387:Q391) -> 604741.1 | N74: =IF(J74=M74,"+","-") -> +
B75: 333 | C75: ='6pf'!P394 -> 13 | D75: = | E75: 334+335+336+337+338 | F75: =SUM('6pf'!P395:P399) -> 13 | G75: =IF(C75=F75,"+","-") -> + | I75: 333 | J75: ='6pf'!Q394 -> 67668.33 | K75: = | L75: 334+335+336+337+338 | M75: =SUM('6pf'!Q395:Q399) -> 67668.33 | N75: =IF(J75=M75,"+","-") -> +
B76: 333 | C76: ='6pf'!P394 -> 13 | D76: = | E76: 339+340+341+342 | F76: =SUM('6pf'!P400:P403) -> 13 | G76: =IF(C76=F76,"+","-") -> + | I76: 333 | J76: ='6pf'!Q394 -> 67668.33 | K76: = | L76: 339+340+341+342 | M76: =SUM('6pf'!Q400:Q403) -> 67668.33 | N76: =IF(J76=M76,"+","-") -> +
B77: 343 | C77: ='6pf'!P404 -> 0 | D77: = | E77: 344+345+346+347 | F77: =SUM('6pf'!P405:P408) -> 0 | G77: =IF(C77=F77,"+","-") -> + | I77: 343 | J77: ='6pf'!Q404 -> 0 | K77: = | L77: 344+345+346+347 | M77: =SUM('6pf'!Q405:Q408) -> 0 | N77: =IF(J77=M77,"+","-") -> +
B78: 348 | C78: ='6pf'!P409 -> 1 | D78: = | E78: 349+350+351+352+353 | F78: =SUM('6pf'!P410:P414) -> 1 | G78: =IF(C78=F78,"+","-") -> + | I78: 348 | J78: ='6pf'!Q409 -> 3695.32 | K78: = | L78: 349+350+351+352+353 | M78: =SUM('6pf'!Q410:Q414) -> 3695.32 | N78: =IF(J78=M78,"+","-") -> +
B79: 354 | C79: ='6pf'!P415 -> 0 | D79: = | E79: 355+356+357+358 | F79: =SUM('6pf'!P416:P419) -> 0 | G79: =IF(C79=F79,"+","-") -> + | I79: 354 | J79: ='6pf'!Q415 -> 0 | K79: = | L79: 355+356+357+358 | M79: =SUM('6pf'!Q416:Q419) -> 0 | N79: =IF(J79=M79,"+","-") -> +
B80: 359 | C80: ='6pf'!P420 -> 0 | D80: = | E80: 360+361+362+363 | F80: =SUM('6pf'!P421:P424) -> 0 | G80: =IF(C80=F80,"+","-") -> + | I80: 359 | J80: ='6pf'!Q420 -> 0 | K80: = | L80: 360+361+362+363 | M80: =SUM('6pf'!Q421:Q424) -> 0 | N80: =IF(J80=M80,"+","-") -> +
B81: 364 | C81: ='6pf'!P426 -> 425 | D81: <= | E81: 365+379+380+381 | F81: ='6pf'!P427+'6pf'!P451+'6pf'!P452+'6pf'!P453 -> 452 | G81: =IF(C81<=F81,"+","-") -> + | I81: 364 | J81: ='6pf'!Q426 -> 3388400.1 | K81: <= | L81: 365+379+380+381 | M81: ='6pf'!Q427+'6pf'!Q451+'6pf'!Q452+'6pf'!Q453 -> 3688774.6 | N81: =IF(J81<=M81,"+","-") -> +
B82: 365 | C82: ='6pf'!P427 -> 450 | D82: = | E82: 366+376+378 | F82: ='6pf'!P428+'6pf'!P438+'6pf'!P450 -> 450 | G82: =IF(C82=F82,"+","-") -> + | I82: 365 | J82: ='6pf'!Q427 -> 3672088.6 | K82: = | L82: 366+376+378 | M82: ='6pf'!Q428+'6pf'!Q438+'6pf'!Q450 -> 3672088.6 | N82: =IF(J82=M82,"+","-") -> +
B83: 366 | C83: ='6pf'!P428 -> 16 | D83: = | E83: 367+368+369 | F83: =SUM('6pf'!P429:P431) -> 16 | G83: =IF(C83=F83,"+","-") -> + | I83: 366 | J83: ='6pf'!Q428 -> 193943.14 | K83: = | L83: 367+368+369 | M83: =SUM('6pf'!Q429:Q431) -> 193943.14 | N83: =IF(J83=M83,"+","-") -> +
B84: 370 | C84: ='6pf'!P432 -> 0 | D84: = | E84: 371+372+373 | F84: =SUM('6pf'!P433:P435) -> 0 | G84: =IF(C84=F84,"+","-") -> + | I84: 370 | J84: ='6pf'!Q432 -> 0 | K84: = | L84: 371+372+373 | M84: =SUM('6pf'!Q433:Q435) -> 0 | N84: =IF(J84=M84,"+","-") -> +
B85: 3771 | C85: ='6pf'!P440 -> 448 | D85: = | E85: 3772+3773+3774+3775 | F85: =SUM('6pf'!P441:P444) -> 448 | G85: =IF(C85=F85,"+","-") -> + | I85: 3771 | J85: ='6pf'!Q440 -> 3663687 | K85: = | L85: 3772+3773+3774+3775 | M85: =SUM('6pf'!Q441:Q444) -> 3663687 | N85: =IF(J85=M85,"+","-") -> +
B86: 3776 | C86: ='6pf'!P445 -> 173 | D86: = | E86: 3777+3778+3779+37710 | F86: =SUM('6pf'!P446:P449) -> 173 | G86: =IF(C86=F86,"+","-") -> + | I86: 3776 | J86: ='6pf'!Q445 -> 1081141.2 | K86: = | L86: 3777+3778+3779+37710 | M86: =SUM('6pf'!Q446:Q449) -> 1081141.2 | N86: =IF(J86=M86,"+","-") -> +
B87: 402 | C87: ='6pf'!P476 -> 0 | D87: = | E87: 403+404 | F87: ='6pf'!P477+'6pf'!P478 -> 0 | G87: =IF(C87=F87,"+","-") -> + | I87: 402 | J87: ='6pf'!Q476 -> 0 | K87: = | L87: 403+404 | M87: ='6pf'!Q477+'6pf'!Q478 -> 0 | N87: =IF(J87=M87,"+","-") -> +
B88: 4041 | C88: ='6pf'!P480 -> 0 | D88: <= | E88: 4042+4043+4047+40410+40411 | F88: ='6pf'!P481+'6pf'!P482+'6pf'!P486+'6pf'!P489+'6pf'!P490 -> 0 | G88: =IF(C88<=F88,"+","-") -> + | I88: 4041 | J88: ='6pf'!Q480 -> 0 | K88: <= | L88: 4042+4043+4047+40410+40411 | M88: ='6pf'!Q481+'6pf'!Q482+'6pf'!Q486+'6pf'!Q489+'6pf'!Q490 -> 0 | N88: =IF(J88<=M88,"+","-") -> +
B89: 4043 | C89: ='6pf'!P482 -> 0 | D89: = | E89: 4044+4045+4046 | F89: =SUM('6pf'!P483:P485) -> 0 | G89: =IF(C89=F89,"+","-") -> + | I89: 4043 | J89: ='6pf'!Q482 -> 0 | K89: = | L89: 4044+4045+4046 | M89: =SUM('6pf'!Q483:Q485) -> 0 | N89: =IF(J89=M89,"+","-") -> +
B90: 4047 | C90: ='6pf'!P486 -> 0 | D90: = | E90: 4048+4049 | F90: ='6pf'!P487+'6pf'!P488 -> 0 | G90: =IF(C90=F90,"+","-") -> + | I90: 4047 | J90: ='6pf'!Q486 -> 0 | K90: = | L90: 4048+4049 | M90: ='6pf'!Q487+'6pf'!Q488 -> 0 | N90: =IF(J90=M90,"+","-") -> +
B91: 40412 | C91: ='6pf'!P492 -> 0 | D91: = | E91: 40413+40417 | F91: ='6pf'!P493+'6pf'!P497 -> 0 | G91: =IF(C91=F91,"+","-") -> + | I91: 40412 | J91: ='6pf'!Q492 -> 0 | K91: = | L91: 40413+40417 | M91: ='6pf'!Q493+'6pf'!Q497 -> 0 | N91: =IF(J91=M91,"+","-") -> +
B92: 40413 | C92: ='6pf'!P493 -> 0 | D92: = | E92: 40414+40415+40416 | F92: =SUM('6pf'!P494:P496) -> 0 | G92: =IF(C92=F92,"+","-") -> + | I92: 40413 | J92: ='6pf'!Q493 -> 0 | K92: = | L92: 40414+40415+40416 | M92: =SUM('6pf'!Q494:Q496) -> 0 | N92: =IF(J92=M92,"+","-") -> +
B93: 40417 | C93: ='6pf'!P497 -> 0 | D93: = | E93: 40418+40419 | F93: =SUM('6pf'!P498:P499) -> 0 | G93: =IF(C93=F93,"+","-") -> + | I93: 40417 | J93: ='6pf'!Q497 -> 0 | K93: = | L93: 40418+40419 | M93: =SUM('6pf'!Q498:Q499) -> 0 | N93: =IF(J93=M93,"+","-") -> +
B94: 405 | C94: ='6pf'!P501 -> 64 | D94: = | E94: 406+407+408+409+4091 | F94: =SUM('6pf'!P502:P506) -> 64 | G94: =IF(C94=F94,"+","-") -> + | I94: 405 | J94: ='6pf'!Q501 -> 350680.75 | K94: = | L94: 406+407+408+409+4091 | M94: =SUM('6pf'!Q502:Q506) -> 350680.75 | N94: =IF(J94=M94,"+","-") -> +
B95: 405 | C95: ='6pf'!P501 -> 64 | D95: = | E95: 410+411+412+413+414+415+416+417+418 | F95: =SUM('6pf'!P507:P515) -> 64 | G95: =IF(C95=F95,"+","-") -> + | I95: 405 | J95: ='6pf'!Q501 -> 350680.75 | K95: = | L95: 410+411+412+413+414+415+416+417+418 | M95: =SUM('6pf'!Q507:Q515) -> 350680.75 | N95: =IF(J95=M95,"+","-") -> +
B96: 426 | C96: ='6pf'!P524 -> 0 | D96: = | E96: 4261+4262+4263 | F96: =SUM('6pf'!P525:P527) -> 0 | G96: =IF(C96=F96,"+","-") -> + | I96: 426 | J96: ='6pf'!Q524 -> 0 | K96: = | L96: 4261+4262+4263 | M96: =SUM('6pf'!Q525:Q527) -> 0 | N96: =IF(J96=M96,"+","-") -> +
B97: 429 | C97: ='6pf'!P533 -> 0 | D97: = | E97: 430+431 | F97: ='6pf'!P534+'6pf'!P541 -> 0 | G97: =IF(C97=F97,"+","-") -> + | I97: 429 | J97: ='6pf'!Q533 -> 0 | K97: = | L97: 430+431 | M97: ='6pf'!Q534+'6pf'!Q541 -> 0 | N97: =IF(J97=M97,"+","-") -> +
B98: 430 | C98: ='6pf'!P534 -> 0 | D98: = | E98: 4301+4302+4303 | F98: ='6pf'!P535+'6pf'!P537+'6pf'!P539 -> 0 | G98: =IF(C98=F98,"+","-") -> + | I98: 430 | J98: ='6pf'!Q534 -> 0 | K98: = | L98: 4301+4302+4303 | M98: ='6pf'!Q535+'6pf'!Q537+'6pf'!Q539 -> 0 | N98: =IF(J98=M98,"+","-") -> +
B99: 431 | C99: ='6pf'!P541 -> 0 | D99: = | E99: 4311+4312+4313 | F99: =SUM('6pf'!P542:P544) -> 0 | G99: =IF(C99=F99,"+","-") -> + | I99: 431 | J99: ='6pf'!Q541 -> 0 | K99: = | L99: 4311+4312+4313 | M99: =SUM('6pf'!Q542:Q544) -> 0 | N99: =IF(J99=M99,"+","-") -> +
B100: 432 | C100: ='6pf'!P545 -> 0 | D100: = | E100: 433+434 | F100: ='6pf'!P546+'6pf'!P550 -> 0 | G100: =IF(C100=F100,"+","-") -> + | I100: 432 | J100: ='6pf'!Q545 -> 0 | K100: = | L100: 433+434 | M100: ='6pf'!Q546+'6pf'!Q550 -> 0 | N100: =IF(J100=M100,"+","-") -> +
...
