Workbook
Name OLE_LINK2: '6pf'!#REF!

Sheet 6pf_titul
A1: Державне статистичне спостереження
A3: ЗВІТ про чисельність пенсіонерів і суми призначених місячних пенсій
C4: на | D4: 01.01.2026
A6: Подають: | F6: Терміни подання | G6: Форма № 6-ПФ
A8: Управління Пенсійного фонду України в районах, містах і районах у містах | G8: ЗАТВЕРДЖЕНО Наказ Пенсійного фонду України та Державного комітету статистики України від 29.12.2003 р. № 127/471
A9: – головним управлінням Пенсійного фонду України в Автономній Республіці Крим, областях, містах Києві та Севастополі | F9: 5 лютого
A10: – районним,міським відділам статистики | F10: 25 лютого
A11: Головні управління Пенсійного фонду України в Автономній Республіці Крим, областях, містах Києві та Севастополі
A12: – Пенсійному фонду України | F12: 25 лютого
A13: – головному управлінню статистики в Автономній Республіці Крим, обласним, Київському та Севастопольському міським управлінням статистики зведену інформацію по регіону та районах | F13: 25 лютого | H13: Поштова | I13: Річна
A14: Пенсійний фонд України зведену інформацію по Україні та регіонах
A15: – Державному комітету статистики України | F15: 10 квітня
A17: Найменування організації-складача інформації
A18: Тернопільське об’єднане управління ПФУ Тернопільської області
A20: Поштова адреса
A23: Код форми документа за ДКУД | B23: Коди організації-складача
B24: за ЄДРПОУ | C24: території (КОАТУУ) | D24: виду економічної діяльності (КВЕД) | E24: форми власності (КФВ) | F24: організаційно-правової форми господарювання (КОПФГ) | G24: міністерства, іншого центрального органу, якому підпорядкована організація складач інформації (СПОДУ)* | I24: КС
A25: 1 | B25: 2 | C25: 3 | D25: 4 | E25: 5 | F25: 6 | G25: 7 | H25: 8 | I25: 9
A26: * тільки для підприємств державної форми власності

Sheet 6pf
B2: №№ рядків | D2: Загальна сума призначених пенсій, грн.коп. | J2: Середні розміри призначених місячних пенсій, грн. | P2: Новопризначені пенсії
C3: Чисельність пенсіонерів, які пеербувають на обліку в органах Пенсійного фонду України (осіб) | D3: Місячних пенсій з урахуванням надбавок, підвищень | F3: місячних пенсій з урахуванням надбавок, підвищень, державної адресної допомоги | G3: місячних пенсій з урахуванням надбавок, підвищень, державної адресної допомоги та пенсій за особливі заслуги | H3: місячних пенсій з урахуванням надбавок, підвищень, державної адресної допомоги, пенсій за особливі заслуги, доплат згідно ЗУ "Про про підвищення престижності шахтарської праці" | I3: Загальна сума призначених пенсій, з урахуванням індексації, всього | J3: Місячних пенсій з урахуванням надбавок, підвищень | L3: місячних пенсій з урахуванням надбавок, підвищень, державної адресної допомоги | M3: місячних пенсій з урахуванням надбавок, підвищень, державної адресної допомоги та пенсій за особливі заслуги | N3: місячних пенсій з урахуванням надбавок, підвищень, державної адресної допомоги, пенсій за особливі заслуги, доплат згідно ЗУ "Про про підвищення престижності шахтарської праці" | O3: Загальна сума призначених пенсій, з урахуванням індексації, всього | P3: Чисельність пенсіонерів, які перебувають на обліку в органах Пенсійного фонду України (осіб) | Q3: Загальна сума призначених місячних пенсій разом з цільовою грошовою допомогою, щомісччною державною адресною допомогою до пенсії, надбавкою за особливі заслуги перед Україною, державною соціальною допомогою з урахуванням індексації та обмеження, грн.коп. | R3: Середній розмір призначених місячних пенсій разом з цільовою грошовою допомогою, щомісячною державною адресною допомогою до пенсії, надбавкою за особливі заслуги перед Україною, державною соціальною допомогою з урахуванням індексації, грн. коп.
D4: всього | E4: у тому числі основного розміру | J4: всього | K4: у тому числі основного розміру
A5: А | B5: Б | C5: 1 | D5: 2 | E5: 3 | F5: 4 | G5: 5 | H5: 6 | I5: 7 | J5: 8 | K5: 9 | L5: 10 | M5: 11 | N5: 12 | O5: 13 | P5: 14 | Q5: 15 | R5: 16
A6: Всього пенсiонерiв (рядки 5+ 167+ 195+ 236+ 244+ 252+ 253+ 254+ 262+ 270+ 279+ 282+ 291+ 299+ 300+ 3001+301) у тому числi: | B6: 1 | C6: 257398 | D6: 1.0118019e+09 | E6: 8.064649e+08 | F6: 1.0831962e+09 | G6: 1.0895516e+09 | H6: 1.0903254e+09 | I6: 1.1906184e+09 | J6: 3930.88 | K6: 3133.14 | L6: 4208.25 | M6: 4232.95 | N6: 4235.95 | O6: 4625.59 | P6: 9770 | Q6: 43483819 | R6: 4450.75
A7: Жiнок | B7: 2 | C7: 160818 | D7: 6.195882e+08 | E7: 4.5961389e+08 | F7: 6.5692201e+08 | G7: 6.5758254e+08 | H7: 6.577491e+08 | I7: 7.2311179e+08 | J7: 3852.73 | K7: 2857.98 | L7: 4084.88 | M7: 4088.99 | N7: 4090.02 | O7: 4496.46 | P7: 4825 | Q7: 20857956 | R7: 4322.89
A8: Iз рядка 2 - iнвалiдiв | B8: 3 | C8: 34072 | D8: 94988381 | E8: 73329695 | F8: 1.185304e+08 | G8: 1.1873603e+08 | H8: 1.1875582e+08 | I8: 1.3555117e+08 | J8: 2787.87 | K8: 2152.2 | L8: 3478.82 | M8: 3484.86 | N8: 3485.44 | O8: 3978.37 | P8: 942 | Q8: 3408000.6 | R8: 3617.84
A9: Iз загальної чисельностi пенсiонерiв (рядок1) - проживають у сiльськiй мiсцевостi (рядки 58+ 115+ 134+ 150+ 172+ 177+ 194+ 217+ 233+ 317) | B9: 4 | C9: 153027 | D9: 5.3835017e+08 | E9: 4.0265428e+08 | F9: 5.8551557e+08 | G9: 5.8936145e+08 | H9: 5.8982694e+08 | I9: 6.5493125e+08 | J9: 3518.01 | K9: 2631.26 | L9: 3826.22 | M9: 3851.36 | N9: 3854.4 | O9: 4279.84 | P9: 5424 | Q9: 22706004 | R9: 4186.21
A10: I. ЗАКОН УКРАЇНИ "ПРО ЗАГАЛЬНООБОВ’ЯЗКОВЕ ДЕРЖАВНЕ ПЕНСІЙНЕ СТРАХУВАННЯ"
A11: Всього пенсіонерів (рядки 6+110+128+135) з них: | B11: 5 | C11: 252915 | D11: 9.6815503e+08 | E11: 7.6650946e+08 | F11: 1.0362919e+09 | G11: 1.040534e+09 | H11: 1.0413078e+09 | I11: 1.137849e+09 | J11: 3827.99 | K11: 3030.7 | L11: 4097.39 | M11: 4114.16 | N11: 4117.22 | O11: 4498.94 | P11: 9741 | Q11: 43026604 | R11: 4417.06
A12: 1.За віком у солідарній системі, всього (рядки 7+8+9+10+11+12) (59+60+61+62+63+64+65+66+67+68) | B12: 6 | C12: 195654 | D12: 8.3733014e+08 | E12: 6.6183633e+08 | F12: 8.6068708e+08 | G12: 8.6311823e+08 | H12: 8.6375321e+08 | I12: 9.3543673e+08 | J12: 4279.65 | K12: 3382.69 | L12: 4399.03 | M12: 4411.45 | N12: 4414.7 | O12: 4781.08 | P12: 6170 | Q12: 29837527 | R12: 4835.9
A13: у тому числі призначено пенсію у розмірах: а) нижче мінімальної пенсії за віком | B13: 7 | C13: 3 | D13: 3182.43 | E13: 2144.94 | F13: 5215.75 | G13: 5215.75 | H13: 5215.75 | I13: 5215.75 | J13: 1060.81 | K13: 714.98 | L13: 1738.58 | M13: 1738.58 | N13: 1738.58 | O13: 1738.58 | P13: 0 | Q13: 0 | R13: 0
A14: б) у мінімальному розмірі | B14: 8 | C14: 3160 | D14: 5377381.4 | E14: 4770103.8 | F14: 7990245.5 | G14: 7990245.5 | H14: 7990245.5 | I14: 8200200 | J14: 1701.7 | K14: 1509.53 | L14: 2528.56 | M14: 2528.56 | N14: 2528.56 | O14: 2595 | P14: 317 | Q14: 822615 | R14: 2595
A15: в) вище одного мінімального до двох мінімальних розмірів включно | B15: 9 | C15: 144387 | D15: 4.8495514e+08 | E15: 3.4127979e+08 | F15: 5.0569304e+08 | G15: 5.0569304e+08 | H15: 5.0569304e+08 | I15: 5.6336489e+08 | J15: 3358.72 | K15: 2363.65 | L15: 3502.34 | M15: 3502.34 | N15: 3502.34 | O15: 3901.77 | P15: 4078 | Q15: 13940346 | R15: 3418.43
A16: г) вище двох мінімальних до трьох мінімальних розмірів включно | B16: 10 | C16: 33243 | D16: 1.931187e+08 | E16: 1.7135236e+08 | F16: 1.9312219e+08 | G16: 1.948537e+08 | H16: 1.9486047e+08 | I16: 2.0576588e+08 | J16: 5809.3 | K16: 5154.54 | L16: 5809.41 | M16: 5861.5 | N16: 5861.7 | O16: 6189.75 | P16: 952 | Q16: 6025717.9 | R16: 6329.54
A17: д) вище трьох мінімальних розмірів до чотирьох мінімальних розмірів включно | B17: 11 | C17: 9578 | D17: 82314838 | E17: 76417181 | F17: 82314838 | G17: 82425318 | H17: 82431985 | I17: 85066351 | J17: 8594.16 | K17: 7978.41 | L17: 8594.16 | M17: 8605.69 | N17: 8606.39 | O17: 8881.43 | P17: 489 | Q17: 4368371.7 | R17: 8933.28
A18: є) вище чотирьох мінімальних розмірів | B18: 12 | C18: 5283 | D18: 71560898 | E18: 68014755 | F18: 71561552 | G18: 72150709 | H18: 72772262 | I18: 73034194 | J18: 13545.5 | K18: 12874.27 | L18: 13545.63 | M18: 13657.15 | N18: 13774.8 | O18: 13824.38 | P18: 334 | Q18: 4680476.2 | R18: 14013.4
A19: Із загального числа пенсіонерів за віком із рядка 6 одержують пенсію: а) при страховому стажі більше 20 років та менше 30 років у жінок та більше 25 років та менше 35 років – у чоловіків | B19: 13 | C19: 47918 | D19: 1.4154711e+08 | E19: 1.0745762e+08 | F19: 1.5053481e+08 | G19: 1.5145852e+08 | H19: 1.5178713e+08 | I19: 1.7402083e+08 | J19: 2953.94 | K19: 2242.53 | L19: 3141.51 | M19: 3160.79 | N19: 3167.64 | O19: 3631.64 | P19: 1867 | Q19: 7487058.4 | R19: 4010.21
A20: б) за роботу у сільському господарстві | B20: 14 | C20: 9941 | D20: 41345723 | E20: 25807962 | F20: 41444651 | G20: 41624765 | H20: 41624765 | I20: 47937873 | J20: 4159.11 | K20: 2596.11 | L20: 4169.06 | M20: 4187.18 | N20: 4187.18 | O20: 4822.24 | P20: 0 | Q20: 0 | R20: 0
A21: в) при страховому стажі менше 20 років у жінок та 25 років – у чоловіків | B21: 15 | C21: 12955 | D21: 23918622 | E21: 13719954 | F21: 35278887 | G21: 35442036 | H21: 35442036 | I21: 40938997 | J21: 1846.29 | K21: 1059.05 | L21: 2723.19 | M21: 2735.78 | N21: 2735.78 | O21: 3160.09 | P21: 1182 | Q21: 3717773.7 | R21: 3145.32
A22: Із загального числа пенсіонерів за віком у солідарній системі (рядок 6) жінки, яким виповнилося 55 років і яким призначено дострокову пенсію за віком згідго із пунктом 7-2 розділу ХV Закону України “Про загальнообов'язкове державне пенсійне страхування” | B22: 1511 | C22: 4416 | D22: 17728836 | E22: 10798162 | F22: 17804293 | G22: 17806238 | H22: 17806238 | I22: 17935947 | J22: 4014.68 | K22: 2445.24 | L22: 4031.77 | M22: 4032.21 | N22: 4032.21 | O22: 4061.58 | P22: 0 | Q22: 0 | R22: 0
... A188: Пенсіонери, яким призначено грошову допомогу у розмірі десяти місячних пенсій згідно із п. 7-1 розділу ХV Закону України “Про загальнообов'язкове державне пенсійне страхування” | B188: 1661 | C188: 3192 | D188: 22337588 | E188: 19774485 | F188: 22338149 | G188: 22338149 | H188: 22338149 | I188: 22557895 | J188: 6997.99 | K188: 6195.01 | L188: 6998.17 | M188: 6998.17 | N188: 6998.17 | O188: 7067.01 | P188: 269 | Q188: 2111742.3 | R188: 7850.34
A189: ІI. ЗАКОН УКРАЇНИ "ПРО ПЕНСІЙНЕ ЗАБЕЗПЕЧЕННЯ"
A190: Всього пенсіонерів (167=168+173+178) | B190: 167 | C190: 1270 | D190: 34898.83 | E190: 23232.33 | F190: 3288663.7 | G190: 3323486 | H190: 3323486 | I190: 3792004 | J190: 27.48 | K190: 18.29 | L190: 2589.5 | M190: 2616.92 | N190: 2616.92 | O190: 2985.83 | P190: 0 | Q190: 0 | R190: 0
A191: 1. Пенсіонери за інвалідністю від нещасного випадку на виробництві або професійного захворювання (169+170+171) | B191: 168 | C191: 1 | D191: 50 | E191: 50 | F191: 2595 | G191: 2595 | H191: 2595 | I191: 3038 | J191: 50 | K191: 50 | L191: 2595 | M191: 2595 | N191: 2595 | O191: 3038 | P191: 0 | Q191: 0 | R191: 0
A192: з них: І групи | B192: 169 | C192: 1 | D192: 50 | E192: 50 | F192: 2595 | G192: 2595 | H192: 2595 | I192: 3038 | J192: 50 | K192: 50 | L192: 2595 | M192: 2595 | N192: 2595 | O192: 3038 | P192: 0 | Q192: 0 | R192: 0
A193: ІІ групи | B193: 170 | C193: 0 | D193: 0 | E193: 0 | F193: 0 | G193: 0 | H193: 0 | I193: 0 | J193: 0 | K193: 0 | L193: 0 | M193: 0 | N193: 0 | O193: 0 | P193: 0 | Q193: 0 | R193: 0
A194: ІІІ групи | B194: 171 | C194: 0 | D194: 0 | E194: 0 | F194: 0 | G194: 0 | H194: 0 | I194: 0 | J194: 0 | K194: 0 | L194: 0 | M194: 0 | N194: 0 | O194: 0 | P194: 0 | Q194: 0 | R194: 0
A195: Із рядка 168: – інваліди війни | B195: 1711 | C195: 0 | D195: 0 | E195: 0 | F195: 0 | G195: 0 | H195: 0 | I195: 0 | J195: 0 | K195: 0 | L195: 0 | M195: 0 | N195: 0 | O195: 0 | P195: 0 | Q195: 0 | R195: 0
A196: – проживають у сільській місцевості | B196: 172 | C196: 0 | D196: 0 | E196: 0 | F196: 0 | G196: 0 | H196: 0 | I196: 0 | J196: 0 | K196: 0 | L196: 0 | M196: 0 | N196: 0 | O196: 0 | P196: 0 | Q196: 0 | R196: 0
A197: 2. Пенсіонери у зв’язку із втратою годувальника, який помер внаслідок нещасного випадку на виробництві або професійного захворювання (осіб) (174+175+176) | B197: 173 | C197: 1 | D197: 11.06 | E197: 11.06 | F197: 2595 | G197: 2595 | H197: 2595 | I197: 3051 | J197: 11.06 | K197: 11.06 | L197: 2595 | M197: 2595 | N197: 2595 | O197: 3051 | P197: 0 | Q197: 0 | R197: 0
A198: у тому числі: з одним непрацездатним | B198: 174 | C198: 1 | D198: 11.06 | E198: 11.06 | F198: 2595 | G198: 2595 | H198: 2595 | I198: 3051 | J198: 11.06 | K198: 11.06 | L198: 2595 | M198: 2595 | N198: 2595 | O198: 3051 | P198: 0 | Q198: 0 | R198: 0
A199: з двома непрацездатними | B199: 175 | C199: 0 | D199: 0 | E199: 0 | F199: 0 | G199: 0 | H199: 0 | I199: 0 | J199: 0 | K199: 0 | L199: 0 | M199: 0 | N199: 0 | O199: 0 | P199: 0 | Q199: 0 | R199: 0
A200: з трьома і більше непрацездатними | B200: 176 | C200: 0 | D200: 0 | E200: 0 | F200: 0 | G200: 0 | H200: 0 | I200: 0 | J200: 0 | K200: 0 | L200: 0 | M200: 0 | N200: 0 | O200: 0 | P200: 0 | Q200: 0 | R200: 0
A201: Із рядка 173 – проживають у сільській місцевості | B201: 177 | C201: 0 | D201: 0 | E201: 0 | F201: 0 | G201: 0 | H201: 0 | I201: 0 | J201: 0 | K201: 0 | L201: 0 | M201: 0 | N201: 0 | O201: 0 | P201: 0 | Q201: 0 | R201: 0
... A218: Із рядка 178 - проживають у сільській місцевості | B218: 194 | C218: 813 | D218: 24230.26 | E218: 15069.28 | F218: 2102748.7 | G218: 2137571 | H218: 2137571 | I218: 2452929 | J218: 29.8 | K218: 18.54 | L218: 2586.41 | M218: 2629.24 | N218: 2629.24 | O218: 3017.13 | P218: 0 | Q218: 0 | R218: 0
A219: ІII. ЗАКОН УКРАЇНИ "ПРО ПЕНСІЙНЕ ЗАБЕЗПЕЧЕННЯ ОСІБ, ЗВІЛЬНЕНИХ З ВІЙСЬКОВОЇ СЛУЖБИ, ТА ДЕЯКИХ ІНШИХ ОСІБ”
A220: Пенсіонери-військовослужбовці та їхні сім'ї, які одержують пенсії в органах Пенсійного фонду (рядки 196+229) | B220: 195 | C220: 1098 | D220: 9272967.7 | E220: 7479115.3 | F220: 9272967.7 | G220: 11349485 | H220: 11349485 | I220: 11528793 | J220: 8445.33 | K220: 6811.58 | L220: 8445.33 | M220: 10336.51 | N220: 10336.51 | O220: 10499.81 | P220: 1 | Q220: 5842.18 | R220: 5842.18
A221: з них: 1. Пенсіонери за інвалідністю із числа військовослужбовців (сума рядків 200+207) (197+198+199) | B221: 196 | C221: 903 | D221: 8024259.4 | E221: 6401301.7 | F221: 8024259.4 | G221: 10100777 | H221: 10100777 | I221: 10192162 | J221: 8886.22 | K221: 7088.93 | L221: 8886.22 | M221: 11185.8 | N221: 11185.8 | O221: 11287 | P221: 0 | Q221: 0 | R221: 0
A222: у тому числі: І групи | B222: 197 | C222: 36 | D222: 373691.18 | E222: 275984.79 | F222: 373691.18 | G222: 452911.86 | H222: 452911.86 | I222: 463719.73 | J222: 10380.31 | K222: 7666.24 | L222: 10380.31 | M222: 12580.88 | N222: 12580.88 | O222: 12881.1 | P222: 0 | Q222: 0 | R222: 0
...

Sheet Контроль 6pf
B1: Контроль рядків | I1: Контроль рядків
B2: Чисельність | I2: Сума | J2: Графа 7
D3: Условие | G3: Результат | K3: Условие | N3: Результат
B4: 1 | C4: ='6pf'!C6 -> 257398 | D4: = | E4: 5+167+195+236+244+252+253+254+262+270+279+282+291+299+300+301+3001 | F4: ='6pf'!C11+'6pf'!C190+'6pf'!C220+'6pf'!C262+'6pf'!C272+'6pf'!C281+'6pf'!C283+'6pf'!C285+'6pf'!C294+'6pf'!C303+'6pf'!C313+'6pf'!C322+'6pf'!C332+'6pf'!C341+'6pf'!C346+'6pf'!C348+'6pf'!C358 -> 257398 | G4: =IF(C4=F4,"+","-") -> + | I4: 1 | J4: ='6pf'!I6 -> 1.1906184e+09 | K4: = | L4: 5+167+195+236+244+252+253+254+262+270+279+282+291+299+300+301+3001 | M4: ='6pf'!I11+'6pf'!I190+'6pf'!I220+'6pf'!I262+'6pf'!I272+'6pf'!I281+'6pf'!I283+'6pf'!I285+'6pf'!I294+'6pf'!I303+'6pf'!I313+'6pf'!I322+'6pf'!I332+'6pf'!I341+'6pf'!I346+'6pf'!I348+'6pf'!I358 -> 1.1906184e+09 | N4: =IF(J4=M4,"+","-") -> +
B5: 4 | C5: ='6pf'!C9 -> 153027 | D5: = | E5: 58+115+134+150+172+177+194+217+233+317 | F5: ='6pf'!C70+'6pf'!C131+'6pf'!C151+'6pf'!C174+'6pf'!C196+'6pf'!C201+'6pf'!C218+'6pf'!C242+'6pf'!C258+'6pf'!C377 -> 153027 | G5: =IF(C5=F5,"+","-") -> + | I5: 4 | J5: ='6pf'!I9 -> 6.5493125e+08 | K5: = | L5: 58+115+134+150+172+177+194+217+233+317 | M5: ='6pf'!I70+'6pf'!I131+'6pf'!I151+'6pf'!I174+'6pf'!I196+'6pf'!I201+'6pf'!I218+'6pf'!I242+'6pf'!I258+'6pf'!I377 -> 6.5493125e+08 | N5: =IF(J5=M5,"+","-") -> +
B6: 5 | C6: ='6pf'!C11 -> 252915 | D6: = | E6: 6+110+128+135 | F6: ='6pf'!C12+'6pf'!C118+'6pf'!C144+'6pf'!C158 -> 252915 | G6: =IF(C6=F6,"+","-") -> + | I6: 5 | J6: ='6pf'!I11 -> 1.137849e+09 | K6: = | L6: 6+110+128+135 | M6: ='6pf'!I12+'6pf'!I118+'6pf'!I144+'6pf'!I158 -> 1.137849e+09 | N6: =IF(J6=M6,"+","-") -> +
B7: 6 | C7: ='6pf'!C12 -> 195654 | D7: = | E7: 7+8+9+10+11+12 | F7: =SUM('6pf'!C13:C18) -> 195654 | G7: =IF(C7=F7,"+","-") -> + | I7: 6 | J7: ='6pf'!I12 -> 9.3543673e+08 | K7: = | L7: 7+8+9+10+11+12 | M7: =SUM('6pf'!I13:I18) -> 9.3543673e+08 | N7: =IF(J7=M7,"+","-") -> +
B8: 6 | C8: ='6pf'!C12 -> 195654 | D8: = | E8: 59+60+61+62+63+64+65+66+67+68 | F8: =SUM('6pf'!C71:C80) -> 195654 | G8: =IF(C8=F8,"+","-") -> + | I8: 6 | J8: ='6pf'!I12 -> 9.3543673e+08 | K8: = | L8: 59+60+61+62+63+64+65+66+67+68 | M8: =SUM('6pf'!I71:I80) -> 9.3543673e+08 | N8: =IF(J8=M8,"+","-") -> +
B9: 16 | C9: ='6pf'!C24 -> 22902 | D9: = | E9: 17+21+25+29+30+31+32+33+34+35+39+46+49+52+55 | F9: ='6pf'!C25+'6pf'!C32+'6pf'!C36+'6pf'!C40+'6pf'!C41+'6pf'!C42+'6pf'!C43+'6pf'!C44+'6pf'!C45+'6pf'!C46+'6pf'!C50+'6pf'!C57+'6pf'!C61+'6pf'!C64+'6pf'!C67 -> 22902 | G9: =IF(C9=F9,"+","-") -> + | I9: 16 | J9: ='6pf'!I24 -> 1.1393332e+08 | K9: = | L9: 17+21+25+29+30+31+32+33+34+35+39+46+49+52+55 | M9: ='6pf'!I25+'6pf'!I32+'6pf'!I36+'6pf'!I40+'6pf'!I41+'6pf'!I42+'6pf'!I43+'6pf'!I44+'6pf'!I45+'6pf'!I46+'6pf'!I50+'6pf'!I57+'6pf'!I61+'6pf'!I64+'6pf'!I67 -> 1.1393332e+08 | N9: =IF(J9=M9,"+","-") -> +
B10: 69 | C10: ='6pf'!C81 -> 148434 | D10: = | E10: 70+71+72+73+74+75+76+77+78+79+80+81+82+83+84+85 | F10: =SUM('6pf'!C82:C97) -> 148434 | G10: =IF(C10=F10,"+","-") -> + | I10: 69 | J10: ='6pf'!I81 -> 7.7380722e+08 | K10: = | L10: 70+71+72+73+74+75+76+77+78+79+80+81+82+83+84+85 | M10: =SUM('6pf'!I82:I97) -> 7.7380722e+08 | N10: =IF(J10=M10,"+","-") -> +
B11: 86 | C11: ='6pf'!C98 -> 0 | D11: = | E11: 86 | F11: ='6pf'!C98 -> 0 | G11: =IF(C11=F11,"+","-") -> + | I11: 86 | J11: ='6pf'!I98 -> 0 | K11: = | L11: 86 | M11: ='6pf'!I98 -> 0 | N11: =IF(J11=M11,"+","-") -> +
B12: 97 | C12: ='6pf'!C105 -> 0 | D12: = | E12: 98+99+100+101 | F12: ='6pf'!C106+'6pf'!C107+'6pf'!C108+'6pf'!C109 -> 0 | G12: =IF(C12=F12,"+","-") -> + | I12: 97 | J12: ='6pf'!I105 -> 0 | K12: = | L12: 98+99+100+101 | M12: ='6pf'!I106+'6pf'!I107+'6pf'!I108+'6pf'!I109 -> 0 | N12: =IF(J12=M12,"+","-") -> +
B13: 102 | C13: ='6pf'!C110 -> 77 | D13: = | E13: 103+104+105 | F13: ='6pf'!C111+'6pf'!C112+'6pf'!C113 -> 77 | G13: =IF(C13=F13,"+","-") -> + | I13: 102 | J13: ='6pf'!I110 -> 1287457.7 | K13: = | L13: 103+104+105 | M13: ='6pf'!I111+'6pf'!I112+'6pf'!I113 -> 1287457.7 | N13: =IF(J13=M13,"+","-") -> +
B14: 106 | C14: ='6pf'!C114 -> 14037 | D14: = | E14: 107+108+109 | F14: ='6pf'!C115+'6pf'!C116+'6pf'!C117 -> 14037 | G14: =IF(C14=F14,"+","-") -> + | I14: 106 | J14: ='6pf'!I114 -> 76399944 | K14: = | L14: 107+108+109 | M14: ='6pf'!I115+'6pf'!I116+'6pf'!I117 -> 76399944 | N14: =IF(J14=M14,"+","-") -> +
B15: 110 | C15: ='6pf'!C118 -> 41755 | D15: = | E15: 111+112+113 | F15: ='6pf'!C119+'6pf'!C120+'6pf'!C121 -> 41755 | G15: =IF(C15=F15,"+","-") -> + | I15: 110 | J15: ='6pf'!I118 -> 1.4623214e+08 | K15: = | L15: 111+112+113 | M15: ='6pf'!I119+'6pf'!I120+'6pf'!I121 -> 1.4623214e+08 | N15: =IF(J15=M15,"+","-") -> +
B16: 110 | C16: ='6pf'!C118 -> 41755 | D16: = | E16: 117+119+123 | F16: ='6pf'!C133+'6pf'!C135+'6pf'!C139 -> 41755 | G16: =IF(C16=F16,"+","-") -> + | I16: 110 | J16: ='6pf'!I118 -> 1.4623214e+08 | K16: = | L16: 117+119+123 | M16: ='6pf'!I133+'6pf'!I135+'6pf'!I139 -> 1.4623214e+08 | N16: =IF(J16=M16,"+","-") -> +
B17: 1131 | C17: ='6pf'!C122 -> 3423 | D17: = | E17: 1132+1133+1134 | F17: ='6pf'!C123+'6pf'!C124+'6pf'!C125 -> 3423 | G17: =IF(C17=F17,"+","-") -> + | I17: 1131 | J17: ='6pf'!I122 -> 8882685 | K17: = | L17: 1132+1133+1134 | M17: ='6pf'!I123+'6pf'!I124+'6pf'!I125 -> 8882685 | N17: =IF(J17=M17,"+","-") -> +
B18: 1135 | C18: ='6pf'!C126 -> 5 | D18: = | E18: 1136+1137+1138 | F18: ='6pf'!C127+'6pf'!C128+'6pf'!C129 -> 5 | G18: =IF(C18=F18,"+","-") -> + | I18: 1135 | J18: ='6pf'!I126 -> 12975 | K18: = | L18: 1136+1137+1138 | M18: ='6pf'!I127+'6pf'!I128+'6pf'!I129 -> 12975 | N18: =IF(J18=M18,"+","-") -> +
B19: 119 | C19: ='6pf'!C135 -> 125 | D19: = | E19: 120+121+122 | F19: ='6pf'!C136+'6pf'!C137+'6pf'!C138 -> 125 | G19: =IF(C19=F19,"+","-") -> + | I19: 119 | J19: ='6pf'!I135 -> 1563310.9 | K19: = | L19: 120+121+122 | M19: ='6pf'!I136+'6pf'!I137+'6pf'!I138 -> 1563310.9 | N19: =IF(J19=M19,"+","-") -> +
B20: 128 | C20: ='6pf'!C144 -> 10667 | D20: = | E20: 129+130+131 | F20: ='6pf'!C145+'6pf'!C146+'6pf'!C147 -> 10667 | G20: =IF(C20=F20,"+","-") -> + | I20: 128 | J20: ='6pf'!I144 -> 34843739 | K20: = | L20: 129+130+131 | M20: ='6pf'!I145+'6pf'!I146+'6pf'!I147 -> 34843739 | N20: =IF(J20=M20,"+","-") -> +
B21: 1341 | C21: ='6pf'!C152 -> 5375 | D21: = | E21: 1342+1343+1344 | F21: ='6pf'!C153+'6pf'!C154+'6pf'!C155 -> 5375 | G21: =IF(C21=F21,"+","-") -> + | I21: 1341 | J21: ='6pf'!I152 -> 16971413 | K21: = | L21: 1342+1343+1344 | M21: ='6pf'!I153+'6pf'!I154+'6pf'!I155 -> 16971413 | N21: =IF(J21=M21,"+","-") -> +
B22: 1341 | C22: ='6pf'!C152 -> 5375 | D22: = | E22: 1345+1346 | F22: ='6pf'!C156+'6pf'!C157 -> 5375 | G22: =IF(C22=F22,"+","-") -> + | I22: 1341 | J22: ='6pf'!I152 -> 16971413 | K22: = | L22: 1345+1346 | M22: ='6pf'!I156+'6pf'!I157 -> 16971413 | N22: =IF(J22=M22,"+","-") -> +
B23: 135 | C23: ='6pf'!C158 -> 4839 | D23: = | E23: 136+140+141+142+143+144+145+146+1461+147+148+149 | F23: ='6pf'!C159+'6pf'!C163+'6pf'!C164+'6pf'!C165+'6pf'!C166+'6pf'!C167+'6pf'!C168+'6pf'!C169+'6pf'!C170+'6pf'!C171+'6pf'!C172+'6pf'!C173 -> 4839 | G23: =IF(C23=F23,"+","-") -> + | I23: 135 | J23: ='6pf'!I158 -> 21336399 | K23: = | L23: 136+140+141+142+143+144+145+146+1461+147+148+149 | M23: ='6pf'!I159+'6pf'!I163+'6pf'!I164+'6pf'!I165+'6pf'!I166+'6pf'!I167+'6pf'!I168+'6pf'!I169+'6pf'!I170+'6pf'!I171+'6pf'!I172+'6pf'!I173 -> 21336399 | N23: =IF(J23=M23,"+","-") -> +
B24: 136 | C24: ='6pf'!C159 -> 45 | D24: = | E24: 137+138+139 | F24: ='6pf'!C160+'6pf'!C161+'6pf'!C162 -> 45 | G24: =IF(C24=F24,"+","-") -> + | I24: 136 | J24: ='6pf'!I159 -> 1023460 | K24: = | L24: 137+138+139 | M24: ='6pf'!I160+'6pf'!I161+'6pf'!I162 -> 1023460 | N24: =IF(J24=M24,"+","-") -> +
B25: 153 | C25: ='6pf'!C177 -> 161 | D25: = | E25: 154+155+156 | F25: ='6pf'!C178+'6pf'!C179+'6pf'!C180 -> 161 | G25: =IF(C25=F25,"+","-") -> + | I25: 153 | J25: ='6pf'!I177 -> 990558.44 | K25: = | L25: 154+155+156 | M25: ='6pf'!I178+'6pf'!I179+'6pf'!I180 -> 990558.44 | N25: =IF(J25=M25,"+","-") -> +
B26: 153 | C26: ='6pf'!C177 -> 161 | D26: = | E26: 157+158 | F26: ='6pf'!C181+'6pf'!C182 -> 161 | G26: =IF(C26=F26,"+","-") -> + | I26: 153 | J26: ='6pf'!I177 -> 990558.44 | K26: = | L26: 157+158 | M26: ='6pf'!I181+'6pf'!I182 -> 990558.44 | N26: =IF(J26=M26,"+","-") -> +
B27: 167 | C27: ='6pf'!C190 -> 1270 | D27: = | E27: 168+173+178 | F27: ='6pf'!C191+'6pf'!C197+'6pf'!C202 -> 1270 | G27: =IF(C27=F27,"+","-") -> + | I27: 167 | J27: ='6pf'!I190 -> 3792004 | K27: = | L27: 168+173+178 | M27: ='6pf'!I191+'6pf'!I197+'6pf'!I202 -> 3792004 | N27: =IF(J27=M27,"+","-") -> +
B28: 168 | C28: ='6pf'!C191 -> 1 | D28: = | E28: 169+170+171 | F28: ='6pf'!C192+'6pf'!C193+'6pf'!C194 -> 1 | G28: =IF(C28=F28,"+","-") -> + | I28: 168 | J28: ='6pf'!I191 -> 3038 | K28: = | L28: 169+170+171 | M28: ='6pf'!I192+'6pf'!I193+'6pf'!I194 -> 3038 | N28: =IF(J28=M28,"+","-") -> +
B29: 173 | C29: ='6pf'!C197 -> 1 | D29: = | E29: 174+175+176 | F29: ='6pf'!C198+'6pf'!C199+'6pf'!C200 -> 1 | G29: =IF(C29=F29,"+","-") -> + | I29: 173 | J29: ='6pf'!I197 -> 3051 | K29: = | L29: 174+175+176 | M29: ='6pf'!I198+'6pf'!I199+'6pf'!I200 -> 3051 | N29: =IF(J29=M29,"+","-") -> +
B30: 178 | C30: ='6pf'!C202 -> 1268 | D30: = | E30: 179+183+184+190+192+193 | F30: ='6pf'!C203+'6pf'!C207+'6pf'!C208+'6pf'!C214+'6pf'!C216+'6pf'!C217 -> 1268 | G30: =IF(C30=F30,"+","-") -> + | I30: 178 | J30: ='6pf'!I202 -> 3785915 | K30: = | L30: 179+183+184+190+192+193 | M30: ='6pf'!I203+'6pf'!I207+'6pf'!I208+'6pf'!I214+'6pf'!I216+'6pf'!I217 -> 3785915 | N30: =IF(J30=M30,"+","-") -> +
B31: 179 | C31: ='6pf'!C203 -> 949 | D31: = | E31: 180+181+182 | F31: ='6pf'!C204+'6pf'!C205+'6pf'!C206 -> 949 | G31: =IF(C31=F31,"+","-") -> + | I31: 179 | J31: ='6pf'!I203 -> 2840788 | K31: = | L31: 180+181+182 | M31: ='6pf'!I204+'6pf'!I205+'6pf'!I206 -> 2840788 | N31: =IF(J31=M31,"+","-") -> +
B32: 184 | C32: ='6pf'!C208 -> 282 | D32: = | E32: 185+186+187 | F32: ='6pf'!C209+'6pf'!C210+'6pf'!C211 -> 282 | G32: =IF(C32=F32,"+","-") -> + | I32: 184 | J32: ='6pf'!I208 -> 830940 | K32: = | L32: 185+186+187 | M32: ='6pf'!I209+'6pf'!I210+'6pf'!I211 -> 830940 | N32: =IF(J32=M32,"+","-") -> +
B33: 195 | C33: ='6pf'!C220 -> 1098 | D33: = | E33: 196+229 | F33: ='6pf'!C221+'6pf'!C254 -> 1098 | G33: =IF(C33=F33,"+","-") -> + | I33: 195 | J33: ='6pf'!I220 -> 11528793 | K33: = | L33: 196+229 | M33: ='6pf'!I221+'6pf'!I254 -> 11528793 | N33: =IF(J33=M33,"+","-") -> +
B34: 196 | C34: ='6pf'!C221 -> 903 | D34: = | E34: 197+198+199 | F34: ='6pf'!C222+'6pf'!C223+'6pf'!C224 -> 903 | G34: =IF(C34=F34,"+","-") -> + | I34: 196 | J34: ='6pf'!I221 -> 10192162 | K34: = | L34: 197+198+199 | M34: ='6pf'!I222+'6pf'!I223+'6pf'!I224 -> 10192162 | N34: =IF(J34=M34,"+","-") -> +
B35: 196 | C35: ='6pf'!C221 -> 903 | D35: = | E35: 200+207 | F35: ='6pf'!C225+'6pf'!C232 -> 903 | G35: =IF(C35=F35,"+","-") -> + | I35: 196 | J35: ='6pf'!I221 -> 10192162 | K35: = | L35: 200+207 | M35: ='6pf'!I225+'6pf'!I232 -> 10192162 | N35: =IF(J35=M35,"+","-") -> +
B36: 200 | C36: ='6pf'!C225 -> 707 | D36: = | E36: 201+203+205 | F36: ='6pf'!C226+'6pf'!C228+'6pf'!C230 -> 707 | G36: =IF(C36=F36,"+","-") -> + | I36: 200 | J36: ='6pf'!I225 -> 8884616.2 | K36: = | L36: 201+203+205 | M36: ='6pf'!I226+'6pf'!I228+'6pf'!I230 -> 8884616.2 | N36: =IF(J36=M36,"+","-") -> +
B37: 207 | C37: ='6pf'!C232 -> 196 | D37: = | E37: 208+210+212 | F37: ='6pf'!C233+'6pf'!C235+'6pf'!C237 -> 196 | G37: =IF(C37=F37,"+","-") -> + | I37: 207 | J37: ='6pf'!I232 -> 1307545.9 | K37: = | L37: 208+210+212 | M37: ='6pf'!I233+'6pf'!I235+'6pf'!I237 -> 1307545.9 | N37: =IF(J37=M37,"+","-") -> +
B38: 225 | C38: ='6pf'!C247 -> 18 | D38: = | E38: 226+227+228 | F38: ='6pf'!C248+'6pf'!C249+'6pf'!C250 -> 18 | G38: =IF(C38=F38,"+","-") -> + | I38: 225 | J38: ='6pf'!I247 -> 142343.89 | K38: = | L38: 226+227+228 | M38: ='6pf'!I248+'6pf'!I249+'6pf'!I250 -> 142343.89 | N38: =IF(J38=M38,"+","-") -> +
B39: 229 | C39: ='6pf'!C254 -> 195 | D39: = | E39: 230+231+232 | F39: ='6pf'!C255+'6pf'!C256+'6pf'!C257 -> 195 | G39: =IF(C39=F39,"+","-") -> + | I39: 229 | J39: ='6pf'!I254 -> 1336630.5 | K39: = | L39: 230+231+232 | M39: ='6pf'!I255+'6pf'!I256+'6pf'!I257 -> 1336630.5 | N39: =IF(J39=M39,"+","-") -> +
B40: 236 | C40: ='6pf'!C262 -> 819 | D40: = | E40: 237+238+243 | F40: ='6pf'!C263+'6pf'!C264+'6pf'!C270 -> 819 | G40: =IF(C40=F40,"+","-") -> + | I40: 236 | J40: ='6pf'!I262 -> 10560637 | K40: = | L40: 237+238+243 | M40: ='6pf'!I263+'6pf'!I264+'6pf'!I270 -> 10560637 | N40: =IF(J40=M40,"+","-") -> +
...

Sheet Контроль 6pf новопризнач.
B1: Контроль рядків | I1: Контроль рядків
B2: Чисельність | I2: Сума | J2: Графа 7
D3: Условие | G3: Результат | K3: Условие | N3: Результат
B4: 1 | C4: ='6pf'!P6 -> 9770 | D4: = | E4: 5+167+195+236+244+252+253+254+262+270+279+282+291+299+300+301+3001 | F4: ='6pf'!P11+'6pf'!P190+'6pf'!P220+'6pf'!P262+'6pf'!P272+'6pf'!P281+'6pf'!P283+'6pf'!P285+'6pf'!P294+'6pf'!P303+'6pf'!P313+'6pf'!P322+'6pf'!P332+'6pf'!P341+'6pf'!P346+'6pf'!P348+'6pf'!P358 -> 9770 | G4: =IF(C4=F4,"+","-") -> + | I4: 1 | J4: ='6pf'!Q6 -> 43483819 | K4: = | L4: 5+167+195+236+244+252+253+254+262+270+279+282+291+299+300+301+3001 | M4: ='6pf'!Q11+'6pf'!Q190+'6pf'!Q220+'6pf'!Q262+'6pf'!Q272+'6pf'!Q281+'6pf'!Q283+'6pf'!Q285+'6pf'!Q294+'6pf'!Q303+'6pf'!Q313+'6pf'!Q322+'6pf'!Q332+'6pf'!Q341+'6pf'!Q346+'6pf'!Q348+'6pf'!Q358 -> 43483819 | N4: =IF(J4=M4,"+","-") -> +
B5: 4 | C5: ='6pf'!P9 -> 5424 | D5: = | E5: 58+115+134+150+172+177+194+217+233+317 | F5: ='6pf'!P70+'6pf'!P131+'6pf'!P151+'6pf'!P174+'6pf'!P196+'6pf'!P201+'6pf'!P218+'6pf'!P242+'6pf'!P258+'6pf'!P377 -> 5424 | G5: =IF(C5=F5,"+","-") -> + | I5: 4 | J5: ='6pf'!Q9 -> 22706004 | K5: = | L5: 58+115+134+150+172+177+194+217+233+317 | M5: ='6pf'!Q70+'6pf'!Q131+'6pf'!Q151+'6pf'!Q174+'6pf'!Q196+'6pf'!Q201+'6pf'!Q218+'6pf'!Q242+'6pf'!Q258+'6pf'!Q377 -> 22706004 | N5: =IF(J5=M5,"+","-") -> +
B6: 5 | C6: ='6pf'!P11 -> 9741 | D6: = | E6: 6+110+128+135 | F6: ='6pf'!P12+'6pf'!P118+'6pf'!P144+'6pf'!P158 -> 9741 | G6: =IF(C6=F6,"+","-") -> + | I6: 5 | J6: ='6pf'!Q11 -> 43026604 | K6: = | L6: 6+110+128+135 | M6: ='6pf'!Q12+'6pf'!Q118+'6pf'!Q144+'6pf'!Q158 -> 43026604 | N6: =IF(J6=M6,"+","-") -> +
B7: 6 | C7: ='6pf'!P12 -> 6170 | D7: = | E7: 7+8+9+10+11+12 | F7: =SUM('6pf'!P13:P18) -> 6170 | G7: =IF(C7=F7,"+","-") -> + | I7: 6 | J7: ='6pf'!Q12 -> 29837527 | K7: = | L7: 7+8+9+10+11+12 | M7: =SUM('6pf'!Q13:Q18) -> 29837527 | N7: =IF(J7=M7,"+","-") -> +
B8: 6 | C8: ='6pf'!P12 -> 6170 | D8: = | E8: 59+60+61+62+63+64+65+66+67+68 | F8: =SUM('6pf'!P71:P80) -> 6170 | G8: =IF(C8=F8,"+","-") -> + | I8: 6 | J8: ='6pf'!Q12 -> 29837527 | K8: = | L8: 59+60+61+62+63+64+65+66+67+68 | M8: =SUM('6pf'!Q71:Q80) -> 29837527 | N8: =IF(J8=M8,"+","-") -> +
B9: 16 | C9: ='6pf'!P24 -> 590 | D9: = | E9: 17+21+25+29+30+31+32+33+34+35+39+46+49+52+55 | F9: ='6pf'!P25+'6pf'!P32+'6pf'!P36+'6pf'!P40+'6pf'!P41+'6pf'!P42+'6pf'!P43+'6pf'!P44+'6pf'!P45+'6pf'!P46+'6pf'!P50+'6pf'!P57+'6pf'!P61+'6pf'!P64+'6pf'!P67 -> 590 | G9: =IF(C9=F9,"+","-") -> + | I9: 16 | J9: ='6pf'!Q24 -> 3500352.6 | K9: = | L9: 17+21+25+29+30+31+32+33+34+35+39+46+49+52+55 | M9: ='6pf'!Q25+'6pf'!Q32+'6pf'!Q36+'6pf'!Q40+'6pf'!Q41+'6pf'!Q42+'6pf'!Q43+'6pf'!Q44+'6pf'!Q45+'6pf'!Q46+'6pf'!Q50+'6pf'!Q57+'6pf'!Q61+'6pf'!Q64+'6pf'!Q67 -> 3500352.6 | N9: =IF(J9=M9,"+","-") -> +
B10: 69 | C10: ='6pf'!P81 -> 2727 | D10: = | E10: 70+71+72+73+74+75+76+77+78+79+80+81+82+83+84+85 | F10: =SUM('6pf'!P82:P97) -> 2727 | G10: =IF(C10=F10,"+","-") -> + | I10: 69 | J10: ='6pf'!Q81 -> 16856070 | K10: = | L10: 70+71+72+73+74+75+76+77+78+79+80+81+82+83+84+85 | M10: =SUM('6pf'!Q82:Q97) -> 16856070 | N10: =IF(J10=M10,"+","-") -> +
B11: 86 | C11: ='6pf'!P98 -> 0 | D11: = | E11: 86 | F11: ='6pf'!P98 -> 0 | G11: =IF(C11=F11,"+","-") -> + | I11: 86 | J11: ='6pf'!Q98 -> 0 | K11: = | L11: 86 | M11: ='6pf'!Q98 -> 0 | N11: =IF(J11=M11,"+","-") -> +
B12: 97 | C12: ='6pf'!P105 -> 0 | D12: = | E12: 98+99+100+101 | F12: ='6pf'!P106+'6pf'!P107+'6pf'!P108+'6pf'!P109 -> 0 | G12: =IF(C12=F12,"+","-") -> + | I12: 97 | J12: ='6pf'!Q105 -> 0 | K12: = | L12: 98+99+100+101 | M12: ='6pf'!Q106+'6pf'!Q107+'6pf'!Q108+'6pf'!Q109 -> 0 | N12: =IF(J12=M12,"+","-") -> +
B13: 102 | C13: ='6pf'!P110 -> 0 | D13: = | E13: 103+104+105 | F13: ='6pf'!P111+'6pf'!P112+'6pf'!P113 -> 0 | G13: =IF(C13=F13,"+","-") -> + | I13: 102 | J13: ='6pf'!Q110 -> 0 | K13: = | L13: 103+104+105 | M13: ='6pf'!Q111+'6pf'!Q112+'6pf'!Q113 -> 0 | N13: =IF(J13=M13,"+","-") -> +
B14: 106 | C14: ='6pf'!P114 -> 24 | D14: = | E14: 107+108+109 | F14: ='6pf'!P115+'6pf'!P116+'6pf'!P117 -> 24 | G14: =IF(C14=F14,"+","-") -> + | I14: 106 | J14: ='6pf'!Q114 -> 143762.65 | K14: = | L14: 107+108+109 | M14: ='6pf'!Q115+'6pf'!Q116+'6pf'!Q117 -> 143762.65 | N14: =IF(J14=M14,"+","-") -> +
B15: 110 | C15: ='6pf'!P118 -> 2829 | D15: = | E15: 111+112+113 | F15: ='6pf'!P119+'6pf'!P120+'6pf'!P121 -> 2829 | G15: =IF(C15=F15,"+","-") -> + | I15: 110 | J15: ='6pf'!Q118 -> 10654296 | K15: = | L15: 111+112+113 | M15: ='6pf'!Q119+'6pf'!Q120+'6pf'!Q121 -> 10654296 | N15: =IF(J15=M15,"+","-") -> +
B16: 110 | C16: ='6pf'!P118 -> 2829 | D16: = | E16: 117+119+123 | F16: ='6pf'!P133+'6pf'!P135+'6pf'!P139 -> 2829 | G16: =IF(C16=F16,"+","-") -> + | I16: 110 | J16: ='6pf'!Q118 -> 10654296 | K16: = | L16: 117+119+123 | M16: ='6pf'!Q133+'6pf'!Q135+'6pf'!Q139 -> 10654296 | N16: =IF(J16=M16,"+","-") -> +
B17: 1131 | C17: ='6pf'!P122 -> 569 | D17: = | E17: 1132+1133+1134 | F17: ='6pf'!P123+'6pf'!P124+'6pf'!P125 -> 569 | G17: =IF(C17=F17,"+","-") -> + | I17: 1131 | J17: ='6pf'!Q122 -> 1476555 | K17: = | L17: 1132+1133+1134 | M17: ='6pf'!Q123+'6pf'!Q124+'6pf'!Q125 -> 1476555 | N17: =IF(J17=M17,"+","-") -> +
B18: 1135 | C18: ='6pf'!P126 -> 1 | D18: = | E18: 1136+1137+1138 | F18: ='6pf'!P127+'6pf'!P128+'6pf'!P129 -> 1 | G18: =IF(C18=F18,"+","-") -> + | I18: 1135 | J18: ='6pf'!Q126 -> 2595 | K18: = | L18: 1136+1137+1138 | M18: ='6pf'!Q127+'6pf'!Q128+'6pf'!Q129 -> 2595 | N18: =IF(J18=M18,"+","-") -> +
B19: 119 | C19: ='6pf'!P135 -> 16 | D19: = | E19: 120+121+122 | F19: ='6pf'!P136+'6pf'!P137+'6pf'!P138 -> 16 | G19: =IF(C19=F19,"+","-") -> + | I19: 119 | J19: ='6pf'!Q135 -> 193943.14 | K19: = | L19: 120+121+122 | M19: ='6pf'!Q136+'6pf'!Q137+'6pf'!Q138 -> 193943.14 | N19: =IF(J19=M19,"+","-") -> +
B20: 128 | C20: ='6pf'!P144 -> 692 | D20: = | E20: 129+130+131 | F20: ='6pf'!P145+'6pf'!P146+'6pf'!P147 -> 692 | G20: =IF(C20=F20,"+","-") -> + | I20: 128 | J20: ='6pf'!Q144 -> 2173010.9 | K20: = | L20: 129+130+131 | M20: ='6pf'!Q145+'6pf'!Q146+'6pf'!Q147 -> 2173010.9 | N20: =IF(J20=M20,"+","-") -> +
B21: 1341 | C21: ='6pf'!P152 -> 58 | D21: = | E21: 1342+1343+1344 | F21: ='6pf'!P153+'6pf'!P154+'6pf'!P155 -> 58 | G21: =IF(C21=F21,"+","-") -> + | I21: 1341 | J21: ='6pf'!Q152 -> 183730.8 | K21: = | L21: 1342+1343+1344 | M21: ='6pf'!Q153+'6pf'!Q154+'6pf'!Q155 -> 183730.8 | N21: =IF(J21=M21,"+","-") -> +
B22: 1341 | C22: ='6pf'!P152 -> 58 | D22: = | E22: 1345+1346 | F22: ='6pf'!P156+'6pf'!P157 -> 58 | G22: =IF(C22=F22,"+","-") -> + | I22: 1341 | J22: ='6pf'!Q152 -> 183730.8 | K22: = | L22: 1345+1346 | M22: ='6pf'!Q156+'6pf'!Q157 -> 183730.8 | N22: =IF(J22=M22,"+","-") -> +
B23: 135 | C23: ='6pf'!P158 -> 50 | D23: = | E23: 136+140+141+142+143+144+145+146+1461+147+148+149 | F23: ='6pf'!P159+'6pf'!P163+'6pf'!P164+'6pf'!P165+'6pf'!P166+'6pf'!P167+'6pf'!P168+'6pf'!P169+'6pf'!P170+'6pf'!P171+'6pf'!P172+'6pf'!P173 -> 50 | G23: =IF(C23=F23,"+","-") -> + | I23: 135 | J23: ='6pf'!Q158 -> 361769.26 | K23: = | L23: 136+140+141+142+143+144+145+146+1461+147+148+149 | M23: ='6pf'!Q159+'6pf'!Q163+'6pf'!Q164+'6pf'!Q165+'6pf'!Q166+'6pf'!Q167+'6pf'!Q168+'6pf'!Q169+'6pf'!Q170+'6pf'!Q171+'6pf'!Q172+'6pf'!Q173 -> 361769.26 | N23: =IF(J23=M23,"+","-") -> +
B24: 136 | C24: ='6pf'!P159 -> 0 | D24: = | E24: 137+138+139 | F24: ='6pf'!P160+'6pf'!P161+'6pf'!P162 -> 0 | G24: =IF(C24=F24,"+","-") -> + | I24: 136 | J24: ='6pf'!Q159 -> 0 | K24: = | L24: 137+138+139 | M24: ='6pf'!Q160+'6pf'!Q161+'6pf'!Q162 -> 0 | N24: =IF(J24=M24,"+","-") -> +
B25: 153 | C25: ='6pf'!P177 -> 1 | D25: = | E25: 154+155+156 | F25: ='6pf'!P178+'6pf'!P179+'6pf'!P180 -> 1 | G25: =IF(C25=F25,"+","-") -> + | I25: 153 | J25: ='6pf'!Q177 -> 25950 | K25: = | L25: 154+155+156 | M25: ='6pf'!Q178+'6pf'!Q179+'6pf'!Q180 -> 25950 | N25: =IF(J25=M25,"+","-") -> +
B26: 153 | C26: ='6pf'!P177 -> 1 | D26: = | E26: 157+158 | F26: ='6pf'!P181+'6pf'!P182 -> 1 | G26: =IF(C26=F26,"+","-") -> + | I26: 153 | J26: ='6pf'!Q177 -> 25950 | K26: = | L26: 157+158 | M26: ='6pf'!Q181+'6pf'!Q182 -> 25950 | N26: =IF(J26=M26,"+","-") -> +
B27: 167 | C27: ='6pf'!P190 -> 0 | D27: = | E27: 168+173+178 | F27: ='6pf'!P191+'6pf'!P197+'6pf'!P202 -> 0 | G27: =IF(C27=F27,"+","-") -> + | I27: 167 | J27: ='6pf'!Q190 -> 0 | K27: = | L27: 168+173+178 | M27: ='6pf'!Q191+'6pf'!Q197+'6pf'!Q202 -> 0 | N27: =IF(J27=M27,"+","-") -> +
B28: 168 | C28: ='6pf'!P191 -> 0 | D28: = | E28: 169+170+171 | F28: ='6pf'!P192+'6pf'!P193+'6pf'!P194 -> 0 | G28: =IF(C28=F28,"+","-") -> + | I28: 168 | J28: ='6pf'!Q191 -> 0 | K28: = | L28: 169+170+171 | M28: ='6pf'!Q192+'6pf'!Q193+'6pf'!Q194 -> 0 | N28: =IF(J28=M28,"+","-") -> +
B29: 173 | C29: ='6pf'!P197 -> 0 | D29: = | E29: 174+175+176 | F29: ='6pf'!P198+'6pf'!P199+'6pf'!P200 -> 0 | G29: =IF(C29=F29,"+","-") -> + | I29: 173 | J29: ='6pf'!Q197 -> 0 | K29: = | L29: 174+175+176 | M29: ='6pf'!Q198+'6pf'!Q199+'6pf'!Q200 -> 0 | N29: =IF(J29=M29,"+","-") -> +
B30: 178 | C30: ='6pf'!P202 -> 0 | D30: = | E30: 179+183+184+190+192+193 | F30: ='6pf'!P203+'6pf'!P207+'6pf'!P208+'6pf'!P214+'6pf'!P216+'6pf'!P217 -> 0 | G30: =IF(C30=F30,"+","-") -> + | I30: 178 | J30: ='6pf'!Q202 -> 0 | K30: = | L30: 179+183+184+190+192+193 | M30: ='6pf'!Q203+'6pf'!Q207+'6pf'!Q208+'6pf'!Q214+'6pf'!Q216+'6pf'!Q217 -> 0 | N30: =IF(J30=M30,"+","-") -> +
B31: 179 | C31: ='6pf'!P203 -> 0 | D31: = | E31: 180+181+182 | F31: ='6pf'!P204+'6pf'!P205+'6pf'!P206 -> 0 | G31: =IF(C31=F31,"+","-") -> + | I31: 179 | J31: ='6pf'!Q203 -> 0 | K31: = | L31: 180+181+182 | M31: ='6pf'!Q204+'6pf'!Q205+'6pf'!Q206 -> 0 | N31: =IF(J31=M31,"+","-") -> +
B32: 184 | C32: ='6pf'!P208 -> 0 | D32: = | E32: 185+186+187 | F32: ='6pf'!P209+'6pf'!P210+'6pf'!P211 -> 0 | G32: =IF(C32=F32,"+","-") -> + | I32: 184 | J32: ='6pf'!Q208 -> 0 | K32: = | L32: 185+186+187 | M32: ='6pf'!Q209+'6pf'!Q210+'6pf'!Q211 -> 0 | N32: =IF(J32=M32,"+","-") -> +
B33: 195 | C33: ='6pf'!P220 -> 1 | D33: = | E33: 196+229 | F33: ='6pf'!P221+'6pf'!P254 -> 1 | G33: =IF(C33=F33,"+","-") -> + | I33: 195 | J33: ='6pf'!Q220 -> 5842.18 | K33: = | L33: 196+229 | M33: ='6pf'!Q221+'6pf'!Q254 -> 5842.18 | N33: =IF(J33=M33,"+","-") -> +
B34: 196 | C34: ='6pf'!P221 -> 0 | D34: = | E34: 197+198+199 | F34: ='6pf'!P222+'6pf'!P223+'6pf'!P224 -> 0 | G34: =IF(C34=F34,"+","-") -> + | I34: 196 | J34: ='6pf'!Q221 -> 0 | K34: = | L34: 197+198+199 | M34: ='6pf'!Q222+'6pf'!Q223+'6pf'!Q224 -> 0 | N34: =IF(J34=M34,"+","-") -> +
B35: 196 | C35: ='6pf'!P221 -> 0 | D35: = | E35: 200+207 | F35: ='6pf'!P225+'6pf'!P232 -> 0 | G35: =IF(C35=F35,"+","-") -> + | I35: 196 | J35: ='6pf'!Q221 -> 0 | K35: = | L35: 200+207 | M35: ='6pf'!Q225+'6pf'!Q232 -> 0 | N35: =IF(J35=M35,"+","-") -> +
B36: 200 | C36: ='6pf'!P225 -> 0 | D36: = | E36: 201+203+205 | F36: ='6pf'!P226+'6pf'!P228+'6pf'!P230 -> 0 | G36: =IF(C36=F36,"+","-") -> + | I36: 200 | J36: ='6pf'!Q225 -> 0 | K36: = | L36: 201+203+205 | M36: ='6pf'!Q226+'6pf'!Q228+'6pf'!Q230 -> 0 | N36: =IF(J36=M36,"+","-") -> +
B37: 207 | C37: ='6pf'!P232 -> 0 | D37: = | E37: 208+210+212 | F37: ='6pf'!P233+'6pf'!P235+'6pf'!P237 -> 0 | G37: =IF(C37=F37,"+","-") -> + | I37: 207 | J37: ='6pf'!Q232 -> 0 | K37: = | L37: 208+210+212 | M37: ='6pf'!Q233+'6pf'!Q235+'6pf'!Q237 -> 0 | N37: =IF(J37=M37,"+","-") -> +
B38: 225 | C38: ='6pf'!P247 -> 0 | D38: = | E38: 226+227+228 | F38: ='6pf'!P248+'6pf'!P249+'6pf'!P250 -> 0 | G38: =IF(C38=F38,"+","-") -> + | I38: 225 | J38: ='6pf'!Q247 -> 0 | K38: = | L38: 226+227+228 | M38: ='6pf'!Q248+'6pf'!Q249+'6pf'!Q250 -> 0 | N38: =IF(J38=M38,"+","-") -> +
B39: 229 | C39: ='6pf'!P254 -> 1 | D39: = | E39: 230+231+232 | F39: ='6pf'!P255+'6pf'!P256+'6pf'!P257 -> 1 | G39: =IF(C39=F39,"+","-") -> + | I39: 229 | J39: ='6pf'!Q254 -> 5842.18 | K39: = | L39: 230+231+232 | M39: ='6pf'!Q255+'6pf'!Q256+'6pf'!Q257 -> 5842.18 | N39: =IF(J39=M39,"+","-") -> +
B40: 236 | C40: ='6pf'!P262 -> 16 | D40: = | E40: 237+238+243 | F40: ='6pf'!P263+'6pf'!P264+'6pf'!P270 -> 16 | G40: =IF(C40=F40,"+","-") -> + | I40: 236 | J40: ='6pf'!Q262 -> 220465.76 | K40: = | L40: 237+238+243 | M40: ='6pf'!Q263+'6pf'!Q264+'6pf'!Q270 -> 220465.76 | N40: =IF(J40=M40,"+","-") -> +
...
