Workbook

Sheet 5pf_titul
A1: Державне статистичне спостереження
A3: ЗВІТ про розподіл пенсіонерів за розмірами призначених місячних пенсій
C4: на | D4: 30.04.2024
A6: Подають: | F6: Терміни подання | G6: Форма № 5-ПФ
A8: Управління Пенсійного фонду України в районах, містах і районах у містах | G8: ЗАТВЕРДЖЕНО Наказ Пенсійного фонду України та Державного комітету статистики України від 29.12.2003 р. № 127/471
A9: – головним управлінням Пенсійного фонду України в Автономній Республіці Крим, областях, містах Києві та Севастополі | F9: 2 числа після звітного періоду
A10: – районним,міським відділам статистики
A11: Головні управління Пенсійного фонду України в Автономній Республіці Крим, областях, містах Києві та Севастополі
A12: – Пенсійному фонду України | F12: 5 числа після звітного періоду
A13: – головному управлінню статистики в Автономній Республіці Крим, обласним, Київському та Севастопольському міським управлінням статистики зведену інформацію по регіону та районах | I13: Квартальна
A14: Пенсійний фонд України зведену інформацію по Україні та регіонах | F14: 8 числа після звітного періоду
A15: – Державному комітету статистики України
A17: Найменування організації-складача інформації
A18: Головне управління ПФУ в Тернопільській області
A20: Поштова адреса
A23: Код форми документа за ДКУД | B23: Коди організації-складача
B24: за ЄДРПОУ | C24: території (КОАТУУ) | D24: виду економічної діяльності (КВЕД) | E24: форми власності (КФВ) | F24: організаційно-правової форми господарювання (КОПФГ) | G24: міністерства, іншого центрального органу, якому підпорядкована організація складач інформації (СПОДУ)* | I24: КС
A25: 1 | B25: 2 | C25: 3 | D25: 4 | E25: 5 | F25: 6 | G25: 7 | H25: 8 | I25: 9
A26: * тільки для підприємств державної форми власності

Sheet 5pf
A2: Назва показників | B2: №№ рядків | C2: Чисельність пенсіонерів усіх категорій (осіб) | D2: Сума призначених пенсій з цільовою грошовою допомогою з урахуванням індексації, (тис.грн.) | E2: Середні розімри призначених пенсій з цільовою грошовою допомогою з урахуванням індексації, (грн.коп.) (гр.2:гр.1)
A3: А | B3: Б | C3: 1 | D3: 2 | E3: 3
A4: Всього пенсіонерів (02-22) у тому числi одержують пенсії у загальній сумі: | B4: 01 | C4: 261259 | D4: 1072061.1 | E4: 4103.4 | F4: =SUM(C5:C16) -> 255430 | G4: =SUM(D5:D16) -> 986243.7 | H4: =F4-C4 -> -5829 | I4: =G4-D4 -> -85817.4
A5: до 800 грн. Включно | B5: 02 | C5: 66 | D5: 43 | E5: 651.5
A6: від 801 грн. до 1000 грн. | B6: 03 | C6: 100 | D6: 88.5 | E6: 885.4
A7: від 1001 грн. до 1100 грн. | B7: 04 | C7: 30 | D7: 31.4 | E7: 1047.5
A8: від 1101 грн. до 1200 грн. | B8: 05 | C8: 362 | D8: 427.4 | E8: 1180.5
A9: від 1201 грн. до 1300 грн. | B9: 06 | C9: 20 | D9: 24.8 | E9: 1241.8
A10: від 1301 грн. до 1400 грн. | B10: 07 | C10: 138 | D10: 188 | E10: 1362.1
A11: від 1401 грн. до 1500 грн. | B11: 08 | C11: 1036 | D11: 1469.5 | E11: 1418.4
A12: від 1501 грн. до 2000 грн. | B12: 09 | C12: 193 | D12: 330.5 | E12: 1712.6
A13: від 2001 грн. до 3000 грн. | B13: 10 | C13: 100370 | D13: 280602.4 | E13: 2795.7
A14: від 3001 грн. до 4000 грн. | B14: 11 | C14: 58194 | D14: 205750.5 | E14: 3535.6
A15: від 4001 грн. до 5000 грн. | B15: 12 | C15: 56346 | D15: 247017 | E15: 4383.9
A16: від 5001 грн. до 10000 грн. | B16: 13 | C16: 38575 | D16: 250270.7 | E16: 6487.9
A17: понад 10000 грн. | B17: 14 | C17: 5829 | D17: 85817.4 | E17: 14722.5
A18: Із загального числа пенсіонерів (рядок 01) одержують пенсію: - за віком | B18: 15 | C18: 199479 | D18: 854049.9 | E18: 4281.4 | F18: =SUM(C18:C23) -> 261259 | G18: =SUM(D18:D23) -> 1072061.1 | H18: =F18-C4 -> 0 | I18: =G18-D4 -> 0
A19: - по інвалідності | B19: 16 | C19: 43703 | D19: 150111.8 | E19: 3434.8
A20: - у разі втрати годувальника | B20: 17 | C20: 11228 | D20: 34473 | E20: 3070.2
A21: - за вислугу років | B21: 18 | C21: 5396 | D21: 21839.9 | E21: 4047.4
A22: - соціальні пенсії | B22: 19 | C22: 1379 | D22: 3720.7 | E22: 2698.1
A23: - довічне утримання суддів | B23: 20 | C23: 74 | D23: 7865.8 | E23: 106295
A24: Із загального числапенсіонерів (рядок 01) одержують пенсію: - нижче прожиткового мінімуму | B24: 21 | C24: 2049 | D24: 2832.4 | E24: 1382.3 | F24: =SUM(C24:C26) -> 261259 | G24: =SUM(D24:D26) -> 1072061.1 | H24: =F24-C4 -> 0 | I24: =G24-D4 -> 0
A25: - у розмірі прожиткового мінімуму | B25: 22 | C25: 7953 | D25: 18777 | E25: 2361
A26: - вище прожиткового мінімуму | B26: 23 | C26: 251257 | D26: 1050451.7 | E26: 4180.8
A27: Із загального числа пенсіонерів (рядок 01) - працюючі пенсіонери | B27: 24 | C27: 55830 | D27: 242230 | E27: 4338.7
A28: Довідково: ті які працюють на спец посадах «виплата пенсій припинена» | B28: 25 | C28: 0 | D28: 0 | E28: 0
A30: Інформація надана без даних АРК, м.Севастополя, по Луганській та Донецькій областях без врахування даних по районах, які непідконтрольні українській владі
A32: Виконавець _________________________________ (прізвище, номер телефону) | D32: Керівник _________________________ (підпис) (прізвище, ініціали)
A34: "___" __________________ 20 р.

Sheet 5pf Контроль
B2: Чисельність | G2: Результат
B3: 01 | C3: ='5pf'!C4 -> 261259 | D3: = | E3: 02-14 | F3: =SUM('5pf'!C5:C17) -> 261259 | G3: =IF(F3=C3,"+","-") -> +
B4: 01 | C4: ='5pf'!C4 -> 261259 | D4: = | E4: 15-20 | F4: =SUM('5pf'!C18:C23) -> 261259 | G4: =IF(F4=C4,"+","-") -> +
B5: 01 | C5: ='5pf'!C4 -> 261259 | D5: = | E5: 21-23 | F5: =SUM('5pf'!C24:C26) -> 261259 | G5: =IF(F5=C5,"+","-") -> +
B6: 01 | C6: ='5pf'!C4 -> 261259 | D6: <= | E6: 24 | F6: ='5pf'!C27 -> 55830 | G6: =IF(F6<=C6,"+","-") -> +
B7: 25 | C7: ='5pf'!C28 -> 0 | D7: = | E7: 25(Раб) | F7: ='5pf (раб)'!C28 -> 0 | G7: =IF(F7=C7,"+","-") -> +
B8: Сума
B9: 01 | C9: ='5pf'!D4 -> 1072061.1 | D9: = | E9: 02-14 | F9: =SUM('5pf'!D5:D17) -> 1072061.1 | G9: =IF(F9=C9,"+","-") -> +
B10: 01 | C10: ='5pf'!D4 -> 1072061.1 | D10: = | E10: 15-20 | F10: =SUM('5pf'!D18:D23) -> 1072061.1 | G10: =IF(F10=C10,"+","-") -> +
B11: 01 | C11: ='5pf'!D4 -> 1072061.1 | D11: = | E11: 21-23 | F11: =SUM('5pf'!D24:D26) -> 1072061.1 | G11: =IF(F11=C11,"+","-") -> +
B12: 01 | C12: ='5pf'!D4 -> 1072061.1 | D12: <= | E12: 24 | F12: ='5pf'!D27 -> 242230 | G12: =IF(F12<=C12,"+","-") -> +
B13: 25 | C13: ='5pf'!D28 -> 0 | D13: = | E13: 25(Раб) | F13: ='5pf (раб)'!D28 -> 0 | G13: =IF(F13=C13,"+","-") -> +

Sheet Додаток 1
A1: Розподіл пенсіонерів за розмірами призначених місячних пенсій
A2: № п/п | B2: Регіони | C2: Пенсіонери, всього | F2: до 800 грн. Включно | I2: від 801 грн. до 1000 грн.
C3: Чисельність пенсіонерів, всього | D3: Сума призначених місячних пенсій, тис.грн. | E3: Середній розмір пенсії, грн.коп. | F3: Чисельність пенсіонерів, всього | G3: Сума призначених місячних пенсій, тис.грн. | H3: Середній розмір пенсії, грн.коп. | I3: Чисельність пенсіонерів, всього | J3: Сума призначених місячних пенсій, тис.грн. | K3: Середній розмір пенсії, грн.коп.
A5: 1 | B5: ГУ ПФУ в Тернопільській області (Тернопільське ОУ) | C5: 72821 | D5: 341260.9 | E5: 4686.3 | F5: 1 | G5: 0 | H5: 0 | I5: 12 | J5: 10.6 | K5: 885.4
A6: 2 | B6: ГУ ПФУ в Тернопільській області (Бережанське ОУ) | C6: 14659 | D6: 57678.7 | E6: 3934.7 | F6: 5 | G6: 3.5 | H6: 708.3 | I6: 3 | J6: 2.7 | K6: 885.4
A7: 3 | B7: ГУ ПФУ в Тернопільській області (Бучацьке ОУ) | C7: 20790 | D7: 79849.3 | E7: 3840.8 | F7: 17 | G7: 10.6 | H7: 625 | I7: 4 | J7: 3.5 | K7: 885.4
A8: 4 | B8: ГУ ПФУ в Тернопільській області (Козівське ОУ) | C8: 19816 | D8: 76084.2 | E8: 3839.5 | F8: 14 | G8: 9.6 | H8: 682.3 | I8: 15 | J8: 13.3 | K8: 885.4
A9: 5 | B9: ГУ ПФУ в Тернопільській області (Лановецьке ОУ) | C9: 32008 | D9: 125385.7 | E9: 3917.3 | F9: 21 | G9: 13.6 | H9: 646.5 | I9: 16 | J9: 14.2 | K9: 885.4
A10: 6 | B10: ГУ ПФУ в Тернопільській області (Кременецьке ОУ) | C10: 22537 | D10: 86613.5 | E10: 3843.2 | F10: 5 | G10: 3.5 | H10: 708.3 | I10: 28 | J10: 24.8 | K10: 885.4
A11: 7 | B11: ГУ ПФУ в Тернопільській області (Теребовлянське ОУ) | C11: 30970 | D11: 120255.2 | E11: 3883 | F11: 3 | G11: 2.2 | H11: 720.5 | I11: 6 | J11: 5.3 | K11: 885.4
A12: 8 | B12: ГУ ПФУ в Тернопільській області (Чортківське ОУ) | C12: 47654 | D12: 184937.1 | E12: 3880.8 | F12: 0 | G12: 0 | H12: 0 | I12: 16 | J12: 14.2 | K12: 885.4
A13: Всього | C13: 261255 | D13: 1072064.6 | E13: 4103.5 | F13: 66 | G13: 43 | H13: 651.5 | I13: 100 | J13: 88.5 | K13: 885.4
A15: № п/п | B15: Регіони | C15: від 1001 грн. до 1100 грн. | F15: від 1101 грн. до 1200 грн. | I15: від 1201 грн. до 1300 грн.
C16: Чисельність пенсіонерів, всього | D16: Сума призначених місячних пенсій, тис.грн. | E16: Середній розмір пенсії, грн.коп. | F16: Чисельність пенсіонерів, всього | G16: Сума призначених місячних пенсій, тис.грн. | H16: Середній розмір пенсії, грн.коп. | I16: Чисельність пенсіонерів, всього | J16: Сума призначених місячних пенсій, тис.грн. | K16: Середній розмір пенсії, грн.коп.
A18: 1 | B18: ГУ ПФУ в Тернопільській області (Тернопільське ОУ) | C18: 11 | D18: 11.6 | E18: 1052.6 | F18: 48 | G18: 56.7 | H18: 1180.5 | I18: 9 | J18: 11.2 | K18: 1240.7
A19: 2 | B19: ГУ ПФУ в Тернопільській області (Бережанське ОУ) | C19: 0 | D19: 0 | E19: 0 | F19: 36 | G19: 42.5 | H19: 1180.5 | I19: 1 | J19: 1.3 | K19: 1260
A20: 3 | B20: ГУ ПФУ в Тернопільській області (Бучацьке ОУ) | C20: 0 | D20: 0 | E20: 0 | F20: 34 | G20: 40.1 | H20: 1180.5 | I20: 2 | J20: 2.5 | K20: 1255.8
A21: 4 | B21: ГУ ПФУ в Тернопільській області (Козівське ОУ) | C21: 0 | D21: 0 | E21: 0 | F21: 29 | G21: 34.2 | H21: 1180.5 | I21: 0 | J21: 0 | K21: 0
A22: 5 | B22: ГУ ПФУ в Тернопільській області (Лановецьке ОУ) | C22: 7 | D22: 7.3 | E22: 1041.3 | F22: 49 | G22: 57.8 | H22: 1180.5 | I22: 3 | J22: 3.6 | K22: 1213.8
A23: 6 | B23: ГУ ПФУ в Тернопільській області (Кременецьке ОУ) | C23: 6 | D23: 6.3 | E23: 1046.5 | F23: 68 | G23: 80.3 | H23: 1180.5 | I23: 0 | J23: 0 | K23: 0
A24: 7 | B24: ГУ ПФУ в Тернопільській області (Теребовлянське ОУ) | C24: 3 | D24: 3.1 | E24: 1046.5 | F24: 33 | G24: 39 | H24: 1180.5 | I24: 0 | J24: 0 | K24: 0
A25: 8 | B25: ГУ ПФУ в Тернопільській області (Чортківське ОУ) | C25: 3 | D25: 3.1 | E25: 1046.5 | F25: 65 | G25: 76.7 | H25: 1180.5 | I25: 5 | J25: 6.3 | K25: 1251.3
A26: Всього | C26: 30 | D26: 31.4 | E26: 1047.5 | F26: 362 | G26: 427.3 | H26: 1180.5 | I26: 20 | J26: 24.8 | K26: 1241.8
A28: № п/п | B28: Регіони | C28: від 1301 грн. до 1400 грн. | F28: від 1401 грн. до 1500 грн. | I28: від 1501 грн. до 2000 грн.
C29: Чисельність пенсіонерів, всього | D29: Сума призначених місячних пенсій, тис.грн. | E29: Середній розмір пенсії, грн.коп. | F29: Чисельність пенсіонерів, всього | G29: Сума призначених місячних пенсій, тис.грн. | H29: Середній розмір пенсії, грн.коп. | I29: Чисельність пенсіонерів, всього | J29: Сума призначених місячних пенсій, тис.грн. | K29: Середній розмір пенсії, грн.коп.
A31: 1 | B31: ГУ ПФУ в Тернопільській області (Тернопільське ОУ) | C31: 42 | D31: 57.1 | E31: 1359.6 | F31: 230 | G31: 326.2 | H31: 1418.1 | I31: 63 | J31: 107.2 | K31: 1702.1
A32: 2 | B32: ГУ ПФУ в Тернопільській області (Бережанське ОУ) | C32: 12 | D32: 16.4 | E32: 1362.5 | F32: 83 | G32: 118 | H32: 1421.4 | I32: 11 | J32: 18.1 | K32: 1641.8
A33: 3 | B33: ГУ ПФУ в Тернопільській області (Бучацьке ОУ) | C33: 14 | D33: 19.1 | E33: 1362.5 | F33: 59 | G33: 83.6 | H33: 1417.1 | I33: 4 | J33: 7.9 | K33: 1985.6
A34: 4 | B34: ГУ ПФУ в Тернопільській області (Козівське ОУ) | C34: 8 | D34: 10.9 | E34: 1362.5 | F34: 93 | G34: 131.8 | H34: 1416.7 | I34: 10 | J34: 17.5 | K34: 1750
A35: 5 | B35: ГУ ПФУ в Тернопільській області (Лановецьке ОУ) | C35: 4 | D35: 5.5 | E35: 1362.5 | F35: 135 | G35: 191.7 | H35: 1420.1 | I35: 34 | J35: 57 | K35: 1677.2
A36: 6 | B36: ГУ ПФУ в Тернопільській області (Кременецьке ОУ) | C36: 21 | D36: 28.7 | E36: 1364.7 | F36: 119 | G36: 168.8 | H36: 1418.3 | I36: 30 | J36: 51.3 | K36: 1710.1
A37: 7 | B37: ГУ ПФУ в Тернопільській області (Теребовлянське ОУ) | C37: 22 | D37: 30 | E37: 1362.5 | F37: 130 | G37: 184.2 | H37: 1417.2 | I37: 23 | J37: 41.2 | K37: 1792.5
A38: 8 | B38: ГУ ПФУ в Тернопільській області (Чортківське ОУ) | C38: 15 | D38: 20.5 | E38: 1364.3 | F38: 187 | G38: 265.2 | H38: 1418.3 | I38: 18 | J38: 30.2 | K38: 1680.1
A39: Всього | C39: 138 | D39: 188 | E39: 1362.1 | F39: 1036 | G39: 1469.4 | H39: 1418.4 | I39: 193 | J39: 330.5 | K39: 1712.6
A41: № п/п | B41: Регіони | C41: від 2001 грн. до 3000 грн. | F41: від 3001 грн. до 4000 грн. | I41: від 4001 грн. до 5000 грн.
C42: Чисельність пенсіонерів, всього | D42: Сума призначених місячних пенсій, тис.грн. | E42: Середній розмір пенсії, грн.коп. | F42: Чисельність пенсіонерів, всього | G42: Сума призначених місячних пенсій, тис.грн. | H42: Середній розмір пенсії, грн.коп. | I42: Чисельність пенсіонерів, всього | J42: Сума призначених місячних пенсій, тис.грн. | K42: Середній розмір пенсії, грн.коп.
A44: 1 | B44: ГУ ПФУ в Тернопільській області (Тернопільське ОУ) | C44: 23733 | D44: 66427.6 | E44: 2799 | F44: 14761 | G44: 52381.1 | H44: 3548.6 | I44: 14805 | J44: 65327.5 | K44: 4412.5
A45: 2 | B45: ГУ ПФУ в Тернопільській області (Бережанське ОУ) | C45: 5561 | D45: 15622.6 | E45: 2809.3 | F45: 3579 | G45: 12621.9 | H45: 3526.7 | I45: 3275 | J45: 14351.9 | K45: 4382.3
A46: 3 | B46: ГУ ПФУ в Тернопільській області (Бучацьке ОУ) | C46: 8352 | D46: 23322.9 | E46: 2792.5 | F46: 5179 | G46: 18324.7 | H46: 3538.3 | I46: 4551 | J46: 19872.6 | K46: 4366.6
A47: 4 | B47: ГУ ПФУ в Тернопільській області (Козівське ОУ) | C47: 8042 | D47: 22576 | E47: 2807.3 | F47: 4605 | G47: 16272.2 | H47: 3533.6 | I47: 4546 | J47: 19842.1 | K47: 4364.7
...

Sheet Додаток 2
A1: Розподіл пенсіонерів за видами призначених місячних пенсій
A2: № п/п | B2: Регіони | C2: Пенсіонери, всього | F2: за віком | I2: по інвалідності
C3: Чисельність пенсіонерів, всього | D3: Сума призначених місячних пенсій, тис.грн. | E3: Середній розмір пенсії, грн.коп. | F3: Чисельність пенсіонерів, всього | G3: Сума призначених місячних пенсій, тис.грн. | H3: Середній розмір пенсії, грн.коп. | I3: Чисельність пенсіонерів, всього | J3: Сума призначених місячних пенсій, тис.грн. | K3: Середній розмір пенсії, грн.коп.
A5: 1 | B5: ГУ ПФУ в Тернопільській області (Тернопільське ОУ) | C5: 72821 | D5: 341260.9 | E5: 4686.3 | F5: 56571 | G5: 273685.1 | H5: 4837.9 | I5: 11603 | J5: 42894.3 | K5: 3696.8
A6: 2 | B6: ГУ ПФУ в Тернопільській області (Бережанське ОУ) | C6: 14659 | D6: 57678.7 | E6: 3934.7 | F6: 11300 | G6: 46749.9 | H6: 4137.2 | I6: 2272 | J6: 7549.8 | K6: 3323
A7: 3 | B7: ГУ ПФУ в Тернопільській області (Бучацьке ОУ) | C7: 20790 | D7: 79849.3 | E7: 3840.8 | F7: 16053 | G7: 64414.2 | H7: 4012.6 | I7: 3331 | J7: 10955.7 | K7: 3289
A8: 4 | B8: ГУ ПФУ в Тернопільській області (Козівське ОУ) | C8: 19816 | D8: 76084.2 | E8: 3839.5 | F8: 14507 | G8: 59032 | H8: 4069.2 | I8: 3906 | J8: 12535.2 | K8: 3209.2
A9: 5 | B9: ГУ ПФУ в Тернопільській області (Лановецьке ОУ) | C9: 32008 | D9: 125385.7 | E9: 3917.3 | F9: 23973 | G9: 98788.9 | H9: 4120.8 | I9: 5779 | J9: 19116 | K9: 3307.8
A10: 6 | B10: ГУ ПФУ в Тернопільській області (Кременецьке ОУ) | C10: 22537 | D10: 86613.5 | E10: 3843.2 | F10: 17461 | G10: 69948.1 | H10: 4006 | I10: 3327 | J10: 11184.5 | K10: 3361.7
A11: 7 | B11: ГУ ПФУ в Тернопільській області (Теребовлянське ОУ) | C11: 30970 | D11: 120255.2 | E11: 3883 | F11: 23512 | G11: 95955.2 | H11: 4081.1 | I11: 5263 | J11: 17516.9 | K11: 3328.3
A12: 8 | B12: ГУ ПФУ в Тернопільській області (Чортківське ОУ) | C12: 47654 | D12: 184937.1 | E12: 3880.8 | F12: 36098 | G12: 145476.1 | H12: 4030 | I12: 8218 | J12: 28349.1 | K12: 3449.6
A13: Всього | C13: 261255 | D13: 1072064.6 | E13: 4103.5 | F13: 199475 | G13: 854049.5 | H13: 4281.5 | I13: 43699 | J13: 150101.5 | K13: 3434.9
A15: № п/п | B15: Регіони | C15: у разі втрати годувальника | F15: за вислугу років | I15: соціальні пенсії
C16: Чисельність пенсіонерів, всього | D16: Сума призначених місячних пенсій, тис.грн. | E16: Середній розмір пенсії, грн.коп. | F16: Чисельність пенсіонерів, всього | G16: Сума призначених місячних пенсій, тис.грн. | H16: Середній розмір пенсії, грн.коп. | I16: Чисельність пенсіонерів, всього | J16: Сума призначених місячних пенсій, тис.грн. | K16: Середній розмір пенсії, грн.коп.
A18: 1 | B18: ГУ ПФУ в Тернопільській області (Тернопільське ОУ) | C18: 2750 | D18: 9677.3 | E18: 3519 | F18: 1577 | G18: 8254.2 | H18: 5234.1 | I18: 275 | J18: 715.6 | K18: 2602.3
A19: 2 | B19: ГУ ПФУ в Тернопільській області (Бережанське ОУ) | C19: 696 | D19: 1943.5 | E19: 2792.4 | F19: 298 | G19: 1045.1 | H19: 3507.1 | I19: 90 | J19: 241.8 | K19: 2686.9
A20: 3 | B20: ГУ ПФУ в Тернопільській області (Бучацьке ОУ) | C20: 862 | D20: 2500.4 | E20: 2900.7 | F20: 436 | G20: 1543.7 | H20: 3540.6 | I20: 105 | J20: 291.2 | K20: 2773.4
A21: 4 | B21: ГУ ПФУ в Тернопільській області (Козівське ОУ) | C21: 888 | D21: 2486.7 | E21: 2800.4 | F21: 396 | G21: 1446.2 | H21: 3652.1 | I21: 115 | J21: 321.9 | K21: 2799.2
A22: 5 | B22: ГУ ПФУ в Тернопільській області (Лановецьке ОУ) | C22: 1405 | D22: 4251.7 | E22: 3026.1 | F22: 722 | G22: 2587.4 | H22: 3583.7 | I22: 123 | J22: 328.3 | K22: 2669.2
A23: 6 | B23: ГУ ПФУ в Тернопільській області (Кременецьке ОУ) | C23: 1148 | D23: 3246.3 | E23: 2827.8 | F23: 458 | G23: 1568.7 | H23: 3425 | I23: 139 | J23: 379.4 | K23: 2729.8
A24: 7 | B24: ГУ ПФУ в Тернопільській області (Теребовлянське ОУ) | C24: 1312 | D24: 3805.3 | E24: 2900.4 | F24: 639 | G24: 2214 | H24: 3464.7 | I24: 242 | J24: 659.1 | K24: 2723.8
A25: 8 | B25: ГУ ПФУ в Тернопільській області (Чортківське ОУ) | C25: 2171 | D25: 6576.2 | E25: 3029.1 | F25: 870 | G25: 3180.5 | H25: 3655.8 | I25: 290 | J25: 783.2 | K25: 2700.8
A26: Всього | C26: 11232 | D26: 34487.2 | E26: 3070.4 | F26: 5396 | G26: 21839.9 | H26: 4047.4 | I26: 1379 | J26: 3720.7 | K26: 2698.1
A28: № п/п | B28: Регіони | C28: довічне утримання суддів
C29: Чисельність пенсіонерів, всього | D29: Сума призначених місячних пенсій, тис.грн. | E29: Середній розмір пенсії, грн.коп.
A31: 1 | B31: ГУ ПФУ в Тернопільській області (Тернопільське ОУ) | C31: 45 | D31: 6034.3 | E31: 134096.4
A32: 2 | B32: ГУ ПФУ в Тернопільській області (Бережанське ОУ) | C32: 3 | D32: 148.6 | E32: 49518.4
A33: 3 | B33: ГУ ПФУ в Тернопільській області (Бучацьке ОУ) | C33: 3 | D33: 144.2 | E33: 48051.7
A34: 4 | B34: ГУ ПФУ в Тернопільській області (Козівське ОУ) | C34: 4 | D34: 262.2 | E34: 65550.9
A35: 5 | B35: ГУ ПФУ в Тернопільській області (Лановецьке ОУ) | C35: 6 | D35: 313.4 | E35: 52234.7
A36: 6 | B36: ГУ ПФУ в Тернопільській області (Кременецьке ОУ) | C36: 4 | D36: 286.5 | E36: 71636.2
A37: 7 | B37: ГУ ПФУ в Тернопільській області (Теребовлянське ОУ) | C37: 2 | D37: 104.7 | E37: 52339.8
A38: 8 | B38: ГУ ПФУ в Тернопільській області (Чортківське ОУ) | C38: 7 | D38: 571.9 | E38: 81704.3
A39: Всього | C39: 74 | D39: 7865.8 | E39: 106294.8

Sheet Додаток 3
A1: Розподіл пенсіонерів за розмірами призначених пенсій відносно прожиткового мінімуму для осіб, які втратили працездатність
A2: № п/п | B2: Регіони | C2: Пенсіонери, всього | F2: нижче прожиткового мінімуму | I2: у розмірі прожиткового мінімуму
C3: Чисельність пенсіонерів, всього | D3: Сума призначених місячних пенсій, тис.грн. | E3: Середній розмір пенсії, грн.коп. | F3: Чисельність пенсіонерів, всього | G3: Сума призначених місячних пенсій, тис.грн. | H3: Середній розмір пенсії, грн.коп. | I3: Чисельність пенсіонерів, всього | J3: Сума призначених місячних пенсій, тис.грн. | K3: Середній розмір пенсії, грн.коп.
A5: 1 | B5: ГУ ПФУ в Тернопільській області (Тернопільське ОУ) | C5: 72821 | D5: 341260.9 | E5: 4686.3 | F5: 441 | G5: 636.6 | H5: 1443.5 | I5: 2751 | J5: 6495.1 | K5: 2361
A6: 2 | B6: ГУ ПФУ в Тернопільській області (Бережанське ОУ) | C6: 14659 | D6: 57678.7 | E6: 3934.7 | F6: 156 | G6: 213.1 | H6: 1366.3 | I6: 279 | J6: 658.7 | K6: 2361
A7: 3 | B7: ГУ ПФУ в Тернопільській області (Бучацьке ОУ) | C7: 20790 | D7: 79849.3 | E7: 3840.8 | F7: 141 | G7: 183.2 | H7: 1299 | I7: 559 | J7: 1319.8 | K7: 2361
A8: 4 | B8: ГУ ПФУ в Тернопільській області (Козівське ОУ) | C8: 19816 | D8: 76084.2 | E8: 3839.5 | F8: 182 | G8: 245.2 | H8: 1347.2 | I8: 548 | J8: 1293.8 | K8: 2361
A9: 5 | B9: ГУ ПФУ в Тернопільській області (Лановецьке ОУ) | C9: 32008 | D9: 125385.7 | E9: 3917.3 | F9: 283 | G9: 382 | H9: 1349.9 | I9: 844 | J9: 1992.7 | K9: 2361
A10: 6 | B10: ГУ ПФУ в Тернопільській області (Кременецьке ОУ) | C10: 22537 | D10: 86613.5 | E10: 3843.2 | F10: 288 | G10: 386.7 | H10: 1342.8 | I10: 531 | J10: 1253.7 | K10: 2361
A11: 7 | B11: ГУ ПФУ в Тернопільській області (Теребовлянське ОУ) | C11: 30970 | D11: 120255.2 | E11: 3883 | F11: 235 | G11: 338 | H11: 1438.1 | I11: 886 | J11: 2091.8 | K11: 2361
A12: 8 | B12: ГУ ПФУ в Тернопільській області (Чортківське ОУ) | C12: 47654 | D12: 184937.1 | E12: 3880.8 | F12: 323 | G12: 447.7 | H12: 1386 | I12: 1555 | J12: 3671.4 | K12: 2361
A13: Всього | C13: 261256 | D13: 1072066.4 | E13: 4103.5 | F13: 2050 | G13: 2834.2 | H13: 1382.6 | I13: 7953 | J13: 18777 | K13: 2361
A15: № п/п | B15: Регіони | C15: вище прожиткового мінімуму | F15: Із загального числа пенсіонерів (рядок 01) - працюючі пенсіонери | I15: Довідково: ті які працюють на спец посадах «виплата пенсій припинена»
C16: Чисельність пенсіонерів, всього | D16: Сума призначених місячних пенсій, тис.грн. | E16: Середній розмір пенсії, грн.коп. | F16: Чисельність пенсіонерів, всього | G16: Сума призначених місячних пенсій, тис.грн. | H16: Середній розмір пенсії, грн.коп. | I16: Чисельність пенсіонерів, всього | J16: Сума призначених місячних пенсій, тис.грн. | K16: Середній розмір пенсії, грн.коп.
A18: 1 | B18: ГУ ПФУ в Тернопільській області (Тернопільське ОУ) | C18: 69629 | D18: 334129.3 | E18: 4798.7 | F18: 23491 | G18: 113101.6 | H18: 4814.7 | I18: 0 | J18: 0 | K18: 0
A19: 2 | B19: ГУ ПФУ в Тернопільській області (Бережанське ОУ) | C19: 14224 | D19: 56806.8 | E19: 3993.7 | F19: 2399 | G19: 9846.1 | H19: 4104.3 | I19: 0 | J19: 0 | K19: 0
A20: 3 | B20: ГУ ПФУ в Тернопільській області (Бучацьке ОУ) | C20: 20090 | D20: 78346.4 | E20: 3899.8 | F20: 3376 | G20: 13660 | H20: 4046.2 | I20: 0 | J20: 0 | K20: 0
A21: 4 | B21: ГУ ПФУ в Тернопільській області (Козівське ОУ) | C21: 19086 | D21: 74545.2 | E21: 3905.8 | F21: 3622 | G21: 13788.3 | H21: 3806.8 | I21: 0 | J21: 0 | K21: 0
A22: 5 | B22: ГУ ПФУ в Тернопільській області (Лановецьке ОУ) | C22: 30881 | D22: 123011 | E22: 3983.4 | F22: 5791 | G22: 22768.9 | H22: 3931.8 | I22: 0 | J22: 0 | K22: 0
A23: 6 | B23: ГУ ПФУ в Тернопільській області (Кременецьке ОУ) | C23: 21718 | D23: 84973.1 | E23: 3912.6 | F23: 3639 | G23: 15123.3 | H23: 4155.9 | I23: 0 | J23: 0 | K23: 0
A24: 7 | B24: ГУ ПФУ в Тернопільській області (Теребовлянське ОУ) | C24: 29849 | D24: 117825.4 | E24: 3947.4 | F24: 5378 | G24: 21283.4 | H24: 3957.5 | I24: 0 | J24: 0 | K24: 0
A25: 8 | B25: ГУ ПФУ в Тернопільській області (Чортківське ОУ) | C25: 45776 | D25: 180818.1 | E25: 3950.1 | F25: 8131 | G25: 32663 | H25: 4017.1 | I25: 0 | J25: 0 | K25: 0
A26: Всього | C26: 251253 | D26: 1050455.2 | E26: 4180.9 | F26: 55827 | G26: 242234.7 | H26: 4339 | I26: 0 | J26: 0 | K26: 0

Sheet 5pf_titul (раб)
A1: Державне статистичне спостереження
A3: ЗВІТ про розподіл працюючих пенсіонерів за розмірами призначених місячних пенсій
C4: на | D4: 30.04.2024
A6: Подають: | F6: Терміни подання | G6: Форма № 5-ПФ
A8: Управління Пенсійного фонду України в районах, містах і районах у містах | G8: ЗАТВЕРДЖЕНО Наказ Пенсійного фонду України та Державного комітету статистики України від 29.12.2003 р. № 127/471
A9: – головним управлінням Пенсійного фонду України в Автономній Республіці Крим, областях, містах Києві та Севастополі | F9: 2 числа після звітного періоду
A10: – районним,міським відділам статистики
A11: Головні управління Пенсійного фонду України в Автономній Республіці Крим, областях, містах Києві та Севастополі
A12: – Пенсійному фонду України | F12: 5 числа після звітного періоду
A13: – головному управлінню статистики в Автономній Республіці Крим, обласним, Київському та Севастопольському міським управлінням статистики зведену інформацію по регіону та районах | I13: Квартальна
A14: Пенсійний фонд України зведену інформацію по Україні та регіонах | F14: 8 числа після звітного періоду
A15: – Державному комітету статистики України
A17: Найменування організації-складача інформації
A18: Головне управління ПФУ в Тернопільській області
A20: Поштова адреса
A23: Код форми документа за ДКУД | B23: Коди організації-складача
B24: за ЄДРПОУ | C24: території (КОАТУУ) | D24: виду економічної діяльності (КВЕД) | E24: форми власності (КФВ) | F24: організаційно-правової форми господарювання (КОПФГ) | G24: міністерства, іншого центрального органу, якому підпорядкована організація складач інформації (СПОДУ)* | I24: КС
A25: 1 | B25: 2 | C25: 3 | D25: 4 | E25: 5 | F25: 6 | G25: 7 | H25: 8 | I25: 9
A26: * тільки для підприємств державної форми власності

Sheet 5pf (раб)
A2: Назва показників | B2: №№ рядків | C2: Чисельність працюючих пенсіонерів усіх категорій (осіб) | D2: Сума призначених пенсій з цільовою грошовою допомогою з урахуванням індексації, (тис.грн.) | E2: Середні розімри призначених пенсій з цільовою грошовою допомогою з урахуванням індексації, (грн.коп.) (гр.2:гр.1)
A3: А | B3: Б | C3: 1 | D3: 2 | E3: 3
A4: Всього пенсіонерів (02-22) у тому числi одержують пенсії у загальній сумі: | B4: 01 | C4: 55830 | D4: 242230 | E4: 4338.7 | F4: =[2]Dodatok1!#REF! -> #REF! | G4: =F4-C4 -> #REF! | H4: =SUM(C5:C15) -> 42120 | I4: =SUM(D5:D17) -> 242230 | J4: =H4-C4 -> -13710 | K4: =I4-D4 -> 0
A5: до 800 грн. Включно | B5: 02 | C5: 5 | D5: 3.6 | E5: 708.3 | F5: =[2]Dodatok1!#REF! -> #REF! | G5: =F5-C5 -> #REF!
A6: від 801 грн. до 1000 грн. | B6: 03 | C6: 4 | D6: 3.6 | E6: 885.4 | F6: =[2]Dodatok1!#REF! -> #REF! | G6: =F6-C6 -> #REF!
A7: від 1001 грн. до 1100 грн. | B7: 04 | C7: 20 | D7: 21 | E7: 1049.8 | F7: =[2]Dodatok1!#REF! -> #REF! | G7: =F7-C7 -> #REF!
A8: від 1101 грн. до 1200 грн. | B8: 05 | C8: 34 | D8: 40.1 | E8: 1180.5 | F8: =[2]Dodatok1!#REF! -> #REF! | G8: =F8-C8 -> #REF!
A9: від 1201 грн. до 1300 грн. | B9: 06 | C9: 5 | D9: 6.2 | E9: 1244.9 | F9: =[2]Dodatok1!#REF! -> #REF! | G9: =F9-C9 -> #REF!
A10: від 1301 грн. до 1400 грн. | B10: 07 | C10: 103 | D10: 140.3 | E10: 1362.3 | F10: =[2]Dodatok1!#REF! -> #REF! | G10: =F10-C10 -> #REF!
A11: від 1401 грн. до 1500 грн. | B11: 08 | C11: 107 | D11: 151.9 | E11: 1419.8 | F11: =[2]Dodatok1!#REF! -> #REF! | G11: =F11-C11 -> #REF!
A12: від 1501 грн. до 2000 грн. | B12: 09 | C12: 24 | D12: 39.8 | E12: 1659.9 | F12: =[2]Dodatok1!#REF! -> #REF! | G12: =F12-C12 -> #REF!
A13: від 2001 грн. до 3000 грн. | B13: 10 | C13: 27098 | D13: 75733.3 | E13: 2794.8 | F13: =[2]Dodatok1!#REF! -> #REF! | G13: =F13-C13 -> #REF!
A14: від 3001 грн. до 4000 грн. | B14: 11 | C14: 8681 | D14: 29947.3 | E14: 3449.7 | F14: =[2]Dodatok1!#REF! -> #REF! | G14: =F14-C14 -> #REF!
A15: від 4001 грн. до 5000 грн. | B15: 12 | C15: 6039 | D15: 27215 | E15: 4506.5 | F15: =[2]Dodatok1!#REF! -> #REF! | G15: =F15-C15 -> #REF!
A16: від 5001 грн. до 10000 грн. | B16: 13 | C16: 11419 | D16: 76318.2 | E16: 6683.4
A17: понад 10000 грн. | B17: 14 | C17: 2291 | D17: 32609.7 | E17: 14233.8 | F17: =[2]Dodatok1!#REF! -> #REF! | G17: =F17-C17 -> #REF!
A18: Із загального числа пенсіонерів (рядок 01) одержують пенсію: - за віком | B18: 15 | C18: 36990 | D18: 176435.8 | E18: 4769.8 | F18: ='[3]Dodatok 2'!#REF! -> #REF! | G18: =F18-C18 -> #REF! | H18: =SUM(C18:C23) -> 55830 | I18: =SUM(D18:D23) -> 242230 | J18: =H18-C4 -> 0 | K18: =I18-D4 -> 0
A19: - по інвалідності | B19: 16 | C19: 15728 | D19: 54105.3 | E19: 3440.01 | F19: ='[3]Dodatok 2'!#REF! -> #REF! | G19: =F19-C19 -> #REF!
A20: - у разі втрати годувальника | B20: 17 | C20: 1992 | D20: 5512.7 | E20: 2767.4 | F20: ='[3]Dodatok 2'!#REF! -> #REF! | G20: =F20-C20 -> #REF!
A21: - за вислугу років | B21: 18 | C21: 878 | D21: 4239.3 | E21: 4828.4 | F21: ='[3]Dodatok 2'!#REF! -> #REF! | G21: =F21-C21 -> #REF!
A22: - соціальні пенсії | B22: 19 | C22: 230 | D22: 546.3 | E22: 2375 | F22: ='[3]Dodatok 2'!#REF! -> #REF! | G22: =F22-C22 -> #REF!
A23: - довічне утримання суддів | B23: 20 | C23: 12 | D23: 1390.6 | E23: 115884 | F23: ='[3]Dodatok 2'!#REF! -> #REF! | G23: =F23-C23 -> #REF!
A24: Із загального числапенсіонерів (рядок 01) одержують пенсію: - нижче прожиткового мінімуму | B24: 21 | C24: 320 | D24: 446.9 | E24: 1396.61 | F24: ='[4]Dodatok 3'!#REF! -> #REF! | G24: =F24-C24 -> #REF! | H24: =SUM(C24:C26) -> 55830 | I24: =SUM(D24:D26) -> 242230 | J24: =H24-C4 -> 0 | K24: =I24-D4 -> 0
A25: - у розмірі прожиткового мінімуму | B25: 22 | C25: 7251 | D25: 17119.6 | E25: 2361 | F25: ='[4]Dodatok 3'!#REF! -> #REF! | G25: =F25-C25 -> #REF!
A26: - вище прожиткового мінімуму | B26: 23 | C26: 48259 | D26: 224663.5 | E26: 4655.4 | F26: ='[4]Dodatok 3'!#REF! -> #REF! | G26: =F26-C26 -> #REF!
A27: Із загального числа пенсіонерів (рядок 01) - працюючі пенсіонери(85% признач.розміру) | B27: 24 | C27: 0 | D27: 0 | E27: 0
A28: Довідково: ті які працюють на спец посадах «виплата пенсій припинена» | B28: 25 | C28: 0 | D28: 0 | E28: 0
A30: Інформація надана без даних АРК, м.Севастополя, по Луганській та Донецькій областях без врахування даних по районах, які непідконтрольні українській владі
A32: Виконавець _________________________________ (прізвище, номер телефону) | D32: Керівник _________________________ (підпис) (прізвище, ініціали)
A34: "___" __________________ 20 р.

Sheet 5pf (раб) Контроль
B2: Чисельність | G2: Результат
B3: 01 | C3: ='5pf (раб)'!C4 -> 55830 | D3: = | E3: 02-14 | F3: =SUM('5pf (раб)'!C5:C17) -> 55830 | G3: =IF(F3=C3,"+","-") -> +
B4: 01 | C4: ='5pf (раб)'!C4 -> 55830 | D4: = | E4: 15-20 | F4: =SUM('5pf (раб)'!C18:C23) -> 55830 | G4: =IF(F4=C4,"+","-") -> +
B5: 01 | C5: ='5pf (раб)'!C4 -> 55830 | D5: = | E5: 21-23 | F5: =SUM('5pf (раб)'!C24:C26) -> 55830 | G5: =IF(F5=C5,"+","-") -> +
B6: 01 | C6: ='5pf (раб)'!C4 -> 55830 | D6: <= | E6: 24 | F6: ='5pf (раб)'!C27 -> 0 | G6: =IF(F6<=C6,"+","-") -> +
B8: Сума
B9: 01 | C9: ='5pf (раб)'!D4 -> 242230 | D9: = | E9: 02-14 | F9: =SUM('5pf (раб)'!D5:D17) -> 242230 | G9: =IF(F9=C9,"+","-") -> +
B10: 01 | C10: ='5pf (раб)'!D4 -> 242230 | D10: = | E10: 15-20 | F10: =SUM('5pf (раб)'!D18:D23) -> 242230 | G10: =IF(F10=C10,"+","-") -> +
B11: 01 | C11: ='5pf (раб)'!D4 -> 242230 | D11: = | E11: 21-23 | F11: =SUM('5pf (раб)'!D24:D26) -> 242230 | G11: =IF(F11=C11,"+","-") -> +
B12: 01 | C12: ='5pf (раб)'!D4 -> 242230 | D12: <= | E12: 24 | F12: ='5pf (раб)'!D27 -> 0 | G12: =IF(F12<=C12,"+","-") -> +

Sheet Додаток 1 (раб)
A1: Розподіл працюючих пенсіонерів за розмірами призначених місячних пенсій
A2: № п/п | B2: Регіони | C2: Пенсіонери, всього | F2: до 800 грн. Включно | I2: від 801 грн. до 1000 грн.
C3: Чисельність пенсіонерів, всього | D3: Сума призначених місячних пенсій, тис.грн. | E3: Середній розмір пенсії, грн.коп. | F3: Чисельність пенсіонерів, всього | G3: Сума призначених місячних пенсій, тис.грн. | H3: Середній розмір пенсії, грн.коп. | I3: Чисельність пенсіонерів, всього | J3: Сума призначених місячних пенсій, тис.грн. | K3: Середній розмір пенсії, грн.коп.
A5: 1 | B5: ГУ ПФУ в Тернопільській області (Тернопільське ОУ) | C5: 23491 | D5: 113101.6 | E5: 4814.7 | F5: 0 | G5: 0 | H5: 0 | I5: 0 | J5: 0 | K5: 0
A6: 2 | B6: ГУ ПФУ в Тернопільській області (Бережанське ОУ) | C6: 2399 | D6: 9846.1 | E6: 4104.3 | F6: 0 | G6: 0 | H6: 0 | I6: 0 | J6: 0 | K6: 0
A7: 3 | B7: ГУ ПФУ в Тернопільській області (Бучацьке ОУ) | C7: 3376 | D7: 13660 | E7: 4046.2 | F7: 0 | G7: 0 | H7: 0 | I7: 0 | J7: 0 | K7: 0
A8: 4 | B8: ГУ ПФУ в Тернопільській області (Козівське ОУ) | C8: 3622 | D8: 13788.3 | E8: 3806.8 | F8: 0 | G8: 0 | H8: 0 | I8: 4 | J8: 3.5 | K8: 885.4
A9: 5 | B9: ГУ ПФУ в Тернопільській області (Лановецьке ОУ) | C9: 5791 | D9: 22768.9 | E9: 3931.8 | F9: 5 | G9: 3.5 | H9: 708.3 | I9: 0 | J9: 0 | K9: 0
A10: 6 | B10: ГУ ПФУ в Тернопільській області (Кременецьке ОУ) | C10: 3639 | D10: 15123.3 | E10: 4155.9 | F10: 0 | G10: 0 | H10: 0 | I10: 0 | J10: 0 | K10: 0
A11: 7 | B11: ГУ ПФУ в Тернопільській області (Теребовлянське ОУ) | C11: 5378 | D11: 21283.4 | E11: 3957.5 | F11: 0 | G11: 0 | H11: 0 | I11: 0 | J11: 0 | K11: 0
A12: 8 | B12: ГУ ПФУ в Тернопільській області (Чортківське ОУ) | C12: 8131 | D12: 32663 | E12: 4017.1 | F12: 0 | G12: 0 | H12: 0 | I12: 0 | J12: 0 | K12: 0
A13: Всього | C13: 55827 | D13: 242234.7 | E13: 4339 | F13: 5 | G13: 3.5 | H13: 708.3 | I13: 4 | J13: 3.5 | K13: 885.4
A15: № п/п | B15: Регіони | C15: від 1001 грн. до 1100 грн. | F15: від 1101 грн. до 1200 грн. | I15: від 1201 грн. до 1300 грн.
C16: Чисельність пенсіонерів, всього | D16: Сума призначених місячних пенсій, тис.грн. | E16: Середній розмір пенсії, грн.коп. | F16: Чисельність пенсіонерів, всього | G16: Сума призначених місячних пенсій, тис.грн. | H16: Середній розмір пенсії, грн.коп. | I16: Чисельність пенсіонерів, всього | J16: Сума призначених місячних пенсій, тис.грн. | K16: Середній розмір пенсії, грн.коп.
A18: 1 | B18: ГУ ПФУ в Тернопільській області (Тернопільське ОУ) | C18: 10 | D18: 10.5 | E18: 1053.2 | F18: 12 | G18: 14.2 | H18: 1180.5 | I18: 2 | J18: 2.5 | K18: 1228.4
A19: 2 | B19: ГУ ПФУ в Тернопільській області (Бережанське ОУ) | C19: 0 | D19: 0 | E19: 0 | F19: 0 | G19: 0 | H19: 0 | I19: 0 | J19: 0 | K19: 0
A20: 3 | B20: ГУ ПФУ в Тернопільській області (Бучацьке ОУ) | C20: 0 | D20: 0 | E20: 0 | F20: 2 | G20: 2.4 | H20: 1180.5 | I20: 1 | J20: 1.3 | K20: 1255.8
A21: 4 | B21: ГУ ПФУ в Тернопільській області (Козівське ОУ) | C21: 0 | D21: 0 | E21: 0 | F21: 0 | G21: 0 | H21: 0 | I21: 0 | J21: 0 | K21: 0
A22: 5 | B22: ГУ ПФУ в Тернопільській області (Лановецьке ОУ) | C22: 3 | D22: 3.1 | E22: 1046.5 | F22: 12 | G22: 14.2 | H22: 1180.5 | I22: 0 | J22: 0 | K22: 0
A23: 6 | B23: ГУ ПФУ в Тернопільській області (Кременецьке ОУ) | C23: 4 | D23: 4.2 | E23: 1046.5 | F23: 2 | G23: 2.4 | H23: 1180.5 | I23: 0 | J23: 0 | K23: 0
A24: 7 | B24: ГУ ПФУ в Тернопільській області (Теребовлянське ОУ) | C24: 3 | D24: 3.1 | E24: 1046.5 | F24: 3 | G24: 3.5 | H24: 1180.5 | I24: 0 | J24: 0 | K24: 0
A25: 8 | B25: ГУ ПФУ в Тернопільській області (Чортківське ОУ) | C25: 0 | D25: 0 | E25: 0 | F25: 3 | G25: 3.5 | H25: 1180.5 | I25: 2 | J25: 2.5 | K25: 1255.8
A26: Всього | C26: 20 | D26: 21 | E26: 1049.8 | F26: 34 | G26: 40.1 | H26: 1180.5 | I26: 5 | J26: 6.2 | K26: 1244.8
A28: № п/п | B28: Регіони | C28: від 1301 грн. до 1400 грн. | F28: від 1401 грн. до 1500 грн. | I28: від 1501 грн. до 2000 грн.
C29: Чисельність пенсіонерів, всього | D29: Сума призначених місячних пенсій, тис.грн. | E29: Середній розмір пенсії, грн.коп. | F29: Чисельність пенсіонерів, всього | G29: Сума призначених місячних пенсій, тис.грн. | H29: Середній розмір пенсії, грн.коп. | I29: Чисельність пенсіонерів, всього | J29: Сума призначених місячних пенсій, тис.грн. | K29: Середній розмір пенсії, грн.коп.
A31: 1 | B31: ГУ ПФУ в Тернопільській області (Тернопільське ОУ) | C31: 31 | D31: 42.2 | E31: 1360.9 | F31: 34 | G31: 48.3 | H31: 1421.6 | I31: 8 | J31: 12.8 | K31: 1602.3
A32: 2 | B32: ГУ ПФУ в Тернопільській області (Бережанське ОУ) | C32: 10 | D32: 13.6 | E32: 1362.5 | F32: 4 | G32: 5.7 | H32: 1414.6 | I32: 3 | J32: 4.9 | K32: 1640.5
A33: 3 | B33: ГУ ПФУ в Тернопільській області (Бучацьке ОУ) | C33: 7 | D33: 9.5 | E33: 1362.5 | F33: 1 | G33: 1.4 | H33: 1416.6 | I33: 1 | J33: 2 | K33: 1978.8
A34: 4 | B34: ГУ ПФУ в Тернопільській області (Козівське ОУ) | C34: 5 | D34: 6.8 | E34: 1362.5 | F34: 7 | G34: 9.9 | H34: 1416.6 | I34: 2 | J34: 3.4 | K34: 1716
A35: 5 | B35: ГУ ПФУ в Тернопільській області (Лановецьке ОУ) | C35: 4 | D35: 5.5 | E35: 1362.5 | F35: 23 | G35: 32.7 | H35: 1420.4 | I35: 4 | J35: 6.6 | K35: 1642.8
A36: 6 | B36: ГУ ПФУ в Тернопільській області (Кременецьке ОУ) | C36: 13 | D36: 17.7 | E36: 1362.5 | F36: 6 | G36: 8.6 | H36: 1433.8 | I36: 4 | J36: 6.6 | K36: 1651.6
A37: 7 | B37: ГУ ПФУ в Тернопільській області (Теребовлянське ОУ) | C37: 21 | D37: 28.6 | E37: 1362.5 | F37: 12 | G37: 17 | H37: 1416.6 | I37: 2 | J37: 3.5 | K37: 1754.5
A38: 8 | B38: ГУ ПФУ в Тернопільській області (Чортківське ОУ) | C38: 12 | D38: 16.4 | E38: 1364.7 | F38: 20 | G38: 28.3 | H38: 1416.3 | I38: 0 | J38: 0 | K38: 0
A39: Всього | C39: 103 | D39: 140.3 | E39: 1362.3 | F39: 107 | G39: 151.9 | H39: 1419.8 | I39: 24 | J39: 39.8 | K39: 1659.9
A41: № п/п | B41: Регіони | C41: від 2001 грн. до 3000 грн. | F41: від 3001 грн. до 4000 грн. | I41: від 4001 грн. до 5000 грн.
C42: Чисельність пенсіонерів, всього | D42: Сума призначених місячних пенсій, тис.грн. | E42: Середній розмір пенсії, грн.коп. | F42: Чисельність пенсіонерів, всього | G42: Сума призначених місячних пенсій, тис.грн. | H42: Середній розмір пенсії, грн.коп. | I42: Чисельність пенсіонерів, всього | J42: Сума призначених місячних пенсій, тис.грн. | K42: Середній розмір пенсії, грн.коп.
A44: 1 | B44: ГУ ПФУ в Тернопільській області (Тернопільське ОУ) | C44: 9575 | D44: 26815.4 | E44: 2800.6 | F44: 3887 | G44: 13476.1 | H44: 3467 | I44: 2884 | J44: 12979.6 | K44: 4500.6
A45: 2 | B45: ГУ ПФУ в Тернопільській області (Бережанське ОУ) | C45: 1166 | D45: 3293.1 | E45: 2824.2 | F45: 407 | G45: 1396 | H45: 3430 | I45: 271 | J45: 1229.6 | K45: 4537.4
A46: 3 | B46: ГУ ПФУ в Тернопільській області (Бучацьке ОУ) | C46: 1756 | D46: 4881.1 | E46: 2779.6 | F46: 543 | G46: 1866.3 | H46: 3437.1 | I46: 339 | J46: 1529.9 | K46: 4513.1
A47: 4 | B47: ГУ ПФУ в Тернопільській області (Козівське ОУ) | C47: 2135 | D47: 6005.9 | E47: 2813.1 | F47: 507 | G47: 1744 | H47: 3439.8 | I47: 341 | J47: 1528.2 | K47: 4481.6
...

Sheet Додаток 2 (раб)
A1: Розподіл працюючих пенсіонерів за видами призначених місячних пенсій
A2: № п/п | B2: Регіони | C2: Пенсіонери, всього | F2: за віком | I2: по інвалідності
C3: Чисельність пенсіонерів, всього | D3: Сума призначених місячних пенсій, тис.грн. | E3: Середній розмір пенсії, грн.коп. | F3: Чисельність пенсіонерів, всього | G3: Сума призначених місячних пенсій, тис.грн. | H3: Середній розмір пенсії, грн.коп. | I3: Чисельність пенсіонерів, всього | J3: Сума призначених місячних пенсій, тис.грн. | K3: Середній розмір пенсії, грн.коп.
A5: 1 | B5: ГУ ПФУ в Тернопільській області (Тернопільське ОУ) | C5: 23491 | D5: 113101.6 | E5: 4814.7 | F5: 16585 | G5: 86441.8 | H5: 5212 | I5: 5713 | J5: 20672.5 | K5: 3618.5
A6: 2 | B6: ГУ ПФУ в Тернопільській області (Бережанське ОУ) | C6: 2399 | D6: 9846.1 | E6: 4104.3 | F6: 1559 | G6: 7053.4 | H6: 4524.3 | I6: 681 | J6: 2319.8 | K6: 3406.5
A7: 3 | B7: ГУ ПФУ в Тернопільській області (Бучацьке ОУ) | C7: 3376 | D7: 13660 | E7: 4046.2 | F7: 2256 | G7: 9937.7 | H7: 4405 | I7: 946 | J7: 3197.8 | K7: 3380.3
A8: 4 | B8: ГУ ПФУ в Тернопільській області (Козівське ОУ) | C8: 3622 | D8: 13788.3 | E8: 3806.8 | F8: 2097 | G8: 9021.8 | H8: 4302.2 | I8: 1319 | J8: 4194.9 | K8: 3180.4
A9: 5 | B9: ГУ ПФУ в Тернопільській області (Лановецьке ОУ) | C9: 5791 | D9: 22768.9 | E9: 3931.8 | F9: 3505 | G9: 15489.8 | H9: 4419.3 | I9: 1947 | J9: 6348.3 | K9: 3260.6
A10: 6 | B10: ГУ ПФУ в Тернопільській області (Кременецьке ОУ) | C10: 3639 | D10: 15123.3 | E10: 4155.9 | F10: 2500 | G10: 11392.2 | H10: 4556.9 | I10: 888 | J10: 2972 | K10: 3346.8
A11: 7 | B11: ГУ ПФУ в Тернопільській області (Теребовлянське ОУ) | C11: 5378 | D11: 21283.4 | E11: 3957.5 | F11: 3286 | G11: 14432.5 | H11: 4392.1 | I11: 1754 | J11: 5873.2 | K11: 3348.5
A12: 8 | B12: ГУ ПФУ в Тернопільській області (Чортківське ОУ) | C12: 8131 | D12: 32663 | E12: 4017.1 | F12: 5203 | G12: 22688.8 | H12: 4360.7 | I12: 2476 | J12: 8509.3 | K12: 3436.7
A13: Всього | C13: 55827 | D13: 242234.7 | E13: 4339.02 | F13: 36991 | G13: 176457.9 | H13: 4770.3 | I13: 15724 | J13: 54087.9 | K13: 3439.8
A15: № п/п | B15: Регіони | C15: у разі втрати годувальника | F15: за вислугу років | I15: соціальні пенсії
C16: Чисельність пенсіонерів, всього | D16: Сума призначених місячних пенсій, тис.грн. | E16: Середній розмір пенсії, грн.коп. | F16: Чисельність пенсіонерів, всього | G16: Сума призначених місячних пенсій, тис.грн. | H16: Середній розмір пенсії, грн.коп. | I16: Чисельність пенсіонерів, всього | J16: Сума призначених місячних пенсій, тис.грн. | K16: Середній розмір пенсії, грн.коп.
A18: 1 | B18: ГУ ПФУ в Тернопільській області (Тернопільське ОУ) | C18: 694 | D18: 2224 | E18: 3204.6 | F18: 394 | G18: 2393 | H18: 6073.7 | I18: 96 | J18: 226.7 | K18: 2361
A19: 2 | B19: ГУ ПФУ в Тернопільській області (Бережанське ОУ) | C19: 102 | D19: 260.2 | E19: 2550.8 | F19: 44 | G19: 182.1 | H19: 4137.7 | I19: 13 | J19: 30.7 | K19: 2361
A20: 3 | B20: ГУ ПФУ в Тернопільській області (Бучацьке ОУ) | C20: 105 | D20: 279.5 | E20: 2662.3 | F20: 54 | G20: 209.6 | H20: 3882 | I20: 15 | J20: 35.4 | K20: 2361
A21: 4 | B21: ГУ ПФУ в Тернопільській області (Козівське ОУ) | C21: 128 | D21: 318.8 | E21: 2490.9 | F21: 56 | G21: 200.8 | H21: 3585.8 | I21: 22 | J21: 51.9 | K21: 2361
A22: 5 | B22: ГУ ПФУ в Тернопільській області (Лановецьке ОУ) | C22: 230 | D22: 545.4 | E22: 2371.3 | F22: 86 | G22: 331.1 | H22: 3849.9 | I22: 23 | J22: 54.3 | K22: 2361
A23: 6 | B23: ГУ ПФУ в Тернопільській області (Кременецьке ОУ) | C23: 180 | D23: 455.4 | E23: 2530.1 | F23: 66 | G23: 212.8 | H23: 3223.9 | I23: 4 | J23: 9.4 | K23: 2361
A24: 7 | B24: ГУ ПФУ в Тернопільській області (Теребовлянське ОУ) | C24: 226 | D24: 585.4 | E24: 2590.2 | F24: 87 | G24: 333.3 | H24: 3831 | I24: 25 | J24: 59 | K24: 2361
A25: 8 | B25: ГУ ПФУ в Тернопільській області (Чортківське ОУ) | C25: 327 | D25: 843.9 | E25: 2580.8 | F25: 91 | G25: 376.6 | H25: 4138.9 | I25: 32 | J25: 78.8 | K25: 2461.5
A26: Всього | C26: 1992 | D26: 5512.7 | E26: 2767.4 | F26: 878 | G26: 4239.3 | H26: 4828.4 | I26: 230 | J26: 546.2 | K26: 2375
A28: № п/п | B28: Регіони | C28: довічне утримання суддів
C29: Чисельність пенсіонерів, всього | D29: Сума призначених місячних пенсій, тис.грн. | E29: Середній розмір пенсії, грн.коп.
A31: 1 | B31: ГУ ПФУ в Тернопільській області (Тернопільське ОУ) | C31: 9 | D31: 1143.6 | E31: 127068.2
A32: 2 | B32: ГУ ПФУ в Тернопільській області (Бережанське ОУ) | C32: 0 | D32: 0 | E32: 0
A33: 3 | B33: ГУ ПФУ в Тернопільській області (Бучацьке ОУ) | C33: 0 | D33: 0 | E33: 0
A34: 4 | B34: ГУ ПФУ в Тернопільській області (Козівське ОУ) | C34: 0 | D34: 0 | E34: 0
A35: 5 | B35: ГУ ПФУ в Тернопільській області (Лановецьке ОУ) | C35: 0 | D35: 0 | E35: 0
A36: 6 | B36: ГУ ПФУ в Тернопільській області (Кременецьке ОУ) | C36: 1 | D36: 81.5 | E36: 81473.5
A37: 7 | B37: ГУ ПФУ в Тернопільській області (Теребовлянське ОУ) | C37: 0 | D37: 0 | E37: 0
A38: 8 | B38: ГУ ПФУ в Тернопільській області (Чортківське ОУ) | C38: 2 | D38: 165.5 | E38: 82757.4
A39: Всього | C39: 12 | D39: 1390.6 | E39: 115883.5

Sheet Додаток 3 (раб)
A1: Розподіл працюючих пенсіонерів за розмірами призначених пенсій відносно прожиткового мінімуму для осіб, які втратили працездатність
A2: № п/п | B2: Регіони | C2: Пенсіонери, всього | F2: нижче прожиткового мінімуму | I2: у розмірі прожиткового мінімуму
C3: Чисельність пенсіонерів, всього | D3: Сума призначених місячних пенсій, тис.грн. | E3: Середній розмір пенсії, грн.коп. | F3: Чисельність пенсіонерів, всього | G3: Сума призначених місячних пенсій, тис.грн. | H3: Середній розмір пенсії, грн.коп. | I3: Чисельність пенсіонерів, всього | J3: Сума призначених місячних пенсій, тис.грн. | K3: Середній розмір пенсії, грн.коп.
A5: 1 | B5: ГУ ПФУ в Тернопільській області (Тернопільське ОУ) | C5: 23491 | D5: 113101.61 | E5: 4814.7 | F5: 102 | G5: 142.1 | H5: 1392.9 | I5: 2449 | J5: 5782.1 | K5: 2361
A6: 2 | B6: ГУ ПФУ в Тернопільській області (Бережанське ОУ) | C6: 2399 | D6: 9846.12 | E6: 4104.3 | F6: 18 | G6: 26.5 | H6: 1472.5 | I6: 258 | J6: 609.1 | K6: 2361
A7: 3 | B7: ГУ ПФУ в Тернопільській області (Бучацьке ОУ) | C7: 3376 | D7: 13660.05 | E7: 4046.2 | F7: 13 | G7: 18.7 | H7: 1442 | I7: 509 | J7: 1201.7 | K7: 2361
A8: 4 | B8: ГУ ПФУ в Тернопільській області (Козівське ОУ) | C8: 3622 | D8: 13788.3 | E8: 3806.8 | F8: 22 | G8: 32.4 | H8: 1473.7 | I8: 515 | J8: 1215.9 | K8: 2361
A9: 5 | B9: ГУ ПФУ в Тернопільській області (Лановецьке ОУ) | C9: 5791 | D9: 22768.87 | E9: 3931.8 | F9: 54 | G9: 72.4 | H9: 1339.9 | I9: 793 | J9: 1872.3 | K9: 2361
A10: 6 | B10: ГУ ПФУ в Тернопільській області (Кременецьке ОУ) | C10: 3639 | D10: 15123.26 | E10: 4155.9 | F10: 31 | G10: 43.9 | H10: 1414.9 | I10: 486 | J10: 1147.4 | K10: 2361
A11: 7 | B11: ГУ ПФУ в Тернопільській області (Теребовлянське ОУ) | C11: 5378 | D11: 21283.44 | E11: 3957.5 | F11: 41 | G11: 55.8 | H11: 1361 | I11: 823 | J11: 1943.1 | K11: 2361
A12: 8 | B12: ГУ ПФУ в Тернопільській області (Чортківське ОУ) | C12: 8131 | D12: 32663.02 | E12: 4017.1 | F12: 39 | G12: 55.1 | H12: 1414.1 | I12: 1417 | J12: 3345.5 | K12: 2361
A13: Всього | C13: 55828 | D13: 242236.5 | E13: 4339 | F13: 321 | G13: 448.7 | H13: 1397.9 | I13: 7250 | J13: 17117.3 | K13: 2361
A15: № п/п | B15: Регіони | C15: вище прожиткового мінімуму | F15: Із загального числа пенсіонерів (рядок 01) - працюючі пенсіонери(85% признач. розм.) | I15: Довідково: ті які працюють на спец посадах «виплата пенсій припинена»
C16: Чисельність пенсіонерів, всього | D16: Сума призначених місячних пенсій, тис.грн. | E16: Середній розмір пенсії, грн.коп. | F16: Чисельність пенсіонерів, всього | G16: Сума призначених місячних пенсій, тис.грн. | H16: Середній розмір пенсії, грн.коп. | I16: Чисельність пенсіонерів, всього | J16: Сума призначених місячних пенсій, тис.грн. | K16: Середній розмір пенсії, грн.коп.
A18: 1 | B18: ГУ ПФУ в Тернопільській області (Тернопільське ОУ) | C18: 20940 | D18: 107177.5 | E18: 5118.3 | F18: 0 | G18: 0 | H18: 0 | I18: 0 | J18: 0 | K18: 0
A19: 2 | B19: ГУ ПФУ в Тернопільській області (Бережанське ОУ) | C19: 2123 | D19: 9210.5 | E19: 4338.4 | F19: 0 | G19: 0 | H19: 0 | I19: 0 | J19: 0 | K19: 0
A20: 3 | B20: ГУ ПФУ в Тернопільській області (Бучацьке ОУ) | C20: 2854 | D20: 12439.5 | E20: 4358.6 | F20: 0 | G20: 0 | H20: 0 | I20: 0 | J20: 0 | K20: 0
A21: 4 | B21: ГУ ПФУ в Тернопільській області (Козівське ОУ) | C21: 3085 | D21: 12540 | E21: 4064.8 | F21: 0 | G21: 0 | H21: 0 | I21: 0 | J21: 0 | K21: 0
A22: 5 | B22: ГУ ПФУ в Тернопільській області (Лановецьке ОУ) | C22: 4944 | D22: 20824.2 | E22: 4212 | F22: 0 | G22: 0 | H22: 0 | I22: 0 | J22: 0 | K22: 0
A23: 6 | B23: ГУ ПФУ в Тернопільській області (Кременецьке ОУ) | C23: 3122 | D23: 13932 | E23: 4462.5 | F23: 0 | G23: 0 | H23: 0 | I23: 0 | J23: 0 | K23: 0
A24: 7 | B24: ГУ ПФУ в Тернопільській області (Теребовлянське ОУ) | C24: 4514 | D24: 19284.5 | E24: 4272.2 | F24: 0 | G24: 0 | H24: 0 | I24: 0 | J24: 0 | K24: 0
A25: 8 | B25: ГУ ПФУ в Тернопільській області (Чортківське ОУ) | C25: 6675 | D25: 29262.3 | E25: 4383.9 | F25: 0 | G25: 0 | H25: 0 | I25: 0 | J25: 0 | K25: 0
A26: Всього | C26: 48257 | D26: 224670.5 | E26: 4655.7 | F26: 0 | G26: 0 | H26: 0 | I26: 0 | J26: 0 | K26: 0
